PDS_VERSION_ID = PDS3
/* FILE DATA ELEMENTS */
RECORD_TYPE = UNDEFINED
/* POINTERS TO DATA OBJECTS */
^IMAGE = ("H2595_0001_ND4.TIF")
/* IDENTIFICATION DATA ELEMENTS */
DATA_SET_ID = "MEX-M-HRSC-4-REFDR-MAPPROJECT-EXT1-V4.0"
DATA_SET_NAME = "MARS EXPRESS HRSC MAP PROJECTED REFDR EXTENSION1 V4.0"
DETECTOR_ID = MEX_HRSC_NADIR
EVENT_TYPE = "MARS-REGIONAL-MAPPING-Te-Fl-Eo"
INSTRUMENT_HOST_ID = MEX
INSTRUMENT_HOST_NAME = "MARS EXPRESS"
INSTRUMENT_ID = HRSC
INSTRUMENT_NAME = "HIGH RESOLUTION STEREO CAMERA"
MISSION_NAME = "MARS EXPRESS"
MISSION_PHASE_NAME = ME_Phase_2
PROCESSING_LEVEL_ID = 4
PRODUCT_CREATION_TIME = 2023-02-08T07:05:14.000Z
PRODUCT_ID = "H2595_0001_ND4.TIF"
RELEASE_ID = 0001
REVISION_ID = 0000
/* QUALITY DATA ELEMENTS */
DATA_QUALITY_ID = 1
DATA_QUALITY_DESC = "Data calculated based on original SPICE kernels"
/* TIME DATA ELEMENTS */
SPACECRAFT_CLOCK_START_COUNT = "1/0085736545.07304"
SPACECRAFT_CLOCK_STOP_COUNT = "1/0085737269.47674"
START_TIME = 2006-01-19T07:43:41.883Z
STOP_TIME = 2006-01-19T07:50:22.871Z
/* ORBITAL DATA ELEMENTS */
ASCENDING_NODE_LONGITUDE = 173.84
MAXIMUM_RESOLUTION = 0.0293
FOOTPRINT_POINT_LATITUDE = (-51.3542,-51.3856,-51.4085,-51.4282, -51.4489,-51.4731,-51.4736,-51.474, -50.8271,-50.1708,-49.5044,-48.8269, -48.139,-47.4401,-46.7298,-46.0079, -45.274,-44.9025,-44.5278,-44.1497, -43.7685,-43.3842,-42.9968,-42.6055, -42.2112,-41.8138,-41.4123,-41.0078, -40.5995,-40.1875,-39.7717,-39.3523, -38.7246,-38.3089,-37.8955,-37.4844, -37.0755,-36.6688,-36.2642,-35.8579, -35.4578,-35.0598,-34.6641,-34.2706, -33.8791,-33.4898,-33.1027,-32.7176, -32.5259,-32.521,-32.5467,-32.5633, -32.5732,-32.5789,-32.5785,-32.5728, -32.5723,-32.5725,-32.9512,-33.332, -33.7151,-34.1003,-34.4878,-34.8775, -35.2694,-35.6635,-36.2631,-36.6629, -37.065,-37.4694,-37.8761,-38.2851, -38.6965,-39.1101,-39.5261,-39.9395, -40.3497,-40.7557,-41.1589,-41.5579, -41.9539,-42.3467,-42.7358,-43.1218, -43.5049,-43.8848,-44.2612,-44.6344, -45.0048,-45.7368,-46.4568,-47.1652, -47.8622,-48.5482,-49.2236,-49.8884, -50.544,-51.189,-51.349,-51.3542)
FOOTPRINT_POINT_LONGITUDE = (21.8474,22.566,23.1648,23.7641,24.5232 ,25.8459,25.886,25.9347,25.9941,26.0497 ,26.1031,26.1558,26.2065,26.2555, 26.3034,26.3503,26.3956,26.4178,26.4397 ,26.4613,26.4826,26.5026,26.5231, 26.5426,26.5627,26.5822,26.6013,26.6204 ,26.6396,26.6587,26.6773,26.6952, 26.7211,26.7377,26.7535,26.7692,26.7844 ,26.7986,26.8134,26.827,26.8415,26.8566 ,26.8648,26.8763,26.889,26.9002,26.9105 ,26.9221,26.928,26.9281,25.9573,25.0897 ,24.3264,23.3572,22.695,21.8232,21.7717 ,21.7467,21.7679,21.7899,21.8089, 21.8272,21.8459,21.8637,21.8809,21.8969 ,21.9204,21.9354,21.9489,21.9619, 21.9757,21.9864,21.9969,22.0072,22.0166 ,22.0254,22.0316,22.0378,22.0431, 22.0477,22.0497,22.051,22.0519,22.0519, 22.0513,22.0501,22.0485,22.0445,22.0428 ,22.0317,22.0178,22.0015,21.9797, 21.9556,21.9273,21.8979,21.8645,21.8279 ,21.8175,21.8474)
ORBIT_NUMBER = 2595
ORBITAL_ECCENTRICITY = 0.571
ORBITAL_INCLINATION = 86.61
ORBITAL_SEMIMAJOR_AXIS = 8530.91
PERIAPSIS_ALTITUDE = 280.64
PERIAPSIS_ARGUMENT_ANGLE = 262.34
PERIAPSIS_TIME = 2006-01-19T07:31:17.000Z
SPACECRAFT_ORIENTATION = (0.0,-1.0,0.0)
^MEX_ORIENTATION_DESC = "MEX_ORIENTATION_DESC.TXT"
SPACECRAFT_POINTING_MODE = NADIR
^MEX_POINTING_DESC = "MEX_POINTING_DESC.TXT"
RIGHT_ASCENSION = -1e+32
DECLINATION = -1e+32
OFFSET_ANGLE = -1e+32
SPACECRAFT_SOLAR_DISTANCE = 2.32561e+08
TARGET_NAME = MARS
/* CAMERA DATA ELEMENTS */
DETECTOR_TEMPERATURE = 20.0017
FOCAL_PLANE_TEMPERATURE = 9.3989
INST_CMPRS_NAME = "DISCRETE COSINE TRANSFORMATION (DCT)"
INST_CMPRS_RATIO = 6.25231
INST_CMPRS_QUALITY = 0
INST_CMPRS_QUANTZ_TBL_ID = 0
INSTRUMENT_TEMPERATURE = 12.2535
LENS_TEMPERATURE = 9.8067
MACROPIXEL_SIZE = 1
MISSING_FRAMES = 1
PIXEL_SUBSAMPLING_FLAG = N
SIGNAL_CHAIN_ID = 0
/* RADIOMETRIC DATA ELEMENTS */
BANDWIDTH = 177.0
CENTER_FILTER_WAVELENGTH = 677.5
RADIANCE_OFFSET = 1.91379
RADIANCE_SCALING_FACTOR = 0.0142117
REFLECTANCE_SCALING_FACTOR = 0.000408328
MEX:REFLECTANCE_OFFSET = 0.0549867
/* IMAGE OBJECT DEFINITIONS */
OBJECT = IMAGE
  INTERCHANGE_FORMAT = BINARY
  LINES = 44932
  LINE_SAMPLES = 10354
  SAMPLE_TYPE = UNSIGNED_INTEGER
  SAMPLE_BITS = 8
  BANDS = 1
  BAND_STORAGE_TYPE = BAND_SEQUENTIAL
  MAXIMUM = 255
  MEAN = 125.294
  MINIMUM = 1
  STANDARD_DEVIATION = 25.9704
END_OBJECT = IMAGE
/* MAP OBJECT DEFINITIONS */
OBJECT = IMAGE_MAP_PROJECTION
  ^DATA_SET_MAP_PROJECTION_CATALOG= "DSMAP.CAT"
  A_AXIS_RADIUS = 3396.0
  B_AXIS_RADIUS = 3396.0
  C_AXIS_RADIUS = 3396.0
  CENTER_LATITUDE = 0.0
  CENTER_LONGITUDE = 24.0
  COORDINATE_SYSTEM_NAME = PLANETOGRAPHIC
  COORDINATE_SYSTEM_TYPE = "BODY-FIXED ROTATING"
  EASTERNMOST_LONGITUDE = 26.9281
  FIRST_STANDARD_PARALLEL = "N/A"
  LINE_FIRST_PIXEL = 1
  LINE_LAST_PIXEL = 44932
  LINE_PROJECTION_OFFSET = -77108.0
  MAP_PROJECTION_ROTATION = 0.0
  MAP_PROJECTION_TYPE = SINUSOIDAL
  MAP_RESOLUTION = 2370.85521546667
  MAP_SCALE = 0.025
  MAXIMUM_LATITUDE = -32.521
  MINIMUM_LATITUDE = -51.474
  POSITIVE_LONGITUDE_DIRECTION = EAST
  REFERENCE_LATITUDE = "N/A"
  REFERENCE_LONGITUDE = "N/A"
  SAMPLE_FIRST_PIXEL = 1
  SAMPLE_LAST_PIXEL = 10354
  SAMPLE_PROJECTION_OFFSET = 4504.0
  SECOND_STANDARD_PARALLEL = "N/A"
  WESTERNMOST_LONGITUDE = 21.7467
END_OBJECT = IMAGE_MAP_PROJECTION
END
