PDS_VERSION_ID = PDS3
/* FILE DATA ELEMENTS */
RECORD_TYPE = UNDEFINED
/* POINTERS TO DATA OBJECTS */
^IMAGE = ("H2598_0000_P14.TIF")
/* IDENTIFICATION DATA ELEMENTS */
DATA_SET_ID = "MEX-M-HRSC-4-REFDR-MAPPROJECT-EXT1-V4.0"
DATA_SET_NAME = "MARS EXPRESS HRSC MAP PROJECTED REFDR EXTENSION1 V4.0"
DETECTOR_ID = MEX_HRSC_P1
EVENT_TYPE = "MARS-REGIONAL-MAPPING-Im-Gl"
INSTRUMENT_HOST_ID = MEX
INSTRUMENT_HOST_NAME = "MARS EXPRESS"
INSTRUMENT_ID = HRSC
INSTRUMENT_NAME = "HIGH RESOLUTION STEREO CAMERA"
MISSION_NAME = "MARS EXPRESS"
MISSION_PHASE_NAME = ME_Phase_2
PROCESSING_LEVEL_ID = 4
PRODUCT_CREATION_TIME = 2023-02-08T07:05:14.000Z
PRODUCT_ID = "H2598_0000_P14.TIF"
RELEASE_ID = 0001
REVISION_ID = 0000
/* QUALITY DATA ELEMENTS */
DATA_QUALITY_ID = 1
DATA_QUALITY_DESC = "Data calculated based on original SPICE kernels"
/* TIME DATA ELEMENTS */
SPACECRAFT_CLOCK_START_COUNT = "1/0085808722.09043"
SPACECRAFT_CLOCK_STOP_COUNT = "1/0085808999.58040"
START_TIME = 2006-01-20T03:45:39.650Z
STOP_TIME = 2006-01-20T03:48:40.663Z
/* ORBITAL DATA ELEMENTS */
ASCENDING_NODE_LONGITUDE = 173.78
MAXIMUM_RESOLUTION = 0.0298
FOOTPRINT_POINT_LATITUDE = (-76.8013,-76.9044,-77.0281,-77.1026, -77.105,-77.0075,-76.8117,-76.6177, -76.3282,-75.8555,-75.6543,-75.267, -75.0503,-74.7041,-74.4733,-74.2412, -74.0095,-73.7785,-73.4332,-73.2028, -72.858,-72.6277,-72.3975,-72.0522, -71.7053,-71.4676,-71.2391,-71.0177, -70.7905,-70.554,-70.3128,-70.0742, -69.837,-69.586,-69.2247,-68.9843, -68.6208,-68.3735,-68.127,-67.8777, -67.6276,-67.3833,-66.9986,-66.7393, -66.4826,-66.0928,-65.8305,-65.5676, -65.4284,-65.3763,-65.3547,-65.3139, -65.2672,-65.2224,-65.1875,-65.185, -65.1846,-65.574,-65.8377,-66.2293, -66.486,-66.741,-67.1237,-67.3758, -67.6211,-67.989,-68.2348,-68.4841, -68.7293,-68.9622,-69.2027,-69.4409, -69.6783,-69.911,-70.145,-70.3801, -70.6122,-70.8399,-71.0675,-71.2956, -71.5298,-71.7469,-71.9734,-72.2023, -72.4373,-72.6728,-72.8993,-73.2424, -73.5883,-73.8193,-74.0463,-74.272, -74.6127,-74.9472,-75.4256,-75.6173, -76.0928,-76.5639,-76.6584,-76.8013)
FOOTPRINT_POINT_LONGITUDE = (77.7558,79.2892,81.4033,82.8873, 82.9388,83.1938,83.383,83.5622,83.8178, 84.1982,84.3681,84.6635,84.8197,85.0622 ,85.2177,85.3707,85.5185,85.6606, 85.8641,85.9954,86.1841,86.3062,86.4249 ,86.5973,86.7653,86.875,86.9767,87.0658 ,87.1597,87.2594,87.3631,87.461,87.5543 ,87.6579,87.7893,87.8739,87.9941, 88.0769,88.157,88.2354,88.311,88.3783, 88.4937,88.569,88.6397,88.7438,88.812, 88.8794,88.919,88.9328,88.1099,87.2217, 86.2966,85.5286,84.9918,84.9535,84.9395 ,84.8194,84.7396,84.6155,84.5311, 84.4436,84.3105,84.2199,84.1239,83.9782 ,83.8804,83.7809,83.6775,83.571,83.4644 ,83.3538,83.2411,83.1274,83.0109, 82.8914,82.7679,82.6443,82.5172,82.3865 ,82.2467,82.105,81.9621,81.8157,81.6665 ,81.5128,81.3519,81.1022,80.8413, 80.6605,80.473,80.2793,79.9772,79.6654, 79.196,78.9987,78.4793,77.92,77.803, 77.7558)
ORBIT_NUMBER = 2598
ORBITAL_ECCENTRICITY = 0.571
ORBITAL_INCLINATION = 86.63
ORBITAL_SEMIMAJOR_AXIS = 8529.89
PERIAPSIS_ALTITUDE = 279.86
PERIAPSIS_ARGUMENT_ANGLE = 261.83
PERIAPSIS_TIME = 2006-01-20T03:40:57.000Z
SPACECRAFT_ORIENTATION = (0.0,-1.0,0.0)
^MEX_ORIENTATION_DESC = "MEX_ORIENTATION_DESC.TXT"
SPACECRAFT_POINTING_MODE = ALONGTRACK
^MEX_POINTING_DESC = "MEX_POINTING_DESC.TXT"
RIGHT_ASCENSION = -1e+32
DECLINATION = -1e+32
OFFSET_ANGLE = 0.7
SPACECRAFT_SOLAR_DISTANCE = 2.32717e+08
TARGET_NAME = MARS
/* CAMERA DATA ELEMENTS */
DETECTOR_TEMPERATURE = 17.5549
FOCAL_PLANE_TEMPERATURE = 8.5833
INST_CMPRS_NAME = "DISCRETE COSINE TRANSFORMATION (DCT)"
INST_CMPRS_RATIO = 20.7569
INST_CMPRS_QUALITY = 0
INST_CMPRS_QUANTZ_TBL_ID = 0
INSTRUMENT_TEMPERATURE = 11.4379
LENS_TEMPERATURE = 8.9911
MACROPIXEL_SIZE = 2
PIXEL_SUBSAMPLING_FLAG = N
SIGNAL_CHAIN_ID = 3
/* RADIOMETRIC DATA ELEMENTS */
BANDWIDTH = 174.0
CENTER_FILTER_WAVELENGTH = 675.0
RADIANCE_OFFSET = 0.913026
RADIANCE_SCALING_FACTOR = 0.00932813
REFLECTANCE_SCALING_FACTOR = 0.000271731
MEX:REFLECTANCE_OFFSET = 0.0265967
/* IMAGE OBJECT DEFINITIONS */
OBJECT = IMAGE
  INTERCHANGE_FORMAT = BINARY
  LINES = 28047
  LINE_SAMPLES = 7882
  SAMPLE_TYPE = UNSIGNED_INTEGER
  SAMPLE_BITS = 8
  BANDS = 1
  BAND_STORAGE_TYPE = BAND_SEQUENTIAL
  MAXIMUM = 255
  MEAN = 101.777
  MINIMUM = 1
  STANDARD_DEVIATION = 36.2628
END_OBJECT = IMAGE
/* MAP OBJECT DEFINITIONS */
OBJECT = IMAGE_MAP_PROJECTION
  ^DATA_SET_MAP_PROJECTION_CATALOG= "DSMAP.CAT"
  A_AXIS_RADIUS = 3396.0
  B_AXIS_RADIUS = 3396.0
  C_AXIS_RADIUS = 3396.0
  CENTER_LATITUDE = 0.0
  CENTER_LONGITUDE = 85.0
  COORDINATE_SYSTEM_NAME = PLANETOGRAPHIC
  COORDINATE_SYSTEM_TYPE = "BODY-FIXED ROTATING"
  EASTERNMOST_LONGITUDE = 88.9328
  FIRST_STANDARD_PARALLEL = "N/A"
  LINE_FIRST_PIXEL = 1
  LINE_LAST_PIXEL = 28047
  LINE_PROJECTION_OFFSET = -154523.25
  MAP_PROJECTION_ROTATION = 0.0
  MAP_PROJECTION_TYPE = SINUSOIDAL
  MAP_RESOLUTION = 2370.85521546667
  MAP_SCALE = 0.025
  MAXIMUM_LATITUDE = -65.1846
  MINIMUM_LATITUDE = -77.105
  POSITIVE_LONGITUDE_DIRECTION = EAST
  REFERENCE_LATITUDE = "N/A"
  REFERENCE_LONGITUDE = "N/A"
  SAMPLE_FIRST_PIXEL = 1
  SAMPLE_LAST_PIXEL = 7882
  SAMPLE_PROJECTION_OFFSET = 3952.75
  SECOND_STANDARD_PARALLEL = "N/A"
  WESTERNMOST_LONGITUDE = 77.75579999999999
END_OBJECT = IMAGE_MAP_PROJECTION
END
