PDS_VERSION_ID = PDS3
/* FILE DATA ELEMENTS */
RECORD_TYPE = UNDEFINED
/* POINTERS TO DATA OBJECTS */
^IMAGE = ("H2600_0000_S24.TIF")
/* IDENTIFICATION DATA ELEMENTS */
DATA_SET_ID = "MEX-M-HRSC-4-REFDR-MAPPROJECT-EXT1-V4.0"
DATA_SET_NAME = "MARS EXPRESS HRSC MAP PROJECTED REFDR EXTENSION1 V4.0"
DETECTOR_ID = MEX_HRSC_S2
EVENT_TYPE = "MARS-REGIONAL-MAPPING-Vo-Te-Im"
INSTRUMENT_HOST_ID = MEX
INSTRUMENT_HOST_NAME = "MARS EXPRESS"
INSTRUMENT_ID = HRSC
INSTRUMENT_NAME = "HIGH RESOLUTION STEREO CAMERA"
MISSION_NAME = "MARS EXPRESS"
MISSION_PHASE_NAME = ME_Phase_2
PROCESSING_LEVEL_ID = 4
PRODUCT_CREATION_TIME = 2023-02-08T07:05:14.000Z
PRODUCT_ID = "H2600_0000_S24.TIF"
RELEASE_ID = 0001
REVISION_ID = 0000
/* QUALITY DATA ELEMENTS */
DATA_QUALITY_ID = 1
DATA_QUALITY_DESC = "Data calculated based on original SPICE kernels"
/* TIME DATA ELEMENTS */
SPACECRAFT_CLOCK_START_COUNT = "1/0085857146.09073"
SPACECRAFT_CLOCK_STOP_COUNT = "1/0085858144.12726"
START_TIME = 2006-01-20T17:13:44.431Z
STOP_TIME = 2006-01-20T17:29:08.102Z
/* ORBITAL DATA ELEMENTS */
ASCENDING_NODE_LONGITUDE = 173.72
MAXIMUM_RESOLUTION = 0.035
FOOTPRINT_POINT_LATITUDE = (-74.8847,-75.0401,-75.1695,-75.1718, -75.2762,-74.4653,-73.6443,-72.8056, -71.6628,-70.4846,-69.2734,-68.0265, -67.3885,-66.7418,-66.0836,-65.4153, -64.7366,-64.0453,-63.3439,-62.6326, -61.9083,-61.1719,-60.4221,-59.2699, -58.4909,-57.6924,-56.8793,-55.6305, -54.3473,-53.4738,-52.582,-51.6746, -50.7475,-49.8007,-48.8347,-47.856, -46.8541,-45.8323,-44.7898,-43.7266, -42.6492,-41.5933,-40.5638,-39.5598, -38.5756,-37.1423,-36.2325,-35.7844, -35.7225,-35.756,-35.8041,-35.8341, -35.8831,-35.9121,-35.9133,-35.9148, -36.7937,-37.6928,-38.6179,-39.5701, -40.5489,-41.5516,-42.5914,-43.6509, -44.6986,-45.7271,-46.7326,-47.7206, -48.6904,-50.1229,-51.0546,-51.9653, -52.8595,-53.7362,-54.5962,-55.4406, -56.2687,-57.0854,-57.885,-58.6698, -59.4415,-60.2017,-60.9495,-61.6764, -62.3972,-63.1049,-63.8023,-64.4875, -65.1613,-65.8249,-66.4775,-67.131, -68.6879,-69.8969,-71.0745,-72.2188, -73.3287,-74.6754,-74.9377,-74.8847)
FOOTPRINT_POINT_LONGITUDE = (243.003,245.579,248.202,248.254, 248.322,248.895,249.422,249.905,250.49, 251.018,251.497,251.933,252.136,252.331 ,252.517,252.696,252.868,253.032, 253.191,253.344,253.492,253.635,253.772 ,253.969,254.097,254.219,254.337, 254.508,254.672,254.779,254.882,254.985 ,255.083,255.18,255.274,255.37,255.463, 255.555,255.647,255.738,255.829,255.916 ,256.0,256.081,256.156,256.263,256.339, 256.376,256.382,255.294,254.019,253.127 ,251.464,249.86,249.796,249.773,249.83, 249.886,249.938,249.984,250.026,250.064 ,250.092,250.114,250.129,250.135, 250.134,250.126,250.109,250.064,250.025 ,249.98,249.928,249.869,249.803,249.73, 249.649,249.559,249.463,249.36,249.249, 249.127,248.996,248.865,248.719,248.564 ,248.4,248.225,248.041,247.846,247.64, 247.408,246.815,246.269,245.652,244.962 ,244.186,243.072,242.828,243.003)
ORBIT_NUMBER = 2600
ORBITAL_ECCENTRICITY = 0.571
ORBITAL_INCLINATION = 86.62
ORBITAL_SEMIMAJOR_AXIS = 8531.28
PERIAPSIS_ALTITUDE = 279.05
PERIAPSIS_ARGUMENT_ANGLE = 261.47
PERIAPSIS_TIME = 2006-01-20T17:07:17.000Z
SPACECRAFT_ORIENTATION = (0.0,-1.0,0.0)
^MEX_ORIENTATION_DESC = "MEX_ORIENTATION_DESC.TXT"
SPACECRAFT_POINTING_MODE = NADIR
^MEX_POINTING_DESC = "MEX_POINTING_DESC.TXT"
RIGHT_ASCENSION = -1e+32
DECLINATION = -1e+32
OFFSET_ANGLE = -1e+32
SPACECRAFT_SOLAR_DISTANCE = 2.32822e+08
TARGET_NAME = MARS
/* CAMERA DATA ELEMENTS */
DETECTOR_TEMPERATURE = 18.9822
FOCAL_PLANE_TEMPERATURE = 8.7872
INST_CMPRS_NAME = "DISCRETE COSINE TRANSFORMATION (DCT)"
INST_CMPRS_RATIO = 13.207
INST_CMPRS_QUALITY = 0
INST_CMPRS_QUANTZ_TBL_ID = 0
INSTRUMENT_TEMPERATURE = 11.234
LENS_TEMPERATURE = 9.3989
MACROPIXEL_SIZE = 2
MISSING_FRAMES = 0
PIXEL_SUBSAMPLING_FLAG = N
SIGNAL_CHAIN_ID = 1
/* RADIOMETRIC DATA ELEMENTS */
BANDWIDTH = 178.0
CENTER_FILTER_WAVELENGTH = 679.0
RADIANCE_OFFSET = 0.879455
RADIANCE_SCALING_FACTOR = 0.0205604
REFLECTANCE_SCALING_FACTOR = 0.000590215
MEX:REFLECTANCE_OFFSET = 0.025246
/* IMAGE OBJECT DEFINITIONS */
OBJECT = IMAGE
  INTERCHANGE_FORMAT = BINARY
  LINES = 93536
  LINE_SAMPLES = 13465
  SAMPLE_TYPE = UNSIGNED_INTEGER
  SAMPLE_BITS = 8
  BANDS = 1
  BAND_STORAGE_TYPE = BAND_SEQUENTIAL
  MAXIMUM = 255
  MEAN = 105.506
  MINIMUM = 1
  STANDARD_DEVIATION = 46.3454
END_OBJECT = IMAGE
/* MAP OBJECT DEFINITIONS */
OBJECT = IMAGE_MAP_PROJECTION
  ^DATA_SET_MAP_PROJECTION_CATALOG= "DSMAP.CAT"
  A_AXIS_RADIUS = 3396.0
  B_AXIS_RADIUS = 3396.0
  C_AXIS_RADIUS = 3396.0
  CENTER_LATITUDE = 0.0
  CENTER_LONGITUDE = 251.0
  COORDINATE_SYSTEM_NAME = PLANETOGRAPHIC
  COORDINATE_SYSTEM_TYPE = "BODY-FIXED ROTATING"
  EASTERNMOST_LONGITUDE = 256.382
  FIRST_STANDARD_PARALLEL = "N/A"
  LINE_FIRST_PIXEL = 1
  LINE_LAST_PIXEL = 93536
  LINE_PROJECTION_OFFSET = -84960.75
  MAP_PROJECTION_ROTATION = 0.0
  MAP_PROJECTION_TYPE = SINUSOIDAL
  MAP_RESOLUTION = 2370.85521546667
  MAP_SCALE = 0.025
  MAXIMUM_LATITUDE = -35.7225
  MINIMUM_LATITUDE = -75.2762
  POSITIVE_LONGITUDE_DIRECTION = EAST
  REFERENCE_LATITUDE = "N/A"
  REFERENCE_LONGITUDE = "N/A"
  SAMPLE_FIRST_PIXEL = 1
  SAMPLE_LAST_PIXEL = 13465
  SAMPLE_PROJECTION_OFFSET = 4950.25
  SECOND_STANDARD_PARALLEL = "N/A"
  WESTERNMOST_LONGITUDE = 242.828
END_OBJECT = IMAGE_MAP_PROJECTION
END
