PDS_VERSION_ID = PDS3
/* FILE DATA ELEMENTS */
RECORD_TYPE = UNDEFINED
/* POINTERS TO DATA OBJECTS */
^IMAGE = ("H2604_0000_P14.TIF")
/* IDENTIFICATION DATA ELEMENTS */
DATA_SET_ID = "MEX-M-HRSC-4-REFDR-MAPPROJECT-EXT1-V4.0"
DATA_SET_NAME = "MARS EXPRESS HRSC MAP PROJECTED REFDR EXTENSION1 V4.0"
DETECTOR_ID = MEX_HRSC_P1
EVENT_TYPE = "MARS-REGIONAL-MAPPING-Vo-Te-Im"
INSTRUMENT_HOST_ID = MEX
INSTRUMENT_HOST_NAME = "MARS EXPRESS"
INSTRUMENT_ID = HRSC
INSTRUMENT_NAME = "HIGH RESOLUTION STEREO CAMERA"
MISSION_NAME = "MARS EXPRESS"
MISSION_PHASE_NAME = ME_Phase_2
PROCESSING_LEVEL_ID = 4
PRODUCT_CREATION_TIME = 2023-02-08T07:05:14.000Z
PRODUCT_ID = "H2604_0000_P14.TIF"
RELEASE_ID = 0001
REVISION_ID = 0000
/* QUALITY DATA ELEMENTS */
DATA_QUALITY_ID = 1
DATA_QUALITY_DESC = "Data calculated based on original SPICE kernels"
/* TIME DATA ELEMENTS */
SPACECRAFT_CLOCK_START_COUNT = "1/0085954196.08544"
SPACECRAFT_CLOCK_STOP_COUNT = "1/0085955114.32615"
START_TIME = 2006-01-21T20:10:21.636Z
STOP_TIME = 2006-01-21T20:18:23.844Z
/* ORBITAL DATA ELEMENTS */
ASCENDING_NODE_LONGITUDE = 173.64
MAXIMUM_RESOLUTION = 0.0502
FOOTPRINT_POINT_LATITUDE = (-56.9496,-57.0249,-57.0615,-57.0804, -57.081,-57.0289,-55.9971,-55.1442, -54.2736,-53.3838,-52.4767,-51.55, -50.6017,-50.1198,-49.6321,-49.1396, -48.6401,-48.1357,-47.6255,-47.1079, -46.5819,-46.0512,-45.5155,-44.9727, -44.4219,-43.8666,-43.3034,-42.7322, -42.1533,-41.5668,-40.6747,-40.0805, -39.4893,-38.9049,-38.3227,-37.7371, -37.1582,-36.5827,-36.0112,-35.4428, -34.8773,-34.315,-33.7559,-33.1998, -32.6469,-32.0971,-31.2787,-31.0055, -30.9596,-30.986,-31.0061,-31.0134, -31.018,-31.0162,-31.0018,-31.0008, -31.0015,-31.5397,-32.0817,-32.6256, -33.1731,-33.7238,-34.2773,-34.834, -35.6769,-36.2403,-36.8081,-37.6664, -38.5327,-39.1092,-39.6998,-40.2874, -40.88,-41.4727,-42.0522,-42.6241, -43.192,-43.7524,-44.307,-44.8537, -45.3953,-45.9311,-46.4601,-46.9809, -47.4956,-48.0036,-48.5065,-49.0046, -49.4948,-49.9816,-50.459,-51.4016, -52.325,-53.2294,-54.1142,-54.9802, -55.8295,-56.661,-56.8663,-56.9496)
FOOTPRINT_POINT_LONGITUDE = (217.288,218.993,220.188,221.089, 221.127,221.197,221.303,221.393,221.479 ,221.561,221.638,221.71,221.781,221.815 ,221.848,221.88,221.911,221.941,221.971 ,222.001,222.031,222.059,222.086, 222.112,222.138,222.162,222.186,222.209 ,222.232,222.254,222.285,222.305, 222.324,222.34,222.356,222.374,222.389, 222.404,222.417,222.429,222.44,222.45, 222.46,222.469,222.478,222.485,222.495, 222.499,222.5,221.687,220.923,220.305, 219.638,218.781,217.638,217.59,217.573, 217.603,217.633,217.661,217.688,217.714 ,217.738,217.762,217.795,217.815, 217.833,217.859,217.882,217.893,217.908 ,217.917,217.926,217.934,217.937, 217.938,217.938,217.937,217.934,217.93, 217.924,217.917,217.908,217.896,217.883 ,217.868,217.852,217.835,217.815, 217.794,217.771,217.72,217.664,217.602, 217.533,217.458,217.378,217.29,217.268, 217.288)
ORBIT_NUMBER = 2604
ORBITAL_ECCENTRICITY = 0.571
ORBITAL_INCLINATION = 86.62
ORBITAL_SEMIMAJOR_AXIS = 8531.37
PERIAPSIS_ALTITUDE = 278.95
PERIAPSIS_ARGUMENT_ANGLE = 260.79
PERIAPSIS_TIME = 2006-01-21T19:59:53.000Z
SPACECRAFT_ORIENTATION = (0.0,-1.0,0.0)
^MEX_ORIENTATION_DESC = "MEX_ORIENTATION_DESC.TXT"
SPACECRAFT_POINTING_MODE = ACROSSTRACK
^MEX_POINTING_DESC = "MEX_POINTING_DESC.TXT"
RIGHT_ASCENSION = -1e+32
DECLINATION = -1e+32
OFFSET_ANGLE = -0.21
SPACECRAFT_SOLAR_DISTANCE = 2.33029e+08
TARGET_NAME = MARS
/* CAMERA DATA ELEMENTS */
DETECTOR_TEMPERATURE = 17.5549
FOCAL_PLANE_TEMPERATURE = 8.1755
INST_CMPRS_NAME = "DISCRETE COSINE TRANSFORMATION (DCT)"
INST_CMPRS_RATIO = 12.1763
INST_CMPRS_QUALITY = 0
INST_CMPRS_QUANTZ_TBL_ID = 0
INSTRUMENT_TEMPERATURE = 11.0301
LENS_TEMPERATURE = 8.3794
MACROPIXEL_SIZE = 2
MISSING_FRAMES = 0
PIXEL_SUBSAMPLING_FLAG = N
SIGNAL_CHAIN_ID = 3
/* RADIOMETRIC DATA ELEMENTS */
BANDWIDTH = 174.0
CENTER_FILTER_WAVELENGTH = 675.0
RADIANCE_OFFSET = 1.64127
RADIANCE_SCALING_FACTOR = 0.0187239
REFLECTANCE_SCALING_FACTOR = 0.000546901
MEX:REFLECTANCE_OFFSET = 0.0479393
/* IMAGE OBJECT DEFINITIONS */
OBJECT = IMAGE
  INTERCHANGE_FORMAT = BINARY
  LINES = 30924
  LINE_SAMPLES = 5639
  SAMPLE_TYPE = UNSIGNED_INTEGER
  SAMPLE_BITS = 8
  BANDS = 1
  BAND_STORAGE_TYPE = BAND_SEQUENTIAL
  MAXIMUM = 255
  MEAN = 102.315
  MINIMUM = 1
  STANDARD_DEVIATION = 35.1689
END_OBJECT = IMAGE
/* MAP OBJECT DEFINITIONS */
OBJECT = IMAGE_MAP_PROJECTION
  ^DATA_SET_MAP_PROJECTION_CATALOG= "DSMAP.CAT"
  A_AXIS_RADIUS = 3396.0
  B_AXIS_RADIUS = 3396.0
  C_AXIS_RADIUS = 3396.0
  CENTER_LATITUDE = 0.0
  CENTER_LONGITUDE = 220.0
  COORDINATE_SYSTEM_NAME = PLANETOGRAPHIC
  COORDINATE_SYSTEM_TYPE = "BODY-FIXED ROTATING"
  EASTERNMOST_LONGITUDE = 222.5
  FIRST_STANDARD_PARALLEL = "N/A"
  LINE_FIRST_PIXEL = 1
  LINE_LAST_PIXEL = 30924
  LINE_PROJECTION_OFFSET = -36683.75
  MAP_PROJECTION_ROTATION = 0.0
  MAP_PROJECTION_TYPE = SINUSOIDAL
  MAP_RESOLUTION = 1185.42760773333
  MAP_SCALE = 0.05
  MAXIMUM_LATITUDE = -30.9596
  MINIMUM_LATITUDE = -57.081
  POSITIVE_LONGITUDE_DIRECTION = EAST
  REFERENCE_LATITUDE = "N/A"
  REFERENCE_LONGITUDE = "N/A"
  SAMPLE_FIRST_PIXEL = 1
  SAMPLE_LAST_PIXEL = 5639
  SAMPLE_PROJECTION_OFFSET = 2819.25
  SECOND_STANDARD_PARALLEL = "N/A"
  WESTERNMOST_LONGITUDE = 217.268
END_OBJECT = IMAGE_MAP_PROJECTION
END
