PDS_VERSION_ID = PDS3
/* FILE DATA ELEMENTS */
RECORD_TYPE = UNDEFINED
/* POINTERS TO DATA OBJECTS */
^IMAGE = ("H2607_0000_GR4.TIF")
/* IDENTIFICATION DATA ELEMENTS */
DATA_SET_ID = "MEX-M-HRSC-4-REFDR-MAPPROJECT-EXT1-V4.0"
DATA_SET_NAME = "MARS EXPRESS HRSC MAP PROJECTED REFDR EXTENSION1 V4.0"
DETECTOR_ID = MEX_HRSC_GREEN
EVENT_TYPE = "MARS-REGIONAL-MAPPING-Te-Fl"
INSTRUMENT_HOST_ID = MEX
INSTRUMENT_HOST_NAME = "MARS EXPRESS"
INSTRUMENT_ID = HRSC
INSTRUMENT_NAME = "HIGH RESOLUTION STEREO CAMERA"
MISSION_NAME = "MARS EXPRESS"
MISSION_PHASE_NAME = ME_Phase_2
PROCESSING_LEVEL_ID = 4
PRODUCT_CREATION_TIME = 2023-02-08T07:05:14.000Z
PRODUCT_ID = "H2607_0000_GR4.TIF"
RELEASE_ID = 0001
REVISION_ID = 0000
/* QUALITY DATA ELEMENTS */
DATA_QUALITY_ID = 1
DATA_QUALITY_DESC = "Data calculated based on original SPICE kernels"
/* TIME DATA ELEMENTS */
SPACECRAFT_CLOCK_START_COUNT = "1/0086026640.08264"
SPACECRAFT_CLOCK_STOP_COUNT = "1/0086027333.63899"
START_TIME = 2006-01-22T16:18:04.505Z
STOP_TIME = 2006-01-22T16:25:38.516Z
/* ORBITAL DATA ELEMENTS */
ASCENDING_NODE_LONGITUDE = 173.58
MAXIMUM_RESOLUTION = 0.0816
FOOTPRINT_POINT_LATITUDE = (-65.5977,-65.6641,-65.7294,-65.7994, -65.8007,-65.7883,-65.0454,-64.0956, -63.5141,-62.7281,-61.926,-61.1053, -60.2703,-59.4161,-58.9827,-58.5449, -58.1024,-57.6554,-57.2029,-56.7455, -56.2828,-55.8162,-55.3425,-54.864, -54.3801,-53.8906,-53.3955,-52.8943, -52.3882,-51.8754,-51.3558,-50.8305, -50.2985,-49.7591,-49.214,-48.6607, -48.1011,-47.534,-46.9597,-46.3787, -45.7896,-45.1915,-44.5855,-43.9716, -43.3498,-42.7197,-41.7577,-41.4323, -41.3495,-41.3544,-41.3515,-41.3442, -41.328,-41.2952,-41.2937,-41.2954, -42.2576,-42.8881,-43.5099,-44.1237, -44.7294,-45.3273,-45.9172,-46.4993, -47.0744,-47.642,-48.2019,-48.7549, -49.3013,-49.8415,-50.3737,-50.9008, -51.4213,-51.9358,-52.4437,-52.9459, -53.4415,-53.9306,-54.4145,-54.8933, -55.3672,-55.8354,-56.2988,-56.7568, -57.2098,-57.658,-58.1015,-58.5406, -58.9746,-59.4036,-60.2489,-61.0778, -61.8901,-62.6849,-63.2714,-63.8486, -64.4181,-65.3505,-65.5333,-65.5977)
FOOTPRINT_POINT_LONGITUDE = (280.184,281.301,282.579,284.294, 284.333,284.411,284.598,284.82,284.953, 285.109,285.266,285.417,285.561,285.696 ,285.762,285.826,285.889,285.951, 286.011,286.069,286.126,286.179,286.236 ,286.291,286.343,286.394,286.443, 286.492,286.537,286.583,286.628,286.672 ,286.715,286.758,286.799,286.841,286.88 ,286.919,286.956,286.991,287.026, 287.062,287.097,287.13,287.162,287.192, 287.237,287.251,287.255,286.209,285.425 ,284.728,283.898,282.635,282.591, 282.577,282.585,282.587,282.587,282.585 ,282.581,282.574,282.565,282.553,282.54 ,282.524,282.506,282.483,282.463, 282.438,282.411,282.383,282.354,282.323 ,282.288,282.251,282.211,282.168, 282.124,282.078,282.031,281.981,281.931 ,281.876,281.82,281.762,281.702,281.64, 281.575,281.508,281.366,281.217,281.059 ,280.885,280.749,280.605,280.457, 280.191,280.136,280.184)
ORBIT_NUMBER = 2607
ORBITAL_ECCENTRICITY = 0.571
ORBITAL_INCLINATION = 86.61
ORBITAL_SEMIMAJOR_AXIS = 8532.61
PERIAPSIS_ALTITUDE = 279.95
PERIAPSIS_ARGUMENT_ANGLE = 260.27
PERIAPSIS_TIME = 2006-01-22T16:09:27.000Z
SPACECRAFT_ORIENTATION = (0.0,-1.0,0.0)
^MEX_ORIENTATION_DESC = "MEX_ORIENTATION_DESC.TXT"
SPACECRAFT_POINTING_MODE = NADIR
^MEX_POINTING_DESC = "MEX_POINTING_DESC.TXT"
RIGHT_ASCENSION = -1e+32
DECLINATION = -1e+32
OFFSET_ANGLE = -1e+32
SPACECRAFT_SOLAR_DISTANCE = 2.33184e+08
TARGET_NAME = MARS
/* CAMERA DATA ELEMENTS */
DETECTOR_TEMPERATURE = 18.3705
FOCAL_PLANE_TEMPERATURE = 8.5833
INST_CMPRS_NAME = "DISCRETE COSINE TRANSFORMATION (DCT)"
INST_CMPRS_RATIO = 15.5256
INST_CMPRS_QUALITY = 0
INST_CMPRS_QUANTZ_TBL_ID = 0
INSTRUMENT_TEMPERATURE = 11.0301
LENS_TEMPERATURE = 9.3989
MACROPIXEL_SIZE = 4
MISSING_FRAMES = 0
PIXEL_SUBSAMPLING_FLAG = N
SIGNAL_CHAIN_ID = 2
/* RADIOMETRIC DATA ELEMENTS */
BANDWIDTH = 88.0
CENTER_FILTER_WAVELENGTH = 538.0
RADIANCE_OFFSET = 0.662049
RADIANCE_SCALING_FACTOR = 0.00328642
REFLECTANCE_SCALING_FACTOR = 0.000153856
MEX:REFLECTANCE_OFFSET = 0.0309943
/* IMAGE OBJECT DEFINITIONS */
OBJECT = IMAGE
  INTERCHANGE_FORMAT = BINARY
  LINES = 14512
  LINE_SAMPLES = 2447
  SAMPLE_TYPE = UNSIGNED_INTEGER
  SAMPLE_BITS = 8
  BANDS = 1
  BAND_STORAGE_TYPE = BAND_SEQUENTIAL
  MAXIMUM = 255
  MEAN = 119.949
  MINIMUM = 1
  STANDARD_DEVIATION = 39.6024
END_OBJECT = IMAGE
/* MAP OBJECT DEFINITIONS */
OBJECT = IMAGE_MAP_PROJECTION
  ^DATA_SET_MAP_PROJECTION_CATALOG= "DSMAP.CAT"
  A_AXIS_RADIUS = 3396.0
  B_AXIS_RADIUS = 3396.0
  C_AXIS_RADIUS = 3396.0
  CENTER_LATITUDE = 0.0
  CENTER_LONGITUDE = 284.0
  COORDINATE_SYSTEM_NAME = PLANETOGRAPHIC
  COORDINATE_SYSTEM_TYPE = "BODY-FIXED ROTATING"
  EASTERNMOST_LONGITUDE = 287.255
  FIRST_STANDARD_PARALLEL = "N/A"
  LINE_FIRST_PIXEL = 1
  LINE_LAST_PIXEL = 14512
  LINE_PROJECTION_OFFSET = -24484.625
  MAP_PROJECTION_ROTATION = 0.0
  MAP_PROJECTION_TYPE = SINUSOIDAL
  MAP_RESOLUTION = 592.713803866667
  MAP_SCALE = 0.1
  MAXIMUM_LATITUDE = -41.2937
  MINIMUM_LATITUDE = -65.80070000000001
  POSITIVE_LONGITUDE_DIRECTION = EAST
  REFERENCE_LATITUDE = "N/A"
  REFERENCE_LONGITUDE = "N/A"
  SAMPLE_FIRST_PIXEL = 1
  SAMPLE_LAST_PIXEL = 2447
  SAMPLE_PROJECTION_OFFSET = 957.875
  SECOND_STANDARD_PARALLEL = "N/A"
  WESTERNMOST_LONGITUDE = 280.136
END_OBJECT = IMAGE_MAP_PROJECTION
END
