PDS_VERSION_ID = PDS3
/* FILE DATA ELEMENTS */
RECORD_TYPE = UNDEFINED
/* POINTERS TO DATA OBJECTS */
^IMAGE = ("H2607_0000_IR4.TIF")
/* IDENTIFICATION DATA ELEMENTS */
DATA_SET_ID = "MEX-M-HRSC-4-REFDR-MAPPROJECT-EXT1-V4.0"
DATA_SET_NAME = "MARS EXPRESS HRSC MAP PROJECTED REFDR EXTENSION1 V4.0"
DETECTOR_ID = MEX_HRSC_IR
EVENT_TYPE = "MARS-REGIONAL-MAPPING-Te-Fl"
INSTRUMENT_HOST_ID = MEX
INSTRUMENT_HOST_NAME = "MARS EXPRESS"
INSTRUMENT_ID = HRSC
INSTRUMENT_NAME = "HIGH RESOLUTION STEREO CAMERA"
MISSION_NAME = "MARS EXPRESS"
MISSION_PHASE_NAME = ME_Phase_2
PROCESSING_LEVEL_ID = 4
PRODUCT_CREATION_TIME = 2023-02-08T07:05:14.000Z
PRODUCT_ID = "H2607_0000_IR4.TIF"
RELEASE_ID = 0001
REVISION_ID = 0000
/* QUALITY DATA ELEMENTS */
DATA_QUALITY_ID = 1
DATA_QUALITY_DESC = "Data calculated based on original SPICE kernels"
/* TIME DATA ELEMENTS */
SPACECRAFT_CLOCK_START_COUNT = "1/0086026640.08264"
SPACECRAFT_CLOCK_STOP_COUNT = "1/0086027333.63899"
START_TIME = 2006-01-22T16:17:33.307Z
STOP_TIME = 2006-01-22T16:24:24.838Z
/* ORBITAL DATA ELEMENTS */
ASCENDING_NODE_LONGITUDE = 173.58
MAXIMUM_RESOLUTION = 0.0809
FOOTPRINT_POINT_LATITUDE = (-65.6751,-65.7614,-65.829,-65.8736, -65.875,-65.8027,-65.0656,-64.1238, -63.3471,-62.5704,-61.7684,-60.7411, -59.9024,-59.4767,-59.0471,-58.6125, -58.1714,-57.7275,-57.2787,-56.8251, -56.3653,-55.9034,-55.4313,-54.9548, -54.4746,-53.9886,-53.498,-53.0, -52.4989,-51.9902,-51.4746,-50.9532, -50.4251,-49.8889,-49.3456,-48.7943, -48.2363,-47.6715,-47.0995,-46.5219, -45.9375,-45.3398,-44.7326,-44.1197, -43.4982,-42.8691,-41.9083,-41.5838, -41.3933,-41.3941,-41.3849,-41.3595, -41.3306,-41.3128,-41.3128,-41.3144, -42.2819,-42.9133,-43.537,-44.1534, -44.7598,-45.3582,-45.9495,-46.5315, -47.1061,-47.6729,-48.2329,-48.785, -49.3314,-49.8687,-50.3995,-50.925, -51.4456,-51.9609,-52.4686,-52.9683, -53.4569,-53.9467,-54.427,-54.9034, -55.3748,-55.8416,-56.3045,-56.7594, -57.2113,-57.6574,-58.0982,-58.5345, -58.9674,-59.3941,-59.8164,-60.65, -61.6702,-62.4647,-63.2444,-63.8137, -64.5691,-65.3069,-65.4894,-65.6751)
FOOTPRINT_POINT_LONGITUDE = (280.273,281.709,283.08,284.198,284.236 ,284.328,284.512,284.731,284.904, 285.055,285.208,285.391,285.528,285.593 ,285.658,285.72,285.783,285.843,285.901 ,285.958,286.014,286.067,286.122, 286.175,286.226,286.275,286.323,286.37, 286.414,286.458,286.502,286.544,286.585 ,286.626,286.666,286.705,286.743,286.78 ,286.815,286.848,286.88,286.914,286.947 ,286.978,287.007,287.035,287.076, 287.089,287.096,286.419,285.261,284.262 ,283.463,282.866,282.826,282.813, 282.814,282.811,282.807,282.8,282.791, 282.78,282.767,282.752,282.734,282.714, 282.693,282.669,282.644,282.616,282.586 ,282.555,282.522,282.488,282.451, 282.411,282.367,282.325,282.278,282.231 ,282.182,282.131,282.078,282.022, 281.964,281.905,281.843,281.779,281.713 ,281.645,281.574,281.426,281.23,281.059 ,280.879,280.734,280.535,280.322, 280.266,280.273)
ORBIT_NUMBER = 2607
ORBITAL_ECCENTRICITY = 0.571
ORBITAL_INCLINATION = 86.61
ORBITAL_SEMIMAJOR_AXIS = 8532.61
PERIAPSIS_ALTITUDE = 279.95
PERIAPSIS_ARGUMENT_ANGLE = 260.27
PERIAPSIS_TIME = 2006-01-22T16:09:27.000Z
SPACECRAFT_ORIENTATION = (0.0,-1.0,0.0)
^MEX_ORIENTATION_DESC = "MEX_ORIENTATION_DESC.TXT"
SPACECRAFT_POINTING_MODE = NADIR
^MEX_POINTING_DESC = "MEX_POINTING_DESC.TXT"
RIGHT_ASCENSION = -1e+32
DECLINATION = -1e+32
OFFSET_ANGLE = -1e+32
SPACECRAFT_SOLAR_DISTANCE = 2.33184e+08
TARGET_NAME = MARS
/* CAMERA DATA ELEMENTS */
DETECTOR_TEMPERATURE = 17.5549
FOCAL_PLANE_TEMPERATURE = 8.5833
INST_CMPRS_NAME = "DISCRETE COSINE TRANSFORMATION (DCT)"
INST_CMPRS_RATIO = 15.9718
INST_CMPRS_QUALITY = 0
INST_CMPRS_QUANTZ_TBL_ID = 0
INSTRUMENT_TEMPERATURE = 11.0301
LENS_TEMPERATURE = 9.3989
MACROPIXEL_SIZE = 4
MISSING_FRAMES = 0
PIXEL_SUBSAMPLING_FLAG = N
SIGNAL_CHAIN_ID = 2
/* RADIOMETRIC DATA ELEMENTS */
BANDWIDTH = 81.0
CENTER_FILTER_WAVELENGTH = 955.5
RADIANCE_OFFSET = 0.329341
RADIANCE_SCALING_FACTOR = 0.00233037
REFLECTANCE_SCALING_FACTOR = 0.000273373
MEX:REFLECTANCE_OFFSET = 0.0386346
/* IMAGE OBJECT DEFINITIONS */
OBJECT = IMAGE
  INTERCHANGE_FORMAT = BINARY
  LINES = 14512
  LINE_SAMPLES = 2447
  SAMPLE_TYPE = UNSIGNED_INTEGER
  SAMPLE_BITS = 8
  BANDS = 1
  BAND_STORAGE_TYPE = BAND_SEQUENTIAL
  MAXIMUM = 255
  MEAN = 112.811
  MINIMUM = 1
  STANDARD_DEVIATION = 33.671
END_OBJECT = IMAGE
/* MAP OBJECT DEFINITIONS */
OBJECT = IMAGE_MAP_PROJECTION
  ^DATA_SET_MAP_PROJECTION_CATALOG= "DSMAP.CAT"
  A_AXIS_RADIUS = 3396.0
  B_AXIS_RADIUS = 3396.0
  C_AXIS_RADIUS = 3396.0
  CENTER_LATITUDE = 0.0
  CENTER_LONGITUDE = 284.0
  COORDINATE_SYSTEM_NAME = PLANETOGRAPHIC
  COORDINATE_SYSTEM_TYPE = "BODY-FIXED ROTATING"
  EASTERNMOST_LONGITUDE = 287.096
  FIRST_STANDARD_PARALLEL = "N/A"
  LINE_FIRST_PIXEL = 1
  LINE_LAST_PIXEL = 14512
  LINE_PROJECTION_OFFSET = -24484.625
  MAP_PROJECTION_ROTATION = 0.0
  MAP_PROJECTION_TYPE = SINUSOIDAL
  MAP_RESOLUTION = 592.713803866667
  MAP_SCALE = 0.1
  MAXIMUM_LATITUDE = -41.3128
  MINIMUM_LATITUDE = -65.875
  POSITIVE_LONGITUDE_DIRECTION = EAST
  REFERENCE_LATITUDE = "N/A"
  REFERENCE_LONGITUDE = "N/A"
  SAMPLE_FIRST_PIXEL = 1
  SAMPLE_LAST_PIXEL = 2447
  SAMPLE_PROJECTION_OFFSET = 957.875
  SECOND_STANDARD_PARALLEL = "N/A"
  WESTERNMOST_LONGITUDE = 280.266
END_OBJECT = IMAGE_MAP_PROJECTION
END
