PDS_VERSION_ID = PDS3
/* FILE DATA ELEMENTS */
RECORD_TYPE = UNDEFINED
/* POINTERS TO DATA OBJECTS */
^IMAGE = ("H2607_0000_RE4.TIF")
/* IDENTIFICATION DATA ELEMENTS */
DATA_SET_ID = "MEX-M-HRSC-4-REFDR-MAPPROJECT-EXT1-V4.0"
DATA_SET_NAME = "MARS EXPRESS HRSC MAP PROJECTED REFDR EXTENSION1 V4.0"
DETECTOR_ID = MEX_HRSC_RED
EVENT_TYPE = "MARS-REGIONAL-MAPPING-Te-Fl"
INSTRUMENT_HOST_ID = MEX
INSTRUMENT_HOST_NAME = "MARS EXPRESS"
INSTRUMENT_ID = HRSC
INSTRUMENT_NAME = "HIGH RESOLUTION STEREO CAMERA"
MISSION_NAME = "MARS EXPRESS"
MISSION_PHASE_NAME = ME_Phase_2
PROCESSING_LEVEL_ID = 4
PRODUCT_CREATION_TIME = 2023-02-08T07:05:14.000Z
PRODUCT_ID = "H2607_0000_RE4.TIF"
RELEASE_ID = 0001
REVISION_ID = 0000
/* QUALITY DATA ELEMENTS */
DATA_QUALITY_ID = 1
DATA_QUALITY_DESC = "Data calculated based on original SPICE kernels"
/* TIME DATA ELEMENTS */
SPACECRAFT_CLOCK_START_COUNT = "1/0086026640.08264"
SPACECRAFT_CLOCK_STOP_COUNT = "1/0086027333.63899"
START_TIME = 2006-01-22T16:19:00.279Z
STOP_TIME = 2006-01-22T16:28:17.932Z
/* ORBITAL DATA ELEMENTS */
ASCENDING_NODE_LONGITUDE = 173.58
MAXIMUM_RESOLUTION = 0.094
FOOTPRINT_POINT_LATITUDE = (-65.4796,-65.5948,-65.6853,-65.6867, -65.7662,-65.0094,-64.2408,-63.4634, -62.8578,-62.2545,-61.6418,-60.8121, -59.9641,-59.0976,-58.659,-58.2147, -57.766,-57.3123,-56.8542,-56.391, -55.9142,-55.4474,-54.9711,-54.4877, -53.9996,-53.5041,-53.0025,-52.4959, -51.9845,-51.4679,-50.6806,-49.8819, -49.343,-48.7983,-48.2478,-47.6899, -47.1242,-46.5528,-45.9718,-45.3878, -44.7993,-44.2034,-43.5988,-42.9855, -42.3647,-41.7392,-41.4239,-41.3077, -41.315,-41.3289,-41.3364,-41.341, -41.352,-41.3507,-41.3358,-41.3353, -41.3372,-41.9572,-42.5718,-43.1789, -43.7795,-44.3726,-44.9599,-45.5405, -46.1175,-46.6836,-47.2466,-47.8033, -48.3525,-48.897,-49.4354,-49.9679, -50.4947,-51.014,-51.5252,-52.0346, -52.5358,-53.0358,-53.5313,-54.0228, -54.508,-54.9859,-55.4583,-55.9267, -56.3891,-56.8473,-57.3003,-57.7483, -58.1922,-58.6317,-59.498,-60.3472, -61.1774,-61.9884,-62.9902,-63.7724, -64.5428,-65.2967,-65.4849,-65.4796)
FOOTPRINT_POINT_LONGITUDE = (280.022,282.249,284.579,284.622, 284.688,284.883,285.068,285.251,285.373 ,285.499,285.621,285.779,285.928, 286.072,286.142,286.21,286.277,286.343, 286.408,286.471,286.528,286.593,286.654 ,286.713,286.771,286.828,286.883, 286.937,286.991,287.045,287.123,287.2, 287.251,287.302,287.353,287.402,287.45, 287.498,287.544,287.592,287.64,287.688, 287.734,287.78,287.824,287.871,287.894, 287.904,287.309,286.552,285.579,284.715 ,283.795,283.145,282.172,282.117, 282.099,282.117,282.132,282.144,282.154 ,282.161,282.166,282.168,282.166, 282.164,282.158,282.149,282.139,282.125 ,282.11,282.092,282.071,282.05,282.028, 282.001,281.974,281.941,281.906,281.867 ,281.827,281.785,281.743,281.697, 281.649,281.599,281.547,281.492,281.435 ,281.376,281.249,281.112,280.966, 280.814,280.597,280.413,280.214,280.003 ,279.947,280.022)
ORBIT_NUMBER = 2607
ORBITAL_ECCENTRICITY = 0.571
ORBITAL_INCLINATION = 86.61
ORBITAL_SEMIMAJOR_AXIS = 8532.61
PERIAPSIS_ALTITUDE = 279.95
PERIAPSIS_ARGUMENT_ANGLE = 260.27
PERIAPSIS_TIME = 2006-01-22T16:09:27.000Z
SPACECRAFT_ORIENTATION = (0.0,-1.0,0.0)
^MEX_ORIENTATION_DESC = "MEX_ORIENTATION_DESC.TXT"
SPACECRAFT_POINTING_MODE = NADIR
^MEX_POINTING_DESC = "MEX_POINTING_DESC.TXT"
RIGHT_ASCENSION = -1e+32
DECLINATION = -1e+32
OFFSET_ANGLE = -1e+32
SPACECRAFT_SOLAR_DISTANCE = 2.33184e+08
TARGET_NAME = MARS
/* CAMERA DATA ELEMENTS */
DETECTOR_TEMPERATURE = 18.3705
FOCAL_PLANE_TEMPERATURE = 8.5833
INST_CMPRS_NAME = "DISCRETE COSINE TRANSFORMATION (DCT)"
INST_CMPRS_RATIO = 21.506
INST_CMPRS_QUALITY = 0
INST_CMPRS_QUANTZ_TBL_ID = 0
INSTRUMENT_TEMPERATURE = 11.0301
LENS_TEMPERATURE = 9.3989
MACROPIXEL_SIZE = 4
MISSING_FRAMES = 0
PIXEL_SUBSAMPLING_FLAG = N
SIGNAL_CHAIN_ID = 2
/* RADIOMETRIC DATA ELEMENTS */
BANDWIDTH = 48.0
CENTER_FILTER_WAVELENGTH = 748.0
RADIANCE_OFFSET = 0.3974
RADIANCE_SCALING_FACTOR = 0.00275017
REFLECTANCE_SCALING_FACTOR = 0.000341262
MEX:REFLECTANCE_OFFSET = 0.0493124
/* IMAGE OBJECT DEFINITIONS */
OBJECT = IMAGE
  INTERCHANGE_FORMAT = BINARY
  LINES = 14512
  LINE_SAMPLES = 2447
  SAMPLE_TYPE = UNSIGNED_INTEGER
  SAMPLE_BITS = 8
  BANDS = 1
  BAND_STORAGE_TYPE = BAND_SEQUENTIAL
  MAXIMUM = 255
  MEAN = 116.089
  MINIMUM = 1
  STANDARD_DEVIATION = 38.8356
END_OBJECT = IMAGE
/* MAP OBJECT DEFINITIONS */
OBJECT = IMAGE_MAP_PROJECTION
  ^DATA_SET_MAP_PROJECTION_CATALOG= "DSMAP.CAT"
  A_AXIS_RADIUS = 3396.0
  B_AXIS_RADIUS = 3396.0
  C_AXIS_RADIUS = 3396.0
  CENTER_LATITUDE = 0.0
  CENTER_LONGITUDE = 284.0
  COORDINATE_SYSTEM_NAME = PLANETOGRAPHIC
  COORDINATE_SYSTEM_TYPE = "BODY-FIXED ROTATING"
  EASTERNMOST_LONGITUDE = 287.904
  FIRST_STANDARD_PARALLEL = "N/A"
  LINE_FIRST_PIXEL = 1
  LINE_LAST_PIXEL = 14512
  LINE_PROJECTION_OFFSET = -24484.625
  MAP_PROJECTION_ROTATION = 0.0
  MAP_PROJECTION_TYPE = SINUSOIDAL
  MAP_RESOLUTION = 592.713803866667
  MAP_SCALE = 0.1
  MAXIMUM_LATITUDE = -41.3077
  MINIMUM_LATITUDE = -65.7662
  POSITIVE_LONGITUDE_DIRECTION = EAST
  REFERENCE_LATITUDE = "N/A"
  REFERENCE_LONGITUDE = "N/A"
  SAMPLE_FIRST_PIXEL = 1
  SAMPLE_LAST_PIXEL = 2447
  SAMPLE_PROJECTION_OFFSET = 957.875
  SECOND_STANDARD_PARALLEL = "N/A"
  WESTERNMOST_LONGITUDE = 279.947
END_OBJECT = IMAGE_MAP_PROJECTION
END
