PDS_VERSION_ID = PDS3
/* FILE DATA ELEMENTS */
RECORD_TYPE = UNDEFINED
/* POINTERS TO DATA OBJECTS */
^IMAGE = ("H2614_0000_ND4.TIF")
/* IDENTIFICATION DATA ELEMENTS */
DATA_SET_ID = "MEX-M-HRSC-4-REFDR-MAPPROJECT-EXT1-V4.0"
DATA_SET_NAME = "MARS EXPRESS HRSC MAP PROJECTED REFDR EXTENSION1 V4.0"
DETECTOR_ID = MEX_HRSC_NADIR
EVENT_TYPE = "MARS-REGIONAL-MAPPING-Im-Fl-Gl"
INSTRUMENT_HOST_ID = MEX
INSTRUMENT_HOST_NAME = "MARS EXPRESS"
INSTRUMENT_ID = HRSC
INSTRUMENT_NAME = "HIGH RESOLUTION STEREO CAMERA"
MISSION_NAME = "MARS EXPRESS"
MISSION_PHASE_NAME = ME_Phase_2
PROCESSING_LEVEL_ID = 4
PRODUCT_CREATION_TIME = 2023-02-08T07:05:14.000Z
PRODUCT_ID = "H2614_0000_ND4.TIF"
RELEASE_ID = 0001
REVISION_ID = 0000
/* QUALITY DATA ELEMENTS */
DATA_QUALITY_ID = 1
DATA_QUALITY_DESC = "Data calculated based on original SPICE kernels"
/* TIME DATA ELEMENTS */
SPACECRAFT_CLOCK_START_COUNT = "1/0086195905.07276"
SPACECRAFT_CLOCK_STOP_COUNT = "1/0086196408.12055"
START_TIME = 2006-01-24T15:19:11.979Z
STOP_TIME = 2006-01-24T15:24:58.990Z
/* ORBITAL DATA ELEMENTS */
ASCENDING_NODE_LONGITUDE = 173.43
MAXIMUM_RESOLUTION = 0.0184
FOOTPRINT_POINT_LATITUDE = (-70.9945,-71.0889,-71.173,-71.2418, -71.2437,-71.2499,-70.472,-69.8387, -69.0322,-68.3753,-67.7078,-67.0292, -66.5129,-66.1653,-65.813,-65.28, -64.9215,-64.5583,-64.1932,-63.8242, -63.4513,-63.0764,-62.6972,-62.314, -61.9279,-61.5388,-61.1444,-60.7467, -60.3453,-59.9402,-59.5311,-59.1173, -58.6992,-58.2773,-57.8507,-57.4198, -56.9847,-56.5447,-56.1011,-55.6521, -55.1982,-54.7396,-54.2762,-53.8068, -53.3325,-52.8532,-52.1239,-51.8779, -51.8629,-51.8553,-51.8444,-51.8267, -51.8069,-51.7867,-51.7355,-51.7334, -51.7328,-52.2205,-52.7018,-53.1781, -53.6494,-54.1159,-54.5766,-55.0325, -55.4837,-55.9301,-56.372,-56.8093, -57.2422,-57.6706,-58.0945,-58.5143, -58.9302,-59.3413,-59.748,-60.151, -60.5501,-60.9457,-61.3377,-61.7248, -62.1089,-62.49,-62.8668,-63.2396, -63.6104,-63.977,-64.3399,-64.7012, -65.0572,-65.5861,-66.281,-66.9642, -67.4683,-68.1312,-68.783,-69.5827, -70.2105,-70.8285,-70.9812,-70.9945)
FOOTPRINT_POINT_LONGITUDE = (309.95,311.477,313.065,314.619,314.666 ,314.78,315.115,315.366,315.661,315.887 ,316.106,316.313,316.461,316.555, 316.645,316.773,316.858,316.947,317.031 ,317.112,317.192,317.27,317.348,317.423 ,317.498,317.571,317.642,317.711, 317.776,317.843,317.907,317.969,318.03, 318.094,318.148,318.206,318.266,318.316 ,318.386,318.44,318.491,318.543,318.593 ,318.641,318.689,318.736,318.804, 318.826,318.828,318.196,317.565,316.801 ,316.128,315.544,314.332,314.287, 314.265,314.232,314.202,314.167,314.13, 314.091,314.05,314.009,313.965,313.919, 313.875,313.827,313.775,313.72,313.665, 313.609,313.554,313.483,313.418,313.354 ,313.285,313.212,313.136,313.063, 312.986,312.905,312.82,312.733,312.644, 312.552,312.458,312.361,312.262,312.098 ,311.876,311.652,311.474,311.219, 310.945,310.583,310.276,309.949,309.864 ,309.95)
ORBIT_NUMBER = 2614
ORBITAL_ECCENTRICITY = 0.571
ORBITAL_INCLINATION = 86.62
ORBITAL_SEMIMAJOR_AXIS = 8532.4
PERIAPSIS_ALTITUDE = 280.22
PERIAPSIS_ARGUMENT_ANGLE = 259.06
PERIAPSIS_TIME = 2006-01-24T15:11:37.000Z
SPACECRAFT_ORIENTATION = (0.0,-1.0,0.0)
^MEX_ORIENTATION_DESC = "MEX_ORIENTATION_DESC.TXT"
SPACECRAFT_POINTING_MODE = NADIR
^MEX_POINTING_DESC = "MEX_POINTING_DESC.TXT"
RIGHT_ASCENSION = -1e+32
DECLINATION = -1e+32
OFFSET_ANGLE = -1e+32
SPACECRAFT_SOLAR_DISTANCE = 2.33545e+08
TARGET_NAME = MARS
/* CAMERA DATA ELEMENTS */
DETECTOR_TEMPERATURE = 18.3705
FOCAL_PLANE_TEMPERATURE = 8.3794
INST_CMPRS_NAME = "DISCRETE COSINE TRANSFORMATION (DCT)"
INST_CMPRS_RATIO = 7.2516
INST_CMPRS_QUALITY = 0
INST_CMPRS_QUANTZ_TBL_ID = 0
INSTRUMENT_TEMPERATURE = 11.234
LENS_TEMPERATURE = 8.9911
MACROPIXEL_SIZE = 1
MISSING_FRAMES = 0
PIXEL_SUBSAMPLING_FLAG = N
SIGNAL_CHAIN_ID = 0
/* RADIOMETRIC DATA ELEMENTS */
BANDWIDTH = 177.0
CENTER_FILTER_WAVELENGTH = 677.5
RADIANCE_OFFSET = 0.936849
RADIANCE_SCALING_FACTOR = 0.0128587
REFLECTANCE_SCALING_FACTOR = 0.000372585
MEX:REFLECTANCE_OFFSET = 0.0271455
/* IMAGE OBJECT DEFINITIONS */
OBJECT = IMAGE
  INTERCHANGE_FORMAT = BINARY
  LINES = 92547
  LINE_SAMPLES = 19149
  SAMPLE_TYPE = UNSIGNED_INTEGER
  SAMPLE_BITS = 8
  BANDS = 1
  BAND_STORAGE_TYPE = BAND_SEQUENTIAL
  MAXIMUM = 255
  MEAN = 95.0763
  MINIMUM = 1
  STANDARD_DEVIATION = 44.5489
END_OBJECT = IMAGE
/* MAP OBJECT DEFINITIONS */
OBJECT = IMAGE_MAP_PROJECTION
  ^DATA_SET_MAP_PROJECTION_CATALOG= "DSMAP.CAT"
  A_AXIS_RADIUS = 3396.0
  B_AXIS_RADIUS = 3396.0
  C_AXIS_RADIUS = 3396.0
  CENTER_LATITUDE = 0.0
  CENTER_LONGITUDE = 315.0
  COORDINATE_SYSTEM_NAME = PLANETOGRAPHIC
  COORDINATE_SYSTEM_TYPE = "BODY-FIXED ROTATING"
  EASTERNMOST_LONGITUDE = 318.828
  FIRST_STANDARD_PARALLEL = "N/A"
  LINE_FIRST_PIXEL = 1
  LINE_LAST_PIXEL = 92547
  LINE_PROJECTION_OFFSET = -245302.0
  MAP_PROJECTION_ROTATION = 0.0
  MAP_PROJECTION_TYPE = SINUSOIDAL
  MAP_RESOLUTION = 4741.71043093333
  MAP_SCALE = 0.0125
  MAXIMUM_LATITUDE = -51.7328
  MINIMUM_LATITUDE = -71.2499
  POSITIVE_LONGITUDE_DIRECTION = EAST
  REFERENCE_LATITUDE = "N/A"
  REFERENCE_LONGITUDE = "N/A"
  SAMPLE_FIRST_PIXEL = 1
  SAMPLE_LAST_PIXEL = 19149
  SAMPLE_PROJECTION_OFFSET = 7940.0
  SECOND_STANDARD_PARALLEL = "N/A"
  WESTERNMOST_LONGITUDE = 309.864
END_OBJECT = IMAGE_MAP_PROJECTION
END
