PDS_VERSION_ID = PDS3
/* FILE DATA ELEMENTS */
RECORD_TYPE = UNDEFINED
/* POINTERS TO DATA OBJECTS */
^IMAGE = ("H2614_0000_P24.TIF")
/* IDENTIFICATION DATA ELEMENTS */
DATA_SET_ID = "MEX-M-HRSC-4-REFDR-MAPPROJECT-EXT1-V4.0"
DATA_SET_NAME = "MARS EXPRESS HRSC MAP PROJECTED REFDR EXTENSION1 V4.0"
DETECTOR_ID = MEX_HRSC_P2
EVENT_TYPE = "MARS-REGIONAL-MAPPING-Im-Fl-Gl"
INSTRUMENT_HOST_ID = MEX
INSTRUMENT_HOST_NAME = "MARS EXPRESS"
INSTRUMENT_ID = HRSC
INSTRUMENT_NAME = "HIGH RESOLUTION STEREO CAMERA"
MISSION_NAME = "MARS EXPRESS"
MISSION_PHASE_NAME = ME_Phase_2
PROCESSING_LEVEL_ID = 4
PRODUCT_CREATION_TIME = 2023-02-08T07:05:14.000Z
PRODUCT_ID = "H2614_0000_P24.TIF"
RELEASE_ID = 0001
REVISION_ID = 0000
/* QUALITY DATA ELEMENTS */
DATA_QUALITY_ID = 1
DATA_QUALITY_DESC = "Data calculated based on original SPICE kernels"
/* TIME DATA ELEMENTS */
SPACECRAFT_CLOCK_START_COUNT = "1/0086195905.07276"
SPACECRAFT_CLOCK_STOP_COUNT = "1/0086196408.12055"
START_TIME = 2006-01-24T15:19:42.988Z
STOP_TIME = 2006-01-24T15:26:07.179Z
/* ORBITAL DATA ELEMENTS */
ASCENDING_NODE_LONGITUDE = 173.43
MAXIMUM_RESOLUTION = 0.04
FOOTPRINT_POINT_LATITUDE = (-70.9252,-71.031,-71.1054,-71.1791, -71.181,-71.2521,-70.6261,-69.9911, -69.1799,-68.5231,-67.8568,-67.3537, -66.8391,-66.1406,-65.7885,-65.4262, -65.0611,-64.7048,-64.3411,-63.9722, -63.5992,-63.2238,-62.8468,-62.4663, -62.0819,-61.6946,-61.3032,-60.9075, -60.507,-60.1032,-59.6958,-59.2813, -58.8679,-58.4516,-58.0182,-57.5981, -57.1656,-56.7101,-56.2991,-55.8581, -55.1811,-54.7253,-54.2642,-53.7984, -53.3273,-52.8515,-52.1279,-51.884, -51.8789,-51.8712,-51.8532,-51.8246, -51.8002,-51.7671,-51.7653,-51.7655, -52.2505,-52.7245,-53.1958,-53.6633, -54.1258,-54.5845,-55.0358,-55.4835, -55.9265,-56.3646,-56.7943,-57.226, -57.6517,-58.0736,-58.4897,-59.1081, -59.5179,-59.922,-60.5182,-60.9141, -61.3073,-61.6926,-62.0747,-62.4551, -62.833,-63.2085,-63.5787,-63.9451, -64.31,-64.671,-65.0272,-65.3896, -65.7419,-66.0906,-66.7785,-67.2792, -67.9488,-68.6063,-69.2537,-69.7343, -70.3635,-70.8278,-70.9828,-70.9252)
FOOTPRINT_POINT_LONGITUDE = (309.862,311.643,313.099,314.812, 314.861,314.947,315.219,315.478,315.781 ,316.012,316.234,316.397,316.55,316.744 ,316.839,316.925,317.011,317.104, 317.191,317.275,317.357,317.438,317.518 ,317.596,317.674,317.75,317.824,317.896 ,317.966,318.035,318.103,318.167, 318.233,318.3,318.355,318.422,318.481, 318.527,318.607,318.668,318.751,318.806 ,318.861,318.913,318.966,319.017, 319.092,319.117,319.117,318.279,317.099 ,315.87,315.036,314.102,314.053,314.035 ,314.006,313.979,313.949,313.916,313.88 ,313.843,313.805,313.765,313.722, 313.679,313.637,313.586,313.535,313.483 ,313.429,313.343,313.28,313.217,313.122 ,313.051,312.977,312.905,312.831, 312.752,312.67,312.584,312.496,312.407, 312.313,312.218,312.121,312.007,311.902 ,311.793,311.569,311.404,311.151, 310.885,310.602,310.376,310.063,309.817 ,309.732,309.862)
ORBIT_NUMBER = 2614
ORBITAL_ECCENTRICITY = 0.571
ORBITAL_INCLINATION = 86.62
ORBITAL_SEMIMAJOR_AXIS = 8532.4
PERIAPSIS_ALTITUDE = 280.22
PERIAPSIS_ARGUMENT_ANGLE = 259.06
PERIAPSIS_TIME = 2006-01-24T15:11:37.000Z
SPACECRAFT_ORIENTATION = (0.0,-1.0,0.0)
^MEX_ORIENTATION_DESC = "MEX_ORIENTATION_DESC.TXT"
SPACECRAFT_POINTING_MODE = NADIR
^MEX_POINTING_DESC = "MEX_POINTING_DESC.TXT"
RIGHT_ASCENSION = -1e+32
DECLINATION = -1e+32
OFFSET_ANGLE = -1e+32
SPACECRAFT_SOLAR_DISTANCE = 2.33545e+08
TARGET_NAME = MARS
/* CAMERA DATA ELEMENTS */
DETECTOR_TEMPERATURE = 18.7783
FOCAL_PLANE_TEMPERATURE = 8.3794
INST_CMPRS_NAME = "DISCRETE COSINE TRANSFORMATION (DCT)"
INST_CMPRS_RATIO = 11.5292
INST_CMPRS_QUALITY = 0
INST_CMPRS_QUANTZ_TBL_ID = 0
INSTRUMENT_TEMPERATURE = 11.234
LENS_TEMPERATURE = 8.9911
MACROPIXEL_SIZE = 2
MISSING_FRAMES = 0
PIXEL_SUBSAMPLING_FLAG = N
SIGNAL_CHAIN_ID = 3
/* RADIOMETRIC DATA ELEMENTS */
BANDWIDTH = 177.0
CENTER_FILTER_WAVELENGTH = 676.5
RADIANCE_OFFSET = 1.11188
RADIANCE_SCALING_FACTOR = 0.0133852
REFLECTANCE_SCALING_FACTOR = 0.000387102
MEX:REFLECTANCE_OFFSET = 0.0321558
/* IMAGE OBJECT DEFINITIONS */
OBJECT = IMAGE
  INTERCHANGE_FORMAT = BINARY
  LINES = 46274
  LINE_SAMPLES = 9575
  SAMPLE_TYPE = UNSIGNED_INTEGER
  SAMPLE_BITS = 8
  BANDS = 1
  BAND_STORAGE_TYPE = BAND_SEQUENTIAL
  MAXIMUM = 255
  MEAN = 91.3368
  MINIMUM = 1
  STANDARD_DEVIATION = 43.2253
END_OBJECT = IMAGE
/* MAP OBJECT DEFINITIONS */
OBJECT = IMAGE_MAP_PROJECTION
  ^DATA_SET_MAP_PROJECTION_CATALOG= "DSMAP.CAT"
  A_AXIS_RADIUS = 3396.0
  B_AXIS_RADIUS = 3396.0
  C_AXIS_RADIUS = 3396.0
  CENTER_LATITUDE = 0.0
  CENTER_LONGITUDE = 315.0
  COORDINATE_SYSTEM_NAME = PLANETOGRAPHIC
  COORDINATE_SYSTEM_TYPE = "BODY-FIXED ROTATING"
  EASTERNMOST_LONGITUDE = 319.117
  FIRST_STANDARD_PARALLEL = "N/A"
  LINE_FIRST_PIXEL = 1
  LINE_LAST_PIXEL = 46274
  LINE_PROJECTION_OFFSET = -122651.25
  MAP_PROJECTION_ROTATION = 0.0
  MAP_PROJECTION_TYPE = SINUSOIDAL
  MAP_RESOLUTION = 2370.85521546667
  MAP_SCALE = 0.025
  MAXIMUM_LATITUDE = -51.7653
  MINIMUM_LATITUDE = -71.2521
  POSITIVE_LONGITUDE_DIRECTION = EAST
  REFERENCE_LATITUDE = "N/A"
  REFERENCE_LONGITUDE = "N/A"
  SAMPLE_FIRST_PIXEL = 1
  SAMPLE_LAST_PIXEL = 9575
  SAMPLE_PROJECTION_OFFSET = 3969.75
  SECOND_STANDARD_PARALLEL = "N/A"
  WESTERNMOST_LONGITUDE = 309.732
END_OBJECT = IMAGE_MAP_PROJECTION
END
