PDS_VERSION_ID = PDS3
/* FILE DATA ELEMENTS */
RECORD_TYPE = UNDEFINED
/* POINTERS TO DATA OBJECTS */
^IMAGE = ("H2619_0000_S14.TIF")
/* IDENTIFICATION DATA ELEMENTS */
DATA_SET_ID = "MEX-M-HRSC-4-REFDR-MAPPROJECT-EXT1-V4.0"
DATA_SET_NAME = "MARS EXPRESS HRSC MAP PROJECTED REFDR EXTENSION1 V4.0"
DETECTOR_ID = MEX_HRSC_S1
EVENT_TYPE = "MARS-REGIONAL-MAPPING-Im-Fl-Eo"
INSTRUMENT_HOST_ID = MEX
INSTRUMENT_HOST_NAME = "MARS EXPRESS"
INSTRUMENT_ID = HRSC
INSTRUMENT_NAME = "HIGH RESOLUTION STEREO CAMERA"
MISSION_NAME = "MARS EXPRESS"
MISSION_PHASE_NAME = ME_Phase_2
PROCESSING_LEVEL_ID = 4
PRODUCT_CREATION_TIME = 2023-02-08T07:05:14.000Z
PRODUCT_ID = "H2619_0000_S14.TIF"
RELEASE_ID = 0001
REVISION_ID = 0000
/* QUALITY DATA ELEMENTS */
DATA_QUALITY_ID = 1
DATA_QUALITY_DESC = "Data calculated based on original SPICE kernels"
/* TIME DATA ELEMENTS */
SPACECRAFT_CLOCK_START_COUNT = "1/0086316961.07584"
SPACECRAFT_CLOCK_STOP_COUNT = "1/0086317575.34655"
START_TIME = 2006-01-26T00:56:06.907Z
STOP_TIME = 2006-01-26T01:02:30.052Z
/* ORBITAL DATA ELEMENTS */
ASCENDING_NODE_LONGITUDE = 173.32
MAXIMUM_RESOLUTION = 0.0428
FOOTPRINT_POINT_LATITUDE = (-70.3789,-70.4804,-70.5518,-70.6108, -70.6124,-70.6934,-69.8997,-69.0983, -68.2903,-67.4671,-66.6319,-65.5744, -64.9317,-64.0629,-63.4019,-62.9608, -62.5074,-62.0538,-61.5973,-61.1369, -60.6721,-60.2044,-59.731,-59.2541, -58.7722,-58.286,-57.7947,-57.2991, -56.798,-56.2919,-55.7806,-55.2631, -54.74,-54.2113,-53.6768,-53.1362, -52.5892,-52.0361,-51.4763,-50.9094, -50.3351,-49.7532,-49.164,-48.5676, -47.9636,-47.3503,-46.7174,-46.4035, -46.3628,-46.3556,-46.3312,-46.2885, -46.2353,-46.2332,-46.2337,-47.1784, -47.7915,-48.395,-48.9898,-49.5778, -50.1586,-50.7321,-51.2982,-51.8571, -52.4093,-52.9553,-53.4948,-54.0281, -54.5556,-55.0775,-55.5938,-56.1037, -56.6083,-57.1082,-57.603,-58.0933, -58.5786,-59.0592,-59.5348,-60.007, -60.4737,-60.9362,-61.3949,-61.8486, -62.2982,-62.7454,-63.1877,-63.6279, -64.064,-64.4962,-65.1403,-65.7762, -66.4008,-67.2289,-67.8403,-68.4475, -69.4432,-70.2297,-70.4236,-70.3789)
FOOTPRINT_POINT_LONGITUDE = (177.212,179.097,180.68,182.259,182.308 ,182.331,182.667,182.979,183.27,183.54, 183.793,184.087,184.253,184.462,184.61, 184.707,184.798,184.887,184.975,185.06, 185.141,185.222,185.3,185.376,185.45, 185.522,185.592,185.661,185.727,185.791 ,185.855,185.916,185.975,186.033,186.09 ,186.144,186.197,186.25,186.301,186.352 ,186.401,186.449,186.495,186.54,186.584 ,186.628,186.671,186.692,186.695, 186.055,184.899,183.523,182.313,182.27, 182.254,182.207,182.175,182.14,182.1, 182.06,182.017,181.972,181.926,181.878, 181.826,181.772,181.717,181.658,181.599 ,181.534,181.467,181.399,181.328, 181.255,181.177,181.097,181.013,180.926 ,180.837,180.744,180.648,180.549, 180.447,180.342,180.233,180.121,180.002 ,179.878,179.75,179.618,179.407,179.188 ,178.964,178.632,178.371,178.092, 177.594,177.157,177.043,177.212)
ORBIT_NUMBER = 2619
ORBITAL_ECCENTRICITY = 0.571
ORBITAL_INCLINATION = 86.61
ORBITAL_SEMIMAJOR_AXIS = 8533.56
PERIAPSIS_ALTITUDE = 280.45
PERIAPSIS_ARGUMENT_ANGLE = 258.17
PERIAPSIS_TIME = 2006-01-26T00:47:29.000Z
SPACECRAFT_ORIENTATION = (0.0,-1.0,0.0)
^MEX_ORIENTATION_DESC = "MEX_ORIENTATION_DESC.TXT"
SPACECRAFT_POINTING_MODE = INERT
^MEX_POINTING_DESC = "MEX_POINTING_DESC.TXT"
RIGHT_ASCENSION = 298.852
DECLINATION = 49.36
OFFSET_ANGLE = -1e+32
SPACECRAFT_SOLAR_DISTANCE = 2.33801e+08
TARGET_NAME = MARS
/* CAMERA DATA ELEMENTS */
DETECTOR_TEMPERATURE = 17.5549
FOCAL_PLANE_TEMPERATURE = 8.7872
INST_CMPRS_NAME = "DISCRETE COSINE TRANSFORMATION (DCT)"
INST_CMPRS_RATIO = 11.5142
INST_CMPRS_QUALITY = 0
INST_CMPRS_QUANTZ_TBL_ID = 0
INSTRUMENT_TEMPERATURE = 11.4379
LENS_TEMPERATURE = 9.195
MACROPIXEL_SIZE = 2
MISSING_FRAMES = 1
PIXEL_SUBSAMPLING_FLAG = N
SIGNAL_CHAIN_ID = 1
/* RADIOMETRIC DATA ELEMENTS */
BANDWIDTH = 180.0
CENTER_FILTER_WAVELENGTH = 677.0
RADIANCE_OFFSET = 1.01994
RADIANCE_SCALING_FACTOR = 0.0151103
REFLECTANCE_SCALING_FACTOR = 0.000430935
MEX:REFLECTANCE_OFFSET = 0.0290881
/* IMAGE OBJECT DEFINITIONS */
OBJECT = IMAGE
  INTERCHANGE_FORMAT = BINARY
  LINES = 28955
  LINE_SAMPLES = 6125
  SAMPLE_TYPE = UNSIGNED_INTEGER
  SAMPLE_BITS = 8
  BANDS = 1
  BAND_STORAGE_TYPE = BAND_SEQUENTIAL
  MAXIMUM = 255
  MEAN = 89.5232
  MINIMUM = 1
  STANDARD_DEVIATION = 42.3292
END_OBJECT = IMAGE
/* MAP OBJECT DEFINITIONS */
OBJECT = IMAGE_MAP_PROJECTION
  ^DATA_SET_MAP_PROJECTION_CATALOG= "DSMAP.CAT"
  A_AXIS_RADIUS = 3396.0
  B_AXIS_RADIUS = 3396.0
  C_AXIS_RADIUS = 3396.0
  CENTER_LATITUDE = 0.0
  CENTER_LONGITUDE = 183.0
  COORDINATE_SYSTEM_NAME = PLANETOGRAPHIC
  COORDINATE_SYSTEM_TYPE = "BODY-FIXED ROTATING"
  EASTERNMOST_LONGITUDE = 186.695
  FIRST_STANDARD_PARALLEL = "N/A"
  LINE_FIRST_PIXEL = 1
  LINE_LAST_PIXEL = 28955
  LINE_PROJECTION_OFFSET = -54825.25
  MAP_PROJECTION_ROTATION = 0.0
  MAP_PROJECTION_TYPE = SINUSOIDAL
  MAP_RESOLUTION = 1185.42760773333
  MAP_SCALE = 0.05
  MAXIMUM_LATITUDE = -46.2332
  MINIMUM_LATITUDE = -70.6934
  POSITIVE_LONGITUDE_DIRECTION = EAST
  REFERENCE_LATITUDE = "N/A"
  REFERENCE_LONGITUDE = "N/A"
  SAMPLE_FIRST_PIXEL = 1
  SAMPLE_LAST_PIXEL = 6125
  SAMPLE_PROJECTION_OFFSET = 2692.25
  SECOND_STANDARD_PARALLEL = "N/A"
  WESTERNMOST_LONGITUDE = 177.043
END_OBJECT = IMAGE_MAP_PROJECTION
END
