PDS_VERSION_ID = PDS3
/* FILE DATA ELEMENTS */
RECORD_TYPE = UNDEFINED
/* POINTERS TO DATA OBJECTS */
^IMAGE = ("H2622_0000_IR4.TIF")
/* IDENTIFICATION DATA ELEMENTS */
DATA_SET_ID = "MEX-M-HRSC-4-REFDR-MAPPROJECT-EXT1-V4.0"
DATA_SET_NAME = "MARS EXPRESS HRSC MAP PROJECTED REFDR EXTENSION1 V4.0"
DETECTOR_ID = MEX_HRSC_IR
EVENT_TYPE = "MARS-REGIONAL-MAPPING-Im-Eo"
INSTRUMENT_HOST_ID = MEX
INSTRUMENT_HOST_NAME = "MARS EXPRESS"
INSTRUMENT_ID = HRSC
INSTRUMENT_NAME = "HIGH RESOLUTION STEREO CAMERA"
MISSION_NAME = "MARS EXPRESS"
MISSION_PHASE_NAME = ME_Phase_2
PROCESSING_LEVEL_ID = 4
PRODUCT_CREATION_TIME = 2023-02-08T07:05:14.000Z
PRODUCT_ID = "H2622_0000_IR4.TIF"
RELEASE_ID = 0001
REVISION_ID = 0000
/* QUALITY DATA ELEMENTS */
DATA_QUALITY_ID = 1
DATA_QUALITY_DESC = "Data calculated based on original SPICE kernels"
/* TIME DATA ELEMENTS */
SPACECRAFT_CLOCK_START_COUNT = "1/0086389497.07283"
SPACECRAFT_CLOCK_STOP_COUNT = "1/0086389832.00021"
START_TIME = 2006-01-26T21:05:10.700Z
STOP_TIME = 2006-01-26T21:08:04.421Z
/* ORBITAL DATA ELEMENTS */
ASCENDING_NODE_LONGITUDE = 173.27
MAXIMUM_RESOLUTION = 0.0813
FOOTPRINT_POINT_LATITUDE = (-68.0315,-68.0714,-68.1301,-68.176, -68.2076,-68.2591,-68.2606,-68.1901, -67.8167,-67.4378,-67.1531,-66.7678, -66.3806,-65.9884,-65.493,-65.2929, -64.9925,-64.7899,-64.5852,-64.3812, -64.0719,-63.865,-63.6593,-63.449, -63.2383,-63.028,-62.8143,-62.493, -62.2794,-62.0622,-61.736,-61.5157, -61.2957,-61.0671,-60.7304,-60.5112, -60.2849,-60.0579,-59.8286,-59.598, -59.2482,-59.0152,-58.7799,-58.5446, -58.307,-58.0641,-57.819,-57.5755, -57.4546,-57.4433,-57.4309,-57.4187, -57.4008,-57.3741,-57.354,-57.3149, -57.2805,-57.2781,-57.2789,-57.5205, -57.7635,-58.0038,-58.356,-58.5904, -58.9412,-59.1721,-59.4012,-59.7404, -59.9705,-60.1949,-60.4215,-60.6438, -60.8664,-61.1976,-61.4175,-61.6363, -61.8526,-62.0685,-62.2832,-62.4955, -62.8149,-63.1291,-63.3387,-63.5466, -63.7525,-63.959,-64.164,-64.3667, -64.5694,-64.7716,-65.1693,-65.5649, -65.9563,-66.3449,-66.7309,-67.107, -67.3841,-67.8479,-67.9404,-68.0315)
FOOTPRINT_POINT_LONGITUDE = (245.189,245.798,246.777,247.638, 248.296,249.536,249.577,249.68,249.798, 249.913,249.997,250.107,250.214,250.317 ,250.444,250.493,250.566,250.613, 250.661,250.708,250.776,250.821,250.864 ,250.907,250.951,250.993,251.036, 251.099,251.138,251.178,251.237,251.277 ,251.315,251.359,251.416,251.448, 251.484,251.52,251.555,251.591,251.644, 251.678,251.712,251.744,251.777,251.812 ,251.848,251.881,251.896,251.897, 251.266,250.592,250.121,249.494,249.063 ,248.319,247.733,247.694,247.681, 247.649,247.618,247.587,247.534,247.5, 247.447,247.41,247.373,247.315,247.278, 247.238,247.198,247.158,247.117,247.054 ,247.011,246.967,246.923,246.878, 246.832,246.785,246.713,246.64,246.59, 246.539,246.488,246.435,246.382,246.328 ,246.273,246.217,246.102,245.984, 245.862,245.737,245.608,245.473,245.366 ,245.188,245.152,245.189)
ORBIT_NUMBER = 2622
ORBITAL_ECCENTRICITY = 0.571
ORBITAL_INCLINATION = 86.62
ORBITAL_SEMIMAJOR_AXIS = 8534.1
PERIAPSIS_ALTITUDE = 279.98
PERIAPSIS_ARGUMENT_ANGLE = 257.64
PERIAPSIS_TIME = 2006-01-26T20:57:01.000Z
SPACECRAFT_ORIENTATION = (0.0,-1.0,0.0)
^MEX_ORIENTATION_DESC = "MEX_ORIENTATION_DESC.TXT"
SPACECRAFT_POINTING_MODE = NADIR
^MEX_POINTING_DESC = "MEX_POINTING_DESC.TXT"
RIGHT_ASCENSION = -1e+32
DECLINATION = -1e+32
OFFSET_ANGLE = -1e+32
SPACECRAFT_SOLAR_DISTANCE = 2.33954e+08
TARGET_NAME = MARS
/* CAMERA DATA ELEMENTS */
DETECTOR_TEMPERATURE = 17.7588
FOCAL_PLANE_TEMPERATURE = 8.5833
INST_CMPRS_NAME = "DISCRETE COSINE TRANSFORMATION (DCT)"
INST_CMPRS_RATIO = 18.675
INST_CMPRS_QUALITY = 0
INST_CMPRS_QUANTZ_TBL_ID = 0
INSTRUMENT_TEMPERATURE = 11.234
LENS_TEMPERATURE = 9.195
MACROPIXEL_SIZE = 4
MISSING_FRAMES = 0
PIXEL_SUBSAMPLING_FLAG = N
SIGNAL_CHAIN_ID = 2
/* RADIOMETRIC DATA ELEMENTS */
BANDWIDTH = 81.0
CENTER_FILTER_WAVELENGTH = 955.5
RADIANCE_OFFSET = 0.236266
RADIANCE_SCALING_FACTOR = 0.00216191
REFLECTANCE_SCALING_FACTOR = 0.000255289
MEX:REFLECTANCE_OFFSET = 0.0278995
/* IMAGE OBJECT DEFINITIONS */
OBJECT = IMAGE
  INTERCHANGE_FORMAT = BINARY
  LINES = 6470
  LINE_SAMPLES = 1878
  SAMPLE_TYPE = UNSIGNED_INTEGER
  SAMPLE_BITS = 8
  BANDS = 1
  BAND_STORAGE_TYPE = BAND_SEQUENTIAL
  MAXIMUM = 255
  MEAN = 78.4764
  MINIMUM = 1
  STANDARD_DEVIATION = 23.7289
END_OBJECT = IMAGE
/* MAP OBJECT DEFINITIONS */
OBJECT = IMAGE_MAP_PROJECTION
  ^DATA_SET_MAP_PROJECTION_CATALOG= "DSMAP.CAT"
  A_AXIS_RADIUS = 3396.0
  B_AXIS_RADIUS = 3396.0
  C_AXIS_RADIUS = 3396.0
  CENTER_LATITUDE = 0.0
  CENTER_LONGITUDE = 249.0
  COORDINATE_SYSTEM_NAME = PLANETOGRAPHIC
  COORDINATE_SYSTEM_TYPE = "BODY-FIXED ROTATING"
  EASTERNMOST_LONGITUDE = 251.897
  FIRST_STANDARD_PARALLEL = "N/A"
  LINE_FIRST_PIXEL = 1
  LINE_LAST_PIXEL = 6470
  LINE_PROJECTION_OFFSET = -33952.125
  MAP_PROJECTION_ROTATION = 0.0
  MAP_PROJECTION_TYPE = SINUSOIDAL
  MAP_RESOLUTION = 592.713803866667
  MAP_SCALE = 0.1
  MAXIMUM_LATITUDE = -57.2781
  MINIMUM_LATITUDE = -68.2606
  POSITIVE_LONGITUDE_DIRECTION = EAST
  REFERENCE_LATITUDE = "N/A"
  REFERENCE_LONGITUDE = "N/A"
  SAMPLE_FIRST_PIXEL = 1
  SAMPLE_LAST_PIXEL = 1878
  SAMPLE_PROJECTION_OFFSET = 894.375
  SECOND_STANDARD_PARALLEL = "N/A"
  WESTERNMOST_LONGITUDE = 245.152
END_OBJECT = IMAGE_MAP_PROJECTION
END
