PDS_VERSION_ID = PDS3
/* FILE DATA ELEMENTS */
RECORD_TYPE = UNDEFINED
/* POINTERS TO DATA OBJECTS */
^IMAGE = ("H2627_0001_P14.TIF")
/* IDENTIFICATION DATA ELEMENTS */
DATA_SET_ID = "MEX-M-HRSC-4-REFDR-MAPPROJECT-EXT1-V4.0"
DATA_SET_NAME = "MARS EXPRESS HRSC MAP PROJECTED REFDR EXTENSION1 V4.0"
DETECTOR_ID = MEX_HRSC_P1
EVENT_TYPE = "MARS-REGIONAL-MAPPING-Im-Fl-Eo"
INSTRUMENT_HOST_ID = MEX
INSTRUMENT_HOST_NAME = "MARS EXPRESS"
INSTRUMENT_ID = HRSC
INSTRUMENT_NAME = "HIGH RESOLUTION STEREO CAMERA"
MISSION_NAME = "MARS EXPRESS"
MISSION_PHASE_NAME = ME_Phase_2
PROCESSING_LEVEL_ID = 4
PRODUCT_CREATION_TIME = 2023-02-08T07:05:14.000Z
PRODUCT_ID = "H2627_0001_P14.TIF"
RELEASE_ID = 0001
REVISION_ID = 0000
/* QUALITY DATA ELEMENTS */
DATA_QUALITY_ID = 1
DATA_QUALITY_DESC = "Data calculated based on original SPICE kernels"
/* TIME DATA ELEMENTS */
SPACECRAFT_CLOCK_START_COUNT = "1/0086510618.09336"
SPACECRAFT_CLOCK_STOP_COUNT = "1/0086511285.26787"
START_TIME = 2006-01-28T06:44:05.519Z
STOP_TIME = 2006-01-28T06:49:34.937Z
/* ORBITAL DATA ELEMENTS */
ASCENDING_NODE_LONGITUDE = 173.16
MAXIMUM_RESOLUTION = 0.0537
FOOTPRINT_POINT_LATITUDE = (-58.6062,-58.6718,-58.7077,-58.7547, -58.7868,-58.7878,-58.741,-58.2969, -57.6972,-57.0897,-56.3163,-55.8452, -55.2097,-54.5652,-54.2399,-53.9114, -53.5804,-53.2478,-52.9118,-52.5739, -52.2306,-51.8846,-51.361,-51.0093, -50.6548,-50.2979,-49.7566,-49.3948, -49.0277,-48.6586,-48.2801,-47.9057, -47.5264,-47.1441,-46.7507,-46.1615, -45.7706,-45.37,-44.9683,-44.5614, -43.943,-43.5276,-43.108,-42.6851, -42.2585,-41.8271,-41.3927,-40.9507, -40.7363,-40.654,-40.6605,-40.6599, -40.6534,-40.6413,-40.6197,-40.5859, -40.5839,-40.5844,-41.2403,-41.6718, -42.3131,-42.7354,-43.1547,-43.5748, -43.9849,-44.3915,-44.792,-45.1937, -45.7864,-46.178,-46.5665,-46.9512, -47.3347,-47.7157,-48.0929,-48.463, -48.8302,-49.1962,-49.5593,-49.9186, -50.2758,-50.6304,-50.9822,-51.3311, -51.6777,-52.0203,-52.3606,-52.697, -53.1992,-53.5305,-54.0281,-54.5126, -54.991,-55.7809,-56.5546,-57.165, -57.7663,-58.3613,-58.5068,-58.6062)
FOOTPRINT_POINT_LONGITUDE = (116.032,117.197,117.947,119.158,120.29 ,120.332,120.393,120.455,120.535, 120.613,120.707,120.762,120.833,120.9, 120.933,120.965,120.996,121.027,121.057 ,121.087,121.117,121.148,121.192,121.22 ,121.248,121.274,121.314,121.337, 121.362,121.386,121.413,121.435,121.457 ,121.479,121.506,121.54,121.559,121.58, 121.6,121.62,121.65,121.669,121.688, 121.705,121.723,121.74,121.756,121.774, 121.777,121.781,121.124,120.324,119.385 ,118.775,117.929,116.988,116.941, 116.924,116.933,116.938,116.942,116.944 ,116.945,116.948,116.946,116.942, 116.937,116.933,116.924,116.917,116.909 ,116.899,116.89,116.88,116.87,116.855, 116.84,116.826,116.81,116.793,116.775, 116.757,116.737,116.717,116.696,116.673 ,116.65,116.625,116.587,116.561,116.523 ,116.478,116.431,116.35,116.263,116.189 ,116.111,116.031,116.01,116.032)
ORBIT_NUMBER = 2627
ORBITAL_ECCENTRICITY = 0.571
ORBITAL_INCLINATION = 86.61
ORBITAL_SEMIMAJOR_AXIS = 8533.13
PERIAPSIS_ALTITUDE = 280.83
PERIAPSIS_ARGUMENT_ANGLE = 256.77
PERIAPSIS_TIME = 2006-01-28T06:32:58.000Z
SPACECRAFT_ORIENTATION = (0.0,-1.0,0.0)
^MEX_ORIENTATION_DESC = "MEX_ORIENTATION_DESC.TXT"
SPACECRAFT_POINTING_MODE = NADIR
^MEX_POINTING_DESC = "MEX_POINTING_DESC.TXT"
RIGHT_ASCENSION = -1e+32
DECLINATION = -1e+32
OFFSET_ANGLE = -1e+32
SPACECRAFT_SOLAR_DISTANCE = 2.34209e+08
TARGET_NAME = MARS
/* CAMERA DATA ELEMENTS */
DETECTOR_TEMPERATURE = 18.7783
FOCAL_PLANE_TEMPERATURE = 8.5833
INST_CMPRS_NAME = "DISCRETE COSINE TRANSFORMATION (DCT)"
INST_CMPRS_RATIO = 8.88118
INST_CMPRS_QUALITY = 0
INST_CMPRS_QUANTZ_TBL_ID = 0
INSTRUMENT_TEMPERATURE = 12.4574
LENS_TEMPERATURE = 8.7872
MACROPIXEL_SIZE = 2
MISSING_FRAMES = 0
PIXEL_SUBSAMPLING_FLAG = N
SIGNAL_CHAIN_ID = 3
/* RADIOMETRIC DATA ELEMENTS */
BANDWIDTH = 174.0
CENTER_FILTER_WAVELENGTH = 675.0
RADIANCE_OFFSET = 1.38236
RADIANCE_SCALING_FACTOR = 0.018926
REFLECTANCE_SCALING_FACTOR = 0.000558413
MEX:REFLECTANCE_OFFSET = 0.0407866
/* IMAGE OBJECT DEFINITIONS */
OBJECT = IMAGE
  INTERCHANGE_FORMAT = BINARY
  LINES = 21471
  LINE_SAMPLES = 4865
  SAMPLE_TYPE = UNSIGNED_INTEGER
  SAMPLE_BITS = 8
  BANDS = 1
  BAND_STORAGE_TYPE = BAND_SEQUENTIAL
  MAXIMUM = 255
  MEAN = 89.5339
  MINIMUM = 1
  STANDARD_DEVIATION = 31.6867
END_OBJECT = IMAGE
/* MAP OBJECT DEFINITIONS */
OBJECT = IMAGE_MAP_PROJECTION
  ^DATA_SET_MAP_PROJECTION_CATALOG= "DSMAP.CAT"
  A_AXIS_RADIUS = 3396.0
  B_AXIS_RADIUS = 3396.0
  C_AXIS_RADIUS = 3396.0
  CENTER_LATITUDE = 0.0
  CENTER_LONGITUDE = 119.0
  COORDINATE_SYSTEM_NAME = PLANETOGRAPHIC
  COORDINATE_SYSTEM_TYPE = "BODY-FIXED ROTATING"
  EASTERNMOST_LONGITUDE = 121.781
  FIRST_STANDARD_PARALLEL = "N/A"
  LINE_FIRST_PIXEL = 1
  LINE_LAST_PIXEL = 21471
  LINE_PROJECTION_OFFSET = -48135.75
  MAP_PROJECTION_ROTATION = 0.0
  MAP_PROJECTION_TYPE = SINUSOIDAL
  MAP_RESOLUTION = 1185.42760773333
  MAP_SCALE = 0.05
  MAXIMUM_LATITUDE = -40.5839
  MINIMUM_LATITUDE = -58.7878
  POSITIVE_LONGITUDE_DIRECTION = EAST
  REFERENCE_LATITUDE = "N/A"
  REFERENCE_LONGITUDE = "N/A"
  SAMPLE_FIRST_PIXEL = 1
  SAMPLE_LAST_PIXEL = 4865
  SAMPLE_PROJECTION_OFFSET = 2140.75
  SECOND_STANDARD_PARALLEL = "N/A"
  WESTERNMOST_LONGITUDE = 116.01
END_OBJECT = IMAGE_MAP_PROJECTION
END
