PDS_VERSION_ID = PDS3
/* FILE DATA ELEMENTS */
RECORD_TYPE = UNDEFINED
/* POINTERS TO DATA OBJECTS */
^IMAGE = ("H2628_0001_S14.TIF")
/* IDENTIFICATION DATA ELEMENTS */
DATA_SET_ID = "MEX-M-HRSC-4-REFDR-MAPPROJECT-EXT1-V4.0"
DATA_SET_NAME = "MARS EXPRESS HRSC MAP PROJECTED REFDR EXTENSION1 V4.0"
DETECTOR_ID = MEX_HRSC_S1
EVENT_TYPE = "MARS-REGIONAL-MAPPING-Vo-Im-Eo"
INSTRUMENT_HOST_ID = MEX
INSTRUMENT_HOST_NAME = "MARS EXPRESS"
INSTRUMENT_ID = HRSC
INSTRUMENT_NAME = "HIGH RESOLUTION STEREO CAMERA"
MISSION_NAME = "MARS EXPRESS"
MISSION_PHASE_NAME = ME_Phase_2
PROCESSING_LEVEL_ID = 4
PRODUCT_CREATION_TIME = 2023-02-08T07:05:14.000Z
PRODUCT_ID = "H2628_0001_S14.TIF"
RELEASE_ID = 0001
REVISION_ID = 0000
/* QUALITY DATA ELEMENTS */
DATA_QUALITY_ID = 1
DATA_QUALITY_DESC = "Data calculated based on original SPICE kernels"
/* TIME DATA ELEMENTS */
SPACECRAFT_CLOCK_START_COUNT = "1/0086534704.08258"
SPACECRAFT_CLOCK_STOP_COUNT = "1/0086535345.28675"
START_TIME = 2006-01-28T13:25:09.913Z
STOP_TIME = 2006-01-28T13:30:53.706Z
/* ORBITAL DATA ELEMENTS */
ASCENDING_NODE_LONGITUDE = 173.14
MAXIMUM_RESOLUTION = 0.0455
FOOTPRINT_POINT_LATITUDE = (-65.27,-65.3414,-65.4273,-65.4631, -65.4643,-65.3761,-64.7273,-64.0616, -63.3865,-62.8734,-62.1784,-61.65, -60.9331,-60.2056,-59.4618,-59.0851, -58.7043,-58.3215,-57.7406,-57.3498, -56.9556,-56.5571,-56.152,-55.7437, -55.3279,-54.9108,-54.4906,-54.0658, -53.6365,-53.2018,-52.7639,-52.3183, -51.8749,-51.4243,-50.9679,-50.5073, -50.0431,-49.5713,-49.0948,-48.6124, -48.1245,-47.632,-47.1356,-46.634, -46.1237,-45.6087,-45.0856,-44.8203, -44.7638,-44.7673,-44.7669,-44.7621, -44.7468,-44.7087,-44.676,-44.6739, -44.6742,-45.1916,-45.7067,-46.2182, -46.7219,-47.2227,-47.7155,-48.2123, -48.6897,-49.1701,-49.6404,-50.1058, -50.5689,-51.026,-51.4799,-51.9267, -52.3694,-52.8063,-53.2384,-53.6678, -54.0933,-54.5145,-54.9316,-55.3446, -55.7527,-56.1573,-56.5578,-56.9557, -57.3508,-57.7401,-58.1234,-58.6948, -59.2525,-59.9964,-60.7214,-61.4344, -62.1355,-62.8238,-63.336,-64.0041, -64.4957,-64.9831,-65.1442,-65.27)
FOOTPRINT_POINT_LONGITUDE = (16.7884,18.0435,19.986,21.0948,21.1376 ,21.2469,21.3882,21.5297,21.6635, 21.7596,21.8835,21.9722,22.0876,22.1964 ,22.3031,22.3544,22.405,22.4538,22.5246 ,22.5703,22.6141,22.6575,22.7021, 22.7453,22.7899,22.8314,22.8711,22.9102 ,22.9486,22.9868,23.0235,23.0612,23.094 ,23.1274,23.1605,23.1925,23.223,23.2544 ,23.2844,23.3138,23.3426,23.3705, 23.3967,23.4215,23.4471,23.4718,23.4963 ,23.509,23.5116,22.8983,22.1974,21.6737 ,20.8458,19.801,19.0612,19.0176,19.0019 ,18.9948,18.9873,18.9788,18.9682, 18.9568,18.9431,18.9307,18.9127,18.8955 ,18.8753,18.8538,18.8314,18.8071, 18.7818,18.7544,18.7256,18.6951,18.6629 ,18.6297,18.5951,18.5589,18.5212, 18.4819,18.4409,18.3985,18.3547,18.3096 ,18.263,18.2139,18.1632,18.0845,18.0004 ,17.8854,17.7624,17.6322,17.4945,17.349 ,17.2361,17.0765,16.951,16.8208,16.7763 ,16.7884)
ORBIT_NUMBER = 2628
ORBITAL_ECCENTRICITY = 0.571
ORBITAL_INCLINATION = 86.61
ORBITAL_SEMIMAJOR_AXIS = 8534.19
PERIAPSIS_ALTITUDE = 281.22
PERIAPSIS_ARGUMENT_ANGLE = 256.59
PERIAPSIS_TIME = 2006-01-28T13:16:07.000Z
SPACECRAFT_ORIENTATION = (0.0,-1.0,0.0)
^MEX_ORIENTATION_DESC = "MEX_ORIENTATION_DESC.TXT"
SPACECRAFT_POINTING_MODE = ACROSSTRACK
^MEX_POINTING_DESC = "MEX_POINTING_DESC.TXT"
RIGHT_ASCENSION = -1e+32
DECLINATION = -1e+32
OFFSET_ANGLE = -0.16
SPACECRAFT_SOLAR_DISTANCE = 2.34259e+08
TARGET_NAME = MARS
/* CAMERA DATA ELEMENTS */
DETECTOR_TEMPERATURE = 18.3705
FOCAL_PLANE_TEMPERATURE = 8.5833
INST_CMPRS_NAME = "DISCRETE COSINE TRANSFORMATION (DCT)"
INST_CMPRS_RATIO = 11.3809
INST_CMPRS_QUALITY = 0
INST_CMPRS_QUANTZ_TBL_ID = 0
INSTRUMENT_TEMPERATURE = 12.4574
LENS_TEMPERATURE = 8.9911
MACROPIXEL_SIZE = 2
MISSING_FRAMES = 0
PIXEL_SUBSAMPLING_FLAG = N
SIGNAL_CHAIN_ID = 1
/* RADIOMETRIC DATA ELEMENTS */
BANDWIDTH = 180.0
CENTER_FILTER_WAVELENGTH = 677.0
RADIANCE_OFFSET = 1.31385
RADIANCE_SCALING_FACTOR = 0.0129469
REFLECTANCE_SCALING_FACTOR = 0.000370686
MEX:REFLECTANCE_OFFSET = 0.0376171
/* IMAGE OBJECT DEFINITIONS */
OBJECT = IMAGE
  INTERCHANGE_FORMAT = BINARY
  LINES = 24539
  LINE_SAMPLES = 4568
  SAMPLE_TYPE = UNSIGNED_INTEGER
  SAMPLE_BITS = 8
  BANDS = 1
  BAND_STORAGE_TYPE = BAND_SEQUENTIAL
  MAXIMUM = 255
  MEAN = 90.1342
  MINIMUM = 1
  STANDARD_DEVIATION = 34.4814
END_OBJECT = IMAGE
/* MAP OBJECT DEFINITIONS */
OBJECT = IMAGE_MAP_PROJECTION
  ^DATA_SET_MAP_PROJECTION_CATALOG= "DSMAP.CAT"
  A_AXIS_RADIUS = 3396.0
  B_AXIS_RADIUS = 3396.0
  C_AXIS_RADIUS = 3396.0
  CENTER_LATITUDE = 0.0
  CENTER_LONGITUDE = 21.0
  COORDINATE_SYSTEM_NAME = PLANETOGRAPHIC
  COORDINATE_SYSTEM_TYPE = "BODY-FIXED ROTATING"
  EASTERNMOST_LONGITUDE = 23.5116
  FIRST_STANDARD_PARALLEL = "N/A"
  LINE_FIRST_PIXEL = 1
  LINE_LAST_PIXEL = 24539
  LINE_PROJECTION_OFFSET = -52942.25
  MAP_PROJECTION_ROTATION = 0.0
  MAP_PROJECTION_TYPE = SINUSOIDAL
  MAP_RESOLUTION = 1185.42760773333
  MAP_SCALE = 0.05
  MAXIMUM_LATITUDE = -44.6739
  MINIMUM_LATITUDE = -65.46429999999999
  POSITIVE_LONGITUDE_DIRECTION = EAST
  REFERENCE_LATITUDE = "N/A"
  REFERENCE_LONGITUDE = "N/A"
  SAMPLE_FIRST_PIXEL = 1
  SAMPLE_LAST_PIXEL = 4568
  SAMPLE_PROJECTION_OFFSET = 2217.75
  SECOND_STANDARD_PARALLEL = "N/A"
  WESTERNMOST_LONGITUDE = 16.7763
END_OBJECT = IMAGE_MAP_PROJECTION
END
