PDS_VERSION_ID = PDS3
/* FILE DATA ELEMENTS */
RECORD_TYPE = UNDEFINED
/* POINTERS TO DATA OBJECTS */
^IMAGE = ("H2629_0001_RE4.TIF")
/* IDENTIFICATION DATA ELEMENTS */
DATA_SET_ID = "MEX-M-HRSC-4-REFDR-MAPPROJECT-EXT1-V4.0"
DATA_SET_NAME = "MARS EXPRESS HRSC MAP PROJECTED REFDR EXTENSION1 V4.0"
DETECTOR_ID = MEX_HRSC_RED
EVENT_TYPE = "MARS-REGIONAL-MAPPING-Im-Pf"
INSTRUMENT_HOST_ID = MEX
INSTRUMENT_HOST_NAME = "MARS EXPRESS"
INSTRUMENT_ID = HRSC
INSTRUMENT_NAME = "HIGH RESOLUTION STEREO CAMERA"
MISSION_NAME = "MARS EXPRESS"
MISSION_PHASE_NAME = ME_Phase_2
PROCESSING_LEVEL_ID = 4
PRODUCT_CREATION_TIME = 2023-02-08T07:05:14.000Z
PRODUCT_ID = "H2629_0001_RE4.TIF"
RELEASE_ID = 0001
REVISION_ID = 0000
/* QUALITY DATA ELEMENTS */
DATA_QUALITY_ID = 1
DATA_QUALITY_DESC = "Data calculated based on original SPICE kernels"
/* TIME DATA ELEMENTS */
SPACECRAFT_CLOCK_START_COUNT = "1/0086558910.09038"
SPACECRAFT_CLOCK_STOP_COUNT = "1/0086559255.65107"
START_TIME = 2006-01-28T20:10:28.625Z
STOP_TIME = 2006-01-28T20:13:57.332Z
/* ORBITAL DATA ELEMENTS */
ASCENDING_NODE_LONGITUDE = 173.12
MAXIMUM_RESOLUTION = 0.1097
FOOTPRINT_POINT_LATITUDE = (-64.5999,-64.6406,-64.6899,-64.7104, -64.7441,-64.7654,-64.7934,-64.8222, -64.8236,-64.9039,-64.5561,-64.2066, -63.7637,-63.4955,-63.1361,-62.7733, -62.41,-61.9501,-61.5796,-61.3929, -61.2055,-60.9233,-60.734,-60.5431, -60.3517,-60.1589,-59.9661,-59.7713, -59.4789,-59.1838,-58.9864,-58.7878, -58.4886,-58.1873,-57.9856,-57.7825, -57.5787,-57.269,-57.0595,-56.8546, -56.6481,-56.4372,-56.1217,-55.9114, -55.6996,-55.381,-55.2741,-55.2368, -55.2313,-55.2263,-55.2197,-55.2116, -55.2009,-55.1908,-55.18,-55.1663, -55.1496,-55.135,-55.1133,-55.0937, -55.0912,-55.0921,-55.3047,-55.6223, -55.8324,-56.0415,-56.2498,-56.4566, -56.663,-56.8684,-57.1738,-57.3776, -57.6805,-57.9813,-58.28,-58.4782, -58.6752,-58.9691,-59.2616,-59.4556, -59.6485,-59.9367,-60.1282,-60.3176, -60.5068,-60.6948,-60.8825,-61.0689, -61.4385,-61.7148,-62.1711,-62.5332, -62.8032,-63.1594,-63.4297,-63.7778, -64.1271,-64.5595,-64.6457,-64.5999)
FOOTPRINT_POINT_LONGITUDE = (277.842,278.57,279.541,279.98,280.76, 281.297,282.08,283.014,283.064,283.132, 283.215,283.299,283.398,283.457,283.534 ,283.61,283.686,283.778,283.85,283.885, 283.921,283.974,284.009,284.043,284.076 ,284.109,284.142,284.175,284.224, 284.272,284.303,284.335,284.381,284.427 ,284.458,284.488,284.518,284.561, 284.588,284.618,284.648,284.675,284.717 ,284.746,284.775,284.817,284.831, 284.835,284.321,283.96,283.547,283.135, 282.621,282.21,281.798,281.336,280.822, 280.411,279.846,279.384,279.333,279.316 ,279.297,279.268,279.249,279.229, 279.209,279.188,279.167,279.145,279.112 ,279.088,279.052,279.015,278.977, 278.952,278.925,278.885,278.843,278.814 ,278.785,278.74,278.709,278.679,278.647 ,278.615,278.583,278.55,278.483,278.431 ,278.341,278.265,278.207,278.128, 278.061,277.981,277.893,277.781,277.758 ,277.842)
ORBIT_NUMBER = 2629
ORBITAL_ECCENTRICITY = 0.571
ORBITAL_INCLINATION = 86.61
ORBITAL_SEMIMAJOR_AXIS = 8535.86
PERIAPSIS_ALTITUDE = 281.19
PERIAPSIS_ARGUMENT_ANGLE = 256.43
PERIAPSIS_TIME = 2006-01-28T19:59:23.000Z
SPACECRAFT_ORIENTATION = (0.0,-1.0,0.0)
^MEX_ORIENTATION_DESC = "MEX_ORIENTATION_DESC.TXT"
SPACECRAFT_POINTING_MODE = NADIR
^MEX_POINTING_DESC = "MEX_POINTING_DESC.TXT"
RIGHT_ASCENSION = -1e+32
DECLINATION = -1e+32
OFFSET_ANGLE = -1e+32
SPACECRAFT_SOLAR_DISTANCE = 2.3431e+08
TARGET_NAME = MARS
/* CAMERA DATA ELEMENTS */
DETECTOR_TEMPERATURE = 20.0017
FOCAL_PLANE_TEMPERATURE = 10.0106
INST_CMPRS_NAME = "DISCRETE COSINE TRANSFORMATION (DCT)"
INST_CMPRS_RATIO = 31.4481
INST_CMPRS_QUALITY = 0
INST_CMPRS_QUANTZ_TBL_ID = 0
INSTRUMENT_TEMPERATURE = 12.6613
LENS_TEMPERATURE = 8.9911
MACROPIXEL_SIZE = 4
MISSING_FRAMES = 0
PIXEL_SUBSAMPLING_FLAG = N
SIGNAL_CHAIN_ID = 2
/* RADIOMETRIC DATA ELEMENTS */
BANDWIDTH = 48.0
CENTER_FILTER_WAVELENGTH = 748.0
RADIANCE_OFFSET = 0.310182
RADIANCE_SCALING_FACTOR = 0.00193864
REFLECTANCE_SCALING_FACTOR = 0.00024289
MEX:REFLECTANCE_OFFSET = 0.0388624
/* IMAGE OBJECT DEFINITIONS */
OBJECT = IMAGE
  INTERCHANGE_FORMAT = BINARY
  LINES = 5826
  LINE_SAMPLES = 1929
  SAMPLE_TYPE = UNSIGNED_INTEGER
  SAMPLE_BITS = 8
  BANDS = 1
  BAND_STORAGE_TYPE = BAND_SEQUENTIAL
  MAXIMUM = 255
  MEAN = 112.486
  MINIMUM = 1
  STANDARD_DEVIATION = 35.0653
END_OBJECT = IMAGE
/* MAP OBJECT DEFINITIONS */
OBJECT = IMAGE_MAP_PROJECTION
  ^DATA_SET_MAP_PROJECTION_CATALOG= "DSMAP.CAT"
  A_AXIS_RADIUS = 3396.0
  B_AXIS_RADIUS = 3396.0
  C_AXIS_RADIUS = 3396.0
  CENTER_LATITUDE = 0.0
  CENTER_LONGITUDE = 281.0
  COORDINATE_SYSTEM_NAME = PLANETOGRAPHIC
  COORDINATE_SYSTEM_TYPE = "BODY-FIXED ROTATING"
  EASTERNMOST_LONGITUDE = 284.835
  FIRST_STANDARD_PARALLEL = "N/A"
  LINE_FIRST_PIXEL = 1
  LINE_LAST_PIXEL = 5826
  LINE_PROJECTION_OFFSET = -32650.625
  MAP_PROJECTION_ROTATION = 0.0
  MAP_PROJECTION_TYPE = SINUSOIDAL
  MAP_RESOLUTION = 592.713803866667
  MAP_SCALE = 0.1
  MAXIMUM_LATITUDE = -55.0912
  MINIMUM_LATITUDE = -64.90389999999999
  POSITIVE_LONGITUDE_DIRECTION = EAST
  REFERENCE_LATITUDE = "N/A"
  REFERENCE_LONGITUDE = "N/A"
  SAMPLE_FIRST_PIXEL = 1
  SAMPLE_LAST_PIXEL = 1929
  SAMPLE_PROJECTION_OFFSET = 767.375
  SECOND_STANDARD_PARALLEL = "N/A"
  WESTERNMOST_LONGITUDE = 277.758
END_OBJECT = IMAGE_MAP_PROJECTION
END
