PDS_VERSION_ID = PDS3
/* FILE DATA ELEMENTS */
RECORD_TYPE = UNDEFINED
/* POINTERS TO DATA OBJECTS */
^IMAGE = ("H2629_0001_S14.TIF")
/* IDENTIFICATION DATA ELEMENTS */
DATA_SET_ID = "MEX-M-HRSC-4-REFDR-MAPPROJECT-EXT1-V4.0"
DATA_SET_NAME = "MARS EXPRESS HRSC MAP PROJECTED REFDR EXTENSION1 V4.0"
DETECTOR_ID = MEX_HRSC_S1
EVENT_TYPE = "MARS-REGIONAL-MAPPING-Im-Pf"
INSTRUMENT_HOST_ID = MEX
INSTRUMENT_HOST_NAME = "MARS EXPRESS"
INSTRUMENT_ID = HRSC
INSTRUMENT_NAME = "HIGH RESOLUTION STEREO CAMERA"
MISSION_NAME = "MARS EXPRESS"
MISSION_PHASE_NAME = ME_Phase_2
PROCESSING_LEVEL_ID = 4
PRODUCT_CREATION_TIME = 2023-02-08T07:05:14.000Z
PRODUCT_ID = "H2629_0001_S14.TIF"
RELEASE_ID = 0001
REVISION_ID = 0000
/* QUALITY DATA ELEMENTS */
DATA_QUALITY_ID = 1
DATA_QUALITY_DESC = "Data calculated based on original SPICE kernels"
/* TIME DATA ELEMENTS */
SPACECRAFT_CLOCK_START_COUNT = "1/0086558910.09038"
SPACECRAFT_CLOCK_STOP_COUNT = "1/0086559255.65107"
START_TIME = 2006-01-28T20:08:35.937Z
STOP_TIME = 2006-01-28T20:11:12.340Z
/* ORBITAL DATA ELEMENTS */
ASCENDING_NODE_LONGITUDE = 173.12
MAXIMUM_RESOLUTION = 0.0462
FOOTPRINT_POINT_LATITUDE = (-64.788,-64.8517,-64.8898,-64.9139, -64.946,-64.9777,-65.0036,-65.005, -64.9177,-64.4013,-64.0514,-63.6117, -63.2572,-62.8981,-62.3512,-61.9842, -61.7053,-61.5183,-61.3316,-61.1421, -60.952,-60.7626,-60.5709,-60.3797, -60.1886,-59.9946,-59.8,-59.5075, -59.3106,-59.1135,-58.9144,-58.7144, -58.4137,-58.2115,-58.0093,-57.8043, -57.4976,-57.2902,-57.0831,-56.8768, -56.666,-56.4569,-56.2466,-56.0331, -55.8188,-55.6018,-55.3846,-55.2756, -55.2597,-55.2527,-55.2408,-55.2306, -55.209,-55.1964,-55.1769,-55.1594, -55.1312,-55.0928,-55.0903,-55.0902, -55.4135,-55.6269,-55.8402,-56.0514, -56.2629,-56.576,-56.785,-56.9941, -57.1982,-57.5043,-57.8102,-58.0112, -58.2129,-58.413,-58.6117,-58.8104, -59.0077,-59.2038,-59.3993,-59.5927, -59.7858,-59.9789,-60.1695,-60.3613, -60.5511,-60.739,-60.9273,-61.1156, -61.4879,-61.857,-62.3143,-62.6733, -63.0315,-63.3752,-63.6489,-63.9087, -64.2545,-64.5964,-64.6818,-64.788)
FOOTPRINT_POINT_LONGITUDE = (278.229,279.233,279.905,280.368, 281.042,281.803,282.524,282.567,282.662 ,282.781,282.858,282.951,283.023, 283.095,283.202,283.269,283.32,283.354, 283.386,283.419,283.452,283.484,283.515 ,283.546,283.576,283.606,283.636,283.68 ,283.709,283.738,283.766,283.794, 283.836,283.863,283.89,283.917,283.956, 283.983,284.008,284.032,284.058,284.082 ,284.105,284.13,284.155,284.18,284.204, 284.216,284.217,283.841,283.338,282.961 ,282.335,282.001,281.542,281.167, 280.626,279.961,279.92,279.905,279.871, 279.848,279.825,279.801,279.776,279.739 ,279.714,279.689,279.662,279.621,279.58 ,279.552,279.523,279.494,279.465, 279.434,279.404,279.373,279.341,279.31, 279.277,279.244,279.211,279.177,279.142 ,279.108,279.072,279.036,278.964, 278.888,278.791,278.71,278.628,278.539, 278.477,278.41,278.318,278.225,278.201, 278.229)
ORBIT_NUMBER = 2629
ORBITAL_ECCENTRICITY = 0.571
ORBITAL_INCLINATION = 86.61
ORBITAL_SEMIMAJOR_AXIS = 8535.86
PERIAPSIS_ALTITUDE = 281.19
PERIAPSIS_ARGUMENT_ANGLE = 256.43
PERIAPSIS_TIME = 2006-01-28T19:59:23.000Z
SPACECRAFT_ORIENTATION = (0.0,-1.0,0.0)
^MEX_ORIENTATION_DESC = "MEX_ORIENTATION_DESC.TXT"
SPACECRAFT_POINTING_MODE = NADIR
^MEX_POINTING_DESC = "MEX_POINTING_DESC.TXT"
RIGHT_ASCENSION = -1e+32
DECLINATION = -1e+32
OFFSET_ANGLE = -1e+32
SPACECRAFT_SOLAR_DISTANCE = 2.3431e+08
TARGET_NAME = MARS
/* CAMERA DATA ELEMENTS */
DETECTOR_TEMPERATURE = 18.5744
FOCAL_PLANE_TEMPERATURE = 10.0106
INST_CMPRS_NAME = "DISCRETE COSINE TRANSFORMATION (DCT)"
INST_CMPRS_RATIO = 12.915
INST_CMPRS_QUALITY = 0
INST_CMPRS_QUANTZ_TBL_ID = 0
INSTRUMENT_TEMPERATURE = 12.6613
LENS_TEMPERATURE = 8.9911
MACROPIXEL_SIZE = 2
MISSING_FRAMES = 0
PIXEL_SUBSAMPLING_FLAG = N
SIGNAL_CHAIN_ID = 1
/* RADIOMETRIC DATA ELEMENTS */
BANDWIDTH = 180.0
CENTER_FILTER_WAVELENGTH = 677.0
RADIANCE_OFFSET = 1.40104
RADIANCE_SCALING_FACTOR = 0.00693323
REFLECTANCE_SCALING_FACTOR = 0.000198593
MEX:REFLECTANCE_OFFSET = 0.0401308
/* IMAGE OBJECT DEFINITIONS */
OBJECT = IMAGE
  INTERCHANGE_FORMAT = BINARY
  LINES = 11652
  LINE_SAMPLES = 3858
  SAMPLE_TYPE = UNSIGNED_INTEGER
  SAMPLE_BITS = 8
  BANDS = 1
  BAND_STORAGE_TYPE = BAND_SEQUENTIAL
  MAXIMUM = 255
  MEAN = 115.19
  MINIMUM = 1
  STANDARD_DEVIATION = 34.8064
END_OBJECT = IMAGE
/* MAP OBJECT DEFINITIONS */
OBJECT = IMAGE_MAP_PROJECTION
  ^DATA_SET_MAP_PROJECTION_CATALOG= "DSMAP.CAT"
  A_AXIS_RADIUS = 3396.0
  B_AXIS_RADIUS = 3396.0
  C_AXIS_RADIUS = 3396.0
  CENTER_LATITUDE = 0.0
  CENTER_LONGITUDE = 281.0
  COORDINATE_SYSTEM_NAME = PLANETOGRAPHIC
  COORDINATE_SYSTEM_TYPE = "BODY-FIXED ROTATING"
  EASTERNMOST_LONGITUDE = 284.217
  FIRST_STANDARD_PARALLEL = "N/A"
  LINE_FIRST_PIXEL = 1
  LINE_LAST_PIXEL = 11652
  LINE_PROJECTION_OFFSET = -65300.75
  MAP_PROJECTION_ROTATION = 0.0
  MAP_PROJECTION_TYPE = SINUSOIDAL
  MAP_RESOLUTION = 1185.42760773333
  MAP_SCALE = 0.05
  MAXIMUM_LATITUDE = -55.0902
  MINIMUM_LATITUDE = -65.005
  POSITIVE_LONGITUDE_DIRECTION = EAST
  REFERENCE_LATITUDE = "N/A"
  REFERENCE_LONGITUDE = "N/A"
  SAMPLE_FIRST_PIXEL = 1
  SAMPLE_LAST_PIXEL = 3858
  SAMPLE_PROJECTION_OFFSET = 1535.25
  SECOND_STANDARD_PARALLEL = "N/A"
  WESTERNMOST_LONGITUDE = 278.201
END_OBJECT = IMAGE_MAP_PROJECTION
END
