PDS_VERSION_ID = PDS3
/* FILE DATA ELEMENTS */
RECORD_TYPE = UNDEFINED
/* POINTERS TO DATA OBJECTS */
^IMAGE = ("H2631_0001_RE4.TIF")
/* IDENTIFICATION DATA ELEMENTS */
DATA_SET_ID = "MEX-M-HRSC-4-REFDR-MAPPROJECT-EXT1-V4.0"
DATA_SET_NAME = "MARS EXPRESS HRSC MAP PROJECTED REFDR EXTENSION1 V4.0"
DETECTOR_ID = MEX_HRSC_RED
EVENT_TYPE = "MARS-REGIONAL-MAPPING-Vo-Fl-Lc"
INSTRUMENT_HOST_ID = MEX
INSTRUMENT_HOST_NAME = "MARS EXPRESS"
INSTRUMENT_ID = HRSC
INSTRUMENT_NAME = "HIGH RESOLUTION STEREO CAMERA"
MISSION_NAME = "MARS EXPRESS"
MISSION_PHASE_NAME = ME_Phase_2
PROCESSING_LEVEL_ID = 4
PRODUCT_CREATION_TIME = 2023-02-08T07:05:14.000Z
PRODUCT_ID = "H2631_0001_RE4.TIF"
RELEASE_ID = 0001
REVISION_ID = 0000
/* QUALITY DATA ELEMENTS */
DATA_QUALITY_ID = 1
DATA_QUALITY_DESC = "Data calculated based on original SPICE kernels"
/* TIME DATA ELEMENTS */
SPACECRAFT_CLOCK_START_COUNT = "1/0086607558.09057"
SPACECRAFT_CLOCK_STOP_COUNT = "1/0086608592.02954"
START_TIME = 2006-01-29T09:42:58.964Z
STOP_TIME = 2006-01-29T09:54:26.685Z
/* ORBITAL DATA ELEMENTS */
ASCENDING_NODE_LONGITUDE = 173.07
MAXIMUM_RESOLUTION = 0.1861
FOOTPRINT_POINT_LATITUDE = (-49.0985,-49.1145,-49.134,-49.1514, -49.1655,-49.1685,-49.1666,-49.1663, -49.2581,-48.8204,-48.3725,-47.9199, -47.4618,-46.9986,-46.5332,-46.0637, -45.5893,-45.1115,-44.6296,-44.1513, -43.678,-43.2094,-42.746,-42.2893, -41.8381,-41.3929,-40.9484,-40.5098, -40.0764,-39.6486,-39.2253,-38.8078, -38.394,-37.9847,-37.5799,-37.1791, -36.3978,-35.4292,-34.6796,-33.9467, -33.2289,-32.5265,-31.8377,-31.1658, -30.5073,-29.866,-29.2388,-29.0854, -29.0562,-29.0947,-29.1407,-29.176, -29.2294,-29.2998,-29.3616,-29.397, -29.4396,-29.4956,-29.5491,-29.5854, -29.6185,-29.6235,-29.6255,-30.2174, -30.8241,-31.6077,-32.2479,-32.7337, -33.398,-34.0781,-34.7754,-35.4966, -36.2288,-37.1701,-37.9442,-38.3365, -38.7337,-39.3397,-39.7517,-40.1671, -40.5856,-41.0119,-41.4421,-41.8775, -42.3181,-42.7655,-43.2155,-43.6708, -44.37,-45.0736,-45.5425,-46.0087, -46.4705,-46.9286,-47.3825,-47.8341, -48.2783,-48.9448,-49.1639,-49.0985)
FOOTPRINT_POINT_LONGITUDE = (83.0625,83.6649,84.5391,85.5768, 86.9961,87.8705,88.8585,88.9136,88.9815 ,89.0287,89.0715,89.1137,89.1548, 89.1948,89.2355,89.2763,89.3163,89.3566 ,89.3963,89.435,89.4727,89.5093,89.5452 ,89.5813,89.617,89.6526,89.6853,89.7181 ,89.7504,89.7828,89.8147,89.8467, 89.8778,89.9085,89.9388,89.9686,90.0312 ,90.0993,90.1563,90.2128,90.2682, 90.3232,90.3768,90.4314,90.4852,90.5406 ,90.596,90.6106,90.6133,90.0473,89.3959 ,88.9092,88.0979,87.0458,86.1556, 85.5878,84.8573,84.1244,83.1474,82.4932 ,81.9991,81.9168,81.8898,81.9638, 82.0366,82.1244,82.1945,82.2479,82.3168 ,82.3842,82.4496,82.51,82.5709,82.643, 82.6974,82.7242,82.7502,82.787,82.8095, 82.8319,82.8541,82.8739,82.8932,82.9114 ,82.9283,82.9432,82.9581,82.9717, 82.9861,83.0006,83.0074,83.0117,83.0146 ,83.0156,83.0152,83.0123,83.0099, 82.9987,82.9949,83.0625)
ORBIT_NUMBER = 2631
ORBITAL_ECCENTRICITY = 0.571
ORBITAL_INCLINATION = 86.62
ORBITAL_SEMIMAJOR_AXIS = 8533.13
PERIAPSIS_ALTITUDE = 280.4
PERIAPSIS_ARGUMENT_ANGLE = 256.08
PERIAPSIS_TIME = 2006-01-29T09:25:48.000Z
SPACECRAFT_ORIENTATION = (0.0,-1.0,0.0)
^MEX_ORIENTATION_DESC = "MEX_ORIENTATION_DESC.TXT"
SPACECRAFT_POINTING_MODE = NADIR
^MEX_POINTING_DESC = "MEX_POINTING_DESC.TXT"
RIGHT_ASCENSION = -1e+32
DECLINATION = -1e+32
OFFSET_ANGLE = -1e+32
SPACECRAFT_SOLAR_DISTANCE = 2.34411e+08
TARGET_NAME = MARS
/* CAMERA DATA ELEMENTS */
DETECTOR_TEMPERATURE = 20.8173
FOCAL_PLANE_TEMPERATURE = 8.7872
INST_CMPRS_NAME = "DISCRETE COSINE TRANSFORMATION (DCT)"
INST_CMPRS_RATIO = 12.9155
INST_CMPRS_QUALITY = 0
INST_CMPRS_QUANTZ_TBL_ID = 0
INSTRUMENT_TEMPERATURE = 13.0691
LENS_TEMPERATURE = 9.3989
MACROPIXEL_SIZE = 4
MISSING_FRAMES = 0
PIXEL_SUBSAMPLING_FLAG = N
SIGNAL_CHAIN_ID = 2
/* RADIOMETRIC DATA ELEMENTS */
BANDWIDTH = 48.0
CENTER_FILTER_WAVELENGTH = 748.0
RADIANCE_OFFSET = 0.74372
RADIANCE_SCALING_FACTOR = 0.00449215
REFLECTANCE_SCALING_FACTOR = 0.000563304
MEX:REFLECTANCE_OFFSET = 0.0932605
/* IMAGE OBJECT DEFINITIONS */
OBJECT = IMAGE
  INTERCHANGE_FORMAT = BINARY
  LINES = 5944
  LINE_SAMPLES = 1679
  SAMPLE_TYPE = UNSIGNED_INTEGER
  SAMPLE_BITS = 8
  BANDS = 1
  BAND_STORAGE_TYPE = BAND_SEQUENTIAL
  MAXIMUM = 255
  MEAN = 80.1514
  MINIMUM = 1
  STANDARD_DEVIATION = 25.8285
END_OBJECT = IMAGE
/* MAP OBJECT DEFINITIONS */
OBJECT = IMAGE_MAP_PROJECTION
  ^DATA_SET_MAP_PROJECTION_CATALOG= "DSMAP.CAT"
  A_AXIS_RADIUS = 3396.0
  B_AXIS_RADIUS = 3396.0
  C_AXIS_RADIUS = 3396.0
  CENTER_LATITUDE = 0.0
  CENTER_LONGITUDE = 86.0
  COORDINATE_SYSTEM_NAME = PLANETOGRAPHIC
  COORDINATE_SYSTEM_TYPE = "BODY-FIXED ROTATING"
  EASTERNMOST_LONGITUDE = 90.6133
  FIRST_STANDARD_PARALLEL = "N/A"
  LINE_FIRST_PIXEL = 1
  LINE_LAST_PIXEL = 5944
  LINE_PROJECTION_OFFSET = -8662.125
  MAP_PROJECTION_ROTATION = 0.0
  MAP_PROJECTION_TYPE = SINUSOIDAL
  MAP_RESOLUTION = 296.356901933333
  MAP_SCALE = 0.2
  MAXIMUM_LATITUDE = -29.0562
  MINIMUM_LATITUDE = -49.2581
  POSITIVE_LONGITUDE_DIRECTION = EAST
  REFERENCE_LATITUDE = "N/A"
  REFERENCE_LONGITUDE = "N/A"
  SAMPLE_FIRST_PIXEL = 1
  SAMPLE_LAST_PIXEL = 1679
  SAMPLE_PROJECTION_OFFSET = 838.625
  SECOND_STANDARD_PARALLEL = "N/A"
  WESTERNMOST_LONGITUDE = 81.88979999999999
END_OBJECT = IMAGE_MAP_PROJECTION
END
