PDS_VERSION_ID = PDS3
/* FILE DATA ELEMENTS */
RECORD_TYPE = UNDEFINED
/* POINTERS TO DATA OBJECTS */
^IMAGE = ("H2632_0000_P24.TIF")
/* IDENTIFICATION DATA ELEMENTS */
DATA_SET_ID = "MEX-M-HRSC-4-REFDR-MAPPROJECT-EXT1-V4.0"
DATA_SET_NAME = "MARS EXPRESS HRSC MAP PROJECTED REFDR EXTENSION1 V4.0"
DETECTOR_ID = MEX_HRSC_P2
EVENT_TYPE = "MARS-REGIONAL-MAPPING-Te-Im-Fl"
INSTRUMENT_HOST_ID = MEX
INSTRUMENT_HOST_NAME = "MARS EXPRESS"
INSTRUMENT_ID = HRSC
INSTRUMENT_NAME = "HIGH RESOLUTION STEREO CAMERA"
MISSION_NAME = "MARS EXPRESS"
MISSION_PHASE_NAME = ME_Phase_2
PROCESSING_LEVEL_ID = 4
PRODUCT_CREATION_TIME = 2023-02-08T07:05:14.000Z
PRODUCT_ID = "H2632_0000_P24.TIF"
RELEASE_ID = 0001
REVISION_ID = 0000
/* QUALITY DATA ELEMENTS */
DATA_QUALITY_ID = 1
DATA_QUALITY_DESC = "Data calculated based on original SPICE kernels"
/* TIME DATA ELEMENTS */
SPACECRAFT_CLOCK_START_COUNT = "1/0086631528.08248"
SPACECRAFT_CLOCK_STOP_COUNT = "1/0086632120.35406"
START_TIME = 2006-01-29T16:20:44.537Z
STOP_TIME = 2006-01-29T16:27:27.599Z
/* ORBITAL DATA ELEMENTS */
ASCENDING_NODE_LONGITUDE = 173.05
MAXIMUM_RESOLUTION = 0.0576
FOOTPRINT_POINT_LATITUDE = (-62.4425,-62.4829,-62.5447,-62.5979, -62.6242,-62.649,-62.6503,-62.7121, -62.2784,-61.6876,-61.0916,-60.4887, -59.7196,-59.0964,-58.4646,-57.8232, -57.171,-56.8423,-56.5107,-56.1767, -55.84,-55.5019,-55.1601,-54.8164, -54.4708,-53.9443,-53.5938,-53.2402, -52.8836,-52.5242,-52.1605,-51.7931, -51.2325,-50.8541,-50.4766,-50.097, -49.7142,-49.3269,-48.9388,-48.5469, -48.1525,-47.7542,-47.3524,-46.949, -46.3356,-45.9251,-45.5058,-45.2971, -45.2699,-45.2769,-45.2837,-45.2858, -45.2868,-45.2838,-45.2802,-45.271, -45.2623,-45.251,-45.2496,-45.2499, -45.8656,-46.273,-46.6758,-47.0773, -47.475,-47.8688,-48.2598,-48.6481, -49.0337,-49.4171,-49.7964,-50.1734, -50.5473,-50.917,-51.287,-51.6527, -52.0158,-52.5559,-53.0906,-53.4429, -53.7911,-54.1377,-54.4817,-54.8234, -55.1623,-55.4982,-55.8323,-56.1643, -56.822,-57.4692,-58.107,-58.7376, -59.3576,-59.9675,-60.5733,-61.1692, -61.758,-62.3372,-62.4804,-62.4425)
FOOTPRINT_POINT_LONGITUDE = (343.532,344.283,345.587,346.945, 347.752,348.663,348.714,348.783,348.871 ,348.981,349.091,349.197,349.324, 349.423,349.52,349.614,349.704,349.749, 349.793,349.836,349.879,349.921,349.963 ,350.005,350.046,350.105,350.146, 350.186,350.226,350.266,350.304,350.34, 350.391,350.424,350.46,350.495,350.53, 350.563,350.598,350.632,350.666,350.699 ,350.732,350.765,350.813,350.846, 350.875,350.892,350.894,350.308,349.545 ,349.077,348.2,347.439,346.913,346.093, 345.507,344.919,344.861,344.84,344.844, 344.845,344.846,344.844,344.841,344.837 ,344.833,344.826,344.819,344.809, 344.799,344.788,344.775,344.763,344.746 ,344.73,344.713,344.683,344.651,344.629 ,344.606,344.582,344.557,344.53,344.502 ,344.473,344.443,344.411,344.342,344.27 ,344.192,344.108,344.02,343.929,343.827 ,343.721,343.608,343.491,343.462, 343.532)
ORBIT_NUMBER = 2632
ORBITAL_ECCENTRICITY = 0.571
ORBITAL_INCLINATION = 86.62
ORBITAL_SEMIMAJOR_AXIS = 8534.2
PERIAPSIS_ALTITUDE = 281.37
PERIAPSIS_ARGUMENT_ANGLE = 255.9
PERIAPSIS_TIME = 2006-01-29T16:08:58.000Z
SPACECRAFT_ORIENTATION = (0.0,-1.0,0.0)
^MEX_ORIENTATION_DESC = "MEX_ORIENTATION_DESC.TXT"
SPACECRAFT_POINTING_MODE = NADIR
^MEX_POINTING_DESC = "MEX_POINTING_DESC.TXT"
RIGHT_ASCENSION = -1e+32
DECLINATION = -1e+32
OFFSET_ANGLE = -1e+32
SPACECRAFT_SOLAR_DISTANCE = 2.34462e+08
TARGET_NAME = MARS
/* CAMERA DATA ELEMENTS */
DETECTOR_TEMPERATURE = 18.7783
FOCAL_PLANE_TEMPERATURE = 8.5833
INST_CMPRS_NAME = "DISCRETE COSINE TRANSFORMATION (DCT)"
INST_CMPRS_RATIO = 10.9503
INST_CMPRS_QUALITY = 0
INST_CMPRS_QUANTZ_TBL_ID = 0
INSTRUMENT_TEMPERATURE = 12.2535
LENS_TEMPERATURE = 9.195
MACROPIXEL_SIZE = 2
MISSING_FRAMES = 0
PIXEL_SUBSAMPLING_FLAG = N
SIGNAL_CHAIN_ID = 3
/* RADIOMETRIC DATA ELEMENTS */
BANDWIDTH = 177.0
CENTER_FILTER_WAVELENGTH = 676.5
RADIANCE_OFFSET = 1.05464
RADIANCE_SCALING_FACTOR = 0.0125109
REFLECTANCE_SCALING_FACTOR = 0.000364666
MEX:REFLECTANCE_OFFSET = 0.0307404
/* IMAGE OBJECT DEFINITIONS */
OBJECT = IMAGE
  INTERCHANGE_FORMAT = BINARY
  LINES = 20724
  LINE_SAMPLES = 4700
  SAMPLE_TYPE = UNSIGNED_INTEGER
  SAMPLE_BITS = 8
  BANDS = 1
  BAND_STORAGE_TYPE = BAND_SEQUENTIAL
  MAXIMUM = 255
  MEAN = 98.0972
  MINIMUM = 1
  STANDARD_DEVIATION = 33.3705
END_OBJECT = IMAGE
/* MAP OBJECT DEFINITIONS */
OBJECT = IMAGE_MAP_PROJECTION
  ^DATA_SET_MAP_PROJECTION_CATALOG= "DSMAP.CAT"
  A_AXIS_RADIUS = 3396.0
  B_AXIS_RADIUS = 3396.0
  C_AXIS_RADIUS = 3396.0
  CENTER_LATITUDE = 0.0
  CENTER_LONGITUDE = 347.0
  COORDINATE_SYSTEM_NAME = PLANETOGRAPHIC
  COORDINATE_SYSTEM_TYPE = "BODY-FIXED ROTATING"
  EASTERNMOST_LONGITUDE = 350.894
  FIRST_STANDARD_PARALLEL = "N/A"
  LINE_FIRST_PIXEL = 1
  LINE_LAST_PIXEL = 20724
  LINE_PROJECTION_OFFSET = -53629.25
  MAP_PROJECTION_ROTATION = 0.0
  MAP_PROJECTION_TYPE = SINUSOIDAL
  MAP_RESOLUTION = 1185.42760773333
  MAP_SCALE = 0.05
  MAXIMUM_LATITUDE = -45.2496
  MINIMUM_LATITUDE = -62.7121
  POSITIVE_LONGITUDE_DIRECTION = EAST
  REFERENCE_LATITUDE = "N/A"
  REFERENCE_LONGITUDE = "N/A"
  SAMPLE_FIRST_PIXEL = 1
  SAMPLE_LAST_PIXEL = 4700
  SAMPLE_PROJECTION_OFFSET = 1832.25
  SECOND_STANDARD_PARALLEL = "N/A"
  WESTERNMOST_LONGITUDE = 343.462
END_OBJECT = IMAGE_MAP_PROJECTION
END
