PDS_VERSION_ID = PDS3
/* FILE DATA ELEMENTS */
RECORD_TYPE = UNDEFINED
/* POINTERS TO DATA OBJECTS */
^IMAGE = ("H2634_0000_BL4.TIF")
/* IDENTIFICATION DATA ELEMENTS */
DATA_SET_ID = "MEX-M-HRSC-4-REFDR-MAPPROJECT-EXT1-V4.0"
DATA_SET_NAME = "MARS EXPRESS HRSC MAP PROJECTED REFDR EXTENSION1 V4.0"
DETECTOR_ID = MEX_HRSC_BLUE
EVENT_TYPE = "MARS-REGIONAL-MAPPING-Te-Fl-Gl"
INSTRUMENT_HOST_ID = MEX
INSTRUMENT_HOST_NAME = "MARS EXPRESS"
INSTRUMENT_ID = HRSC
INSTRUMENT_NAME = "HIGH RESOLUTION STEREO CAMERA"
MISSION_NAME = "MARS EXPRESS"
MISSION_PHASE_NAME = ME_Phase_2
PROCESSING_LEVEL_ID = 4
PRODUCT_CREATION_TIME = 2023-02-08T07:05:14.000Z
PRODUCT_ID = "H2634_0000_BL4.TIF"
RELEASE_ID = 0001
REVISION_ID = 0000
/* QUALITY DATA ELEMENTS */
DATA_QUALITY_ID = 1
DATA_QUALITY_DESC = "Data calculated based on original SPICE kernels"
/* TIME DATA ELEMENTS */
SPACECRAFT_CLOCK_START_COUNT = "1/0086679837.07307"
SPACECRAFT_CLOCK_STOP_COUNT = "1/0086680362.29526"
START_TIME = 2006-01-30T05:45:04.947Z
STOP_TIME = 2006-01-30T05:50:41.928Z
/* ORBITAL DATA ELEMENTS */
ASCENDING_NODE_LONGITUDE = 173.01
MAXIMUM_RESOLUTION = 0.0917
FOOTPRINT_POINT_LATITUDE = (-67.4787,-67.566,-67.6361,-67.6876, -67.7244,-67.726,-67.7455,-67.3218, -66.7486,-66.1689,-65.5798,-64.9822, -64.2211,-63.7586,-63.1334,-62.3391, -62.018,-61.6933,-61.3663,-61.0367, -60.7049,-60.3703,-60.0327,-59.6923, -59.3491,-59.0034,-58.6552,-58.3038, -57.9492,-57.5919,-57.232,-56.8687, -56.5026,-56.1335,-55.7612,-55.3855, -55.0062,-54.6244,-54.2384,-53.8496, -53.4575,-53.0614,-52.6615,-52.2581, -51.8521,-51.4422,-50.8215,-50.6123, -50.451,-50.4485,-50.4438,-50.4329, -50.4127,-50.3947,-50.3694,-50.3328, -50.3306,-50.3318,-50.9532,-51.3631, -51.7688,-52.1716,-52.571,-52.9658, -53.3575,-53.746,-54.1314,-54.5136, -54.8926,-55.2683,-55.6404,-56.0094, -56.3754,-56.7389,-57.0994,-57.4565, -57.8111,-58.1629,-58.5112,-58.8567, -59.1997,-59.5396,-59.8772,-60.2122, -60.5445,-60.8733,-61.2,-61.5246, -62.1657,-62.6405,-63.2648,-63.8791, -64.4854,-64.9339,-65.3777,-65.9612, -66.6802,-67.2453,-67.3847,-67.4787)
FOOTPRINT_POINT_LONGITUDE = (145.627,147.077,148.44,149.621,150.619 ,150.667,150.749,150.878,151.042, 151.203,151.354,151.5,151.672,151.773, 151.903,152.06,152.121,152.181,152.241, 152.298,152.355,152.411,152.466,152.52, 152.572,152.624,152.675,152.725,152.773 ,152.822,152.869,152.916,152.962, 153.007,153.052,153.095,153.137,153.181 ,153.221,153.262,153.301,153.339, 153.377,153.413,153.45,153.488,153.545, 153.563,153.576,153.046,152.511,151.737 ,150.819,150.142,149.368,148.449, 148.401,148.384,148.358,148.338,148.317 ,148.293,148.269,148.246,148.219,148.19 ,148.161,148.13,148.097,148.062,148.027 ,147.99,147.952,147.91,147.868,147.824, 147.779,147.732,147.685,147.636,147.585 ,147.533,147.479,147.423,147.367, 147.309,147.249,147.187,147.056,146.954 ,146.811,146.663,146.504,146.38,146.251 ,146.073,145.836,145.637,145.586, 145.627)
ORBIT_NUMBER = 2634
ORBITAL_ECCENTRICITY = 0.571
ORBITAL_INCLINATION = 86.61
ORBITAL_SEMIMAJOR_AXIS = 8535.21
PERIAPSIS_ALTITUDE = 282.03
PERIAPSIS_ARGUMENT_ANGLE = 255.55
PERIAPSIS_TIME = 2006-01-30T05:35:21.000Z
SPACECRAFT_ORIENTATION = (0.0,-1.0,0.0)
^MEX_ORIENTATION_DESC = "MEX_ORIENTATION_DESC.TXT"
SPACECRAFT_POINTING_MODE = NADIR
^MEX_POINTING_DESC = "MEX_POINTING_DESC.TXT"
RIGHT_ASCENSION = -1e+32
DECLINATION = -1e+32
OFFSET_ANGLE = -1e+32
SPACECRAFT_SOLAR_DISTANCE = 2.34563e+08
TARGET_NAME = MARS
/* CAMERA DATA ELEMENTS */
DETECTOR_TEMPERATURE = 18.1666
FOCAL_PLANE_TEMPERATURE = 8.3794
INST_CMPRS_NAME = "DISCRETE COSINE TRANSFORMATION (DCT)"
INST_CMPRS_RATIO = 10.6082
INST_CMPRS_QUALITY = 0
INST_CMPRS_QUANTZ_TBL_ID = 0
INSTRUMENT_TEMPERATURE = 11.4379
LENS_TEMPERATURE = 8.5833
MACROPIXEL_SIZE = 4
MISSING_FRAMES = 0
PIXEL_SUBSAMPLING_FLAG = N
SIGNAL_CHAIN_ID = 2
/* RADIOMETRIC DATA ELEMENTS */
BANDWIDTH = 76.0
CENTER_FILTER_WAVELENGTH = 444.0
RADIANCE_OFFSET = 0.244096
RADIANCE_SCALING_FACTOR = 0.00151791
REFLECTANCE_SCALING_FACTOR = 8.58074e-05
MEX:REFLECTANCE_OFFSET = 0.0137988
/* IMAGE OBJECT DEFINITIONS */
OBJECT = IMAGE
  INTERCHANGE_FORMAT = BINARY
  LINES = 10317
  LINE_SAMPLES = 2335
  SAMPLE_TYPE = UNSIGNED_INTEGER
  SAMPLE_BITS = 8
  BANDS = 1
  BAND_STORAGE_TYPE = BAND_SEQUENTIAL
  MAXIMUM = 255
  MEAN = 107.43
  MINIMUM = 1
  STANDARD_DEVIATION = 38.6356
END_OBJECT = IMAGE
/* MAP OBJECT DEFINITIONS */
OBJECT = IMAGE_MAP_PROJECTION
  ^DATA_SET_MAP_PROJECTION_CATALOG= "DSMAP.CAT"
  A_AXIS_RADIUS = 3396.0
  B_AXIS_RADIUS = 3396.0
  C_AXIS_RADIUS = 3396.0
  CENTER_LATITUDE = 0.0
  CENTER_LONGITUDE = 150.0
  COORDINATE_SYSTEM_NAME = PLANETOGRAPHIC
  COORDINATE_SYSTEM_TYPE = "BODY-FIXED ROTATING"
  EASTERNMOST_LONGITUDE = 153.576
  FIRST_STANDARD_PARALLEL = "N/A"
  LINE_FIRST_PIXEL = 1
  LINE_LAST_PIXEL = 10317
  LINE_PROJECTION_OFFSET = -29837.625
  MAP_PROJECTION_ROTATION = 0.0
  MAP_PROJECTION_TYPE = SINUSOIDAL
  MAP_RESOLUTION = 592.713803866667
  MAP_SCALE = 0.1
  MAXIMUM_LATITUDE = -50.3306
  MINIMUM_LATITUDE = -67.74550000000001
  POSITIVE_LONGITUDE_DIRECTION = EAST
  REFERENCE_LATITUDE = "N/A"
  REFERENCE_LONGITUDE = "N/A"
  SAMPLE_FIRST_PIXEL = 1
  SAMPLE_LAST_PIXEL = 2335
  SAMPLE_PROJECTION_OFFSET = 1000.125
  SECOND_STANDARD_PARALLEL = "N/A"
  WESTERNMOST_LONGITUDE = 145.586
END_OBJECT = IMAGE_MAP_PROJECTION
END
