PDS_VERSION_ID = PDS3
/* FILE DATA ELEMENTS */
RECORD_TYPE = UNDEFINED
/* POINTERS TO DATA OBJECTS */
^IMAGE = ("H2634_0000_GR4.TIF")
/* IDENTIFICATION DATA ELEMENTS */
DATA_SET_ID = "MEX-M-HRSC-4-REFDR-MAPPROJECT-EXT1-V4.0"
DATA_SET_NAME = "MARS EXPRESS HRSC MAP PROJECTED REFDR EXTENSION1 V4.0"
DETECTOR_ID = MEX_HRSC_GREEN
EVENT_TYPE = "MARS-REGIONAL-MAPPING-Te-Fl-Gl"
INSTRUMENT_HOST_ID = MEX
INSTRUMENT_HOST_NAME = "MARS EXPRESS"
INSTRUMENT_ID = HRSC
INSTRUMENT_NAME = "HIGH RESOLUTION STEREO CAMERA"
MISSION_NAME = "MARS EXPRESS"
MISSION_PHASE_NAME = ME_Phase_2
PROCESSING_LEVEL_ID = 4
PRODUCT_CREATION_TIME = 2023-02-08T07:05:14.000Z
PRODUCT_ID = "H2634_0000_GR4.TIF"
RELEASE_ID = 0001
REVISION_ID = 0000
/* QUALITY DATA ELEMENTS */
DATA_QUALITY_ID = 1
DATA_QUALITY_DESC = "Data calculated based on original SPICE kernels"
/* TIME DATA ELEMENTS */
SPACECRAFT_CLOCK_START_COUNT = "1/0086679837.07307"
SPACECRAFT_CLOCK_STOP_COUNT = "1/0086680362.29526"
START_TIME = 2006-01-30T05:44:45.604Z
STOP_TIME = 2006-01-30T05:50:03.873Z
/* ORBITAL DATA ELEMENTS */
ASCENDING_NODE_LONGITUDE = 173.01
MAXIMUM_RESOLUTION = 0.0887
FOOTPRINT_POINT_LATITUDE = (-67.5084,-67.5898,-67.6692,-67.7085, -67.7529,-67.7545,-67.7419,-67.1783, -66.6063,-66.1716,-65.5849,-64.9899, -64.387,-63.9277,-63.4638,-62.9944, -62.3595,-61.7157,-61.3892,-61.0606, -60.7299,-60.3956,-60.0587,-59.7197, -59.3782,-59.0327,-58.6847,-58.334, -57.9808,-57.6244,-57.265,-56.9022, -56.5361,-56.167,-55.7951,-55.4198, -55.0414,-54.6595,-54.2743,-53.8858, -53.4937,-53.0984,-52.6994,-52.2962, -51.8897,-51.4791,-50.855,-50.6455, -50.4586,-50.4541,-50.4432,-50.4332, -50.4153,-50.3797,-50.3588,-50.3271, -50.3248,-50.326,-50.743,-51.156, -51.5653,-51.9704,-52.3713,-52.7704, -53.1647,-53.5561,-53.9437,-54.3278, -54.7087,-55.0861,-55.4602,-55.831, -56.1988,-56.5632,-56.9244,-57.2826, -57.6382,-57.9909,-58.3409,-58.6876, -59.031,-59.3721,-59.7107,-60.0467, -60.3791,-60.7092,-61.0379,-61.3626, -62.0047,-62.6368,-63.2598,-63.7209, -64.1766,-64.7754,-65.3659,-66.0933, -66.6649,-67.2282,-67.3665,-67.5084)
FOOTPRINT_POINT_LONGITUDE = (145.7,147.012,148.515,149.384,150.534, 150.58,150.671,150.839,150.999,151.119, 151.268,151.413,151.548,151.65,151.747, 151.842,151.966,152.085,152.144,152.2, 152.256,152.312,152.366,152.419,152.47, 152.521,152.571,152.62,152.668,152.714, 152.761,152.806,152.851,152.896,152.939 ,152.981,153.022,153.063,153.103, 153.142,153.181,153.217,153.253,153.289 ,153.324,153.36,153.415,153.432,153.447 ,152.85,152.068,151.563,150.829,149.774 ,149.269,148.581,148.535,148.519,148.5, 148.479,148.458,148.434,148.407,148.384 ,148.355,148.326,148.296,148.264,148.23 ,148.196,148.16,148.122,148.083,148.042 ,147.999,147.955,147.909,147.863, 147.815,147.765,147.714,147.662,147.608 ,147.552,147.495,147.437,147.378, 147.316,147.186,147.05,146.906,146.795, 146.678,146.515,146.344,146.119,145.929 ,145.73,145.679,145.7)
ORBIT_NUMBER = 2634
ORBITAL_ECCENTRICITY = 0.571
ORBITAL_INCLINATION = 86.61
ORBITAL_SEMIMAJOR_AXIS = 8535.21
PERIAPSIS_ALTITUDE = 282.03
PERIAPSIS_ARGUMENT_ANGLE = 255.55
PERIAPSIS_TIME = 2006-01-30T05:35:21.000Z
SPACECRAFT_ORIENTATION = (0.0,-1.0,0.0)
^MEX_ORIENTATION_DESC = "MEX_ORIENTATION_DESC.TXT"
SPACECRAFT_POINTING_MODE = NADIR
^MEX_POINTING_DESC = "MEX_POINTING_DESC.TXT"
RIGHT_ASCENSION = -1e+32
DECLINATION = -1e+32
OFFSET_ANGLE = -1e+32
SPACECRAFT_SOLAR_DISTANCE = 2.34563e+08
TARGET_NAME = MARS
/* CAMERA DATA ELEMENTS */
DETECTOR_TEMPERATURE = 18.1666
FOCAL_PLANE_TEMPERATURE = 8.3794
INST_CMPRS_NAME = "DISCRETE COSINE TRANSFORMATION (DCT)"
INST_CMPRS_RATIO = 18.6681
INST_CMPRS_QUALITY = 0
INST_CMPRS_QUANTZ_TBL_ID = 0
INSTRUMENT_TEMPERATURE = 11.4379
LENS_TEMPERATURE = 8.5833
MACROPIXEL_SIZE = 4
MISSING_FRAMES = 0
PIXEL_SUBSAMPLING_FLAG = N
SIGNAL_CHAIN_ID = 2
/* RADIOMETRIC DATA ELEMENTS */
BANDWIDTH = 88.0
CENTER_FILTER_WAVELENGTH = 538.0
RADIANCE_OFFSET = 0.460213
RADIANCE_SCALING_FACTOR = 0.0034892
REFLECTANCE_SCALING_FACTOR = 0.000165286
MEX:REFLECTANCE_OFFSET = 0.0218007
/* IMAGE OBJECT DEFINITIONS */
OBJECT = IMAGE
  INTERCHANGE_FORMAT = BINARY
  LINES = 10317
  LINE_SAMPLES = 2335
  SAMPLE_TYPE = UNSIGNED_INTEGER
  SAMPLE_BITS = 8
  BANDS = 1
  BAND_STORAGE_TYPE = BAND_SEQUENTIAL
  MAXIMUM = 255
  MEAN = 91.8235
  MINIMUM = 1
  STANDARD_DEVIATION = 32.2475
END_OBJECT = IMAGE
/* MAP OBJECT DEFINITIONS */
OBJECT = IMAGE_MAP_PROJECTION
  ^DATA_SET_MAP_PROJECTION_CATALOG= "DSMAP.CAT"
  A_AXIS_RADIUS = 3396.0
  B_AXIS_RADIUS = 3396.0
  C_AXIS_RADIUS = 3396.0
  CENTER_LATITUDE = 0.0
  CENTER_LONGITUDE = 150.0
  COORDINATE_SYSTEM_NAME = PLANETOGRAPHIC
  COORDINATE_SYSTEM_TYPE = "BODY-FIXED ROTATING"
  EASTERNMOST_LONGITUDE = 153.447
  FIRST_STANDARD_PARALLEL = "N/A"
  LINE_FIRST_PIXEL = 1
  LINE_LAST_PIXEL = 10317
  LINE_PROJECTION_OFFSET = -29837.625
  MAP_PROJECTION_ROTATION = 0.0
  MAP_PROJECTION_TYPE = SINUSOIDAL
  MAP_RESOLUTION = 592.713803866667
  MAP_SCALE = 0.1
  MAXIMUM_LATITUDE = -50.3248
  MINIMUM_LATITUDE = -67.75449999999999
  POSITIVE_LONGITUDE_DIRECTION = EAST
  REFERENCE_LATITUDE = "N/A"
  REFERENCE_LONGITUDE = "N/A"
  SAMPLE_FIRST_PIXEL = 1
  SAMPLE_LAST_PIXEL = 2335
  SAMPLE_PROJECTION_OFFSET = 1000.125
  SECOND_STANDARD_PARALLEL = "N/A"
  WESTERNMOST_LONGITUDE = 145.679
END_OBJECT = IMAGE_MAP_PROJECTION
END
