PDS_VERSION_ID = PDS3
/* FILE DATA ELEMENTS */
RECORD_TYPE = UNDEFINED
/* POINTERS TO DATA OBJECTS */
^IMAGE = ("H2640_0000_GR4.TIF")
/* IDENTIFICATION DATA ELEMENTS */
DATA_SET_ID = "MEX-M-HRSC-4-REFDR-MAPPROJECT-EXT1-V4.0"
DATA_SET_NAME = "MARS EXPRESS HRSC MAP PROJECTED REFDR EXTENSION1 V4.0"
DETECTOR_ID = MEX_HRSC_GREEN
EVENT_TYPE = "MARS-REGIONAL-MAPPING-Te-Im-Fl"
INSTRUMENT_HOST_ID = MEX
INSTRUMENT_HOST_NAME = "MARS EXPRESS"
INSTRUMENT_ID = HRSC
INSTRUMENT_NAME = "HIGH RESOLUTION STEREO CAMERA"
MISSION_NAME = "MARS EXPRESS"
MISSION_PHASE_NAME = ME_Phase_2
PROCESSING_LEVEL_ID = 4
PRODUCT_CREATION_TIME = 2023-02-08T07:05:14.000Z
PRODUCT_ID = "H2640_0000_GR4.TIF"
RELEASE_ID = 0001
REVISION_ID = 0000
/* QUALITY DATA ELEMENTS */
DATA_QUALITY_ID = 1
DATA_QUALITY_DESC = "Data calculated based on original SPICE kernels"
/* TIME DATA ELEMENTS */
SPACECRAFT_CLOCK_START_COUNT = "1/0086825133.07315"
SPACECRAFT_CLOCK_STOP_COUNT = "1/0086826215.25677"
START_TIME = 2006-01-31T22:06:36.478Z
STOP_TIME = 2006-01-31T22:16:18.515Z
/* ORBITAL DATA ELEMENTS */
ASCENDING_NODE_LONGITUDE = 172.89
MAXIMUM_RESOLUTION = 0.1137
FOOTPRINT_POINT_LATITUDE = (-59.8489,-59.9211,-60.0101,-60.0486, -60.0496,-60.0361,-59.2154,-58.3784, -57.5239,-56.6523,-55.7633,-54.8553, -53.928,-52.9816,-52.0145,-51.5227, -51.0255,-50.523,-50.0146,-49.5003, -48.9802,-48.4541,-47.922,-47.384, -46.8397,-46.2884,-45.7316,-45.1678, -44.5976,-44.0205,-43.4343,-42.8443, -42.2456,-41.6385,-41.0253,-40.4037, -39.7747,-39.1373,-38.4922,-37.8384, -37.1766,-36.168,-35.302,-34.6384, -33.9808,-33.3294,-33.0062,-32.8239, -32.8582,-32.8842,-32.8989,-32.9113, -32.9096,-32.9021,-32.9013,-32.9036, -33.5399,-34.1826,-34.8315,-35.4864, -36.0092,-36.6744,-37.3336,-37.9844, -38.6271,-39.2609,-39.8872,-40.5064, -41.1185,-41.723,-42.3209,-42.9111, -43.4947,-44.0712,-44.6409,-45.2043, -45.7617,-46.3112,-46.8551,-47.393, -47.9245,-48.4502,-48.9703,-49.4854, -49.9942,-50.4958,-50.9922,-51.4827, -51.9699,-52.4509,-53.401,-54.3305, -55.2385,-56.1287,-57.0013,-57.8558, -58.6937,-59.515,-59.7178,-59.8489)
FOOTPRINT_POINT_LONGITUDE = (277.847,279.147,281.261,282.618, 282.663,282.729,282.853,282.972,283.086 ,283.195,283.297,283.397,283.491, 283.578,283.662,283.704,283.744,283.784 ,283.822,283.859,283.896,283.931, 283.966,283.999,284.032,284.065,284.095 ,284.125,284.154,284.181,284.213, 284.236,284.261,284.288,284.31,284.333, 284.355,284.377,284.397,284.417,284.435 ,284.461,284.48,284.493,284.505,284.516 ,284.52,284.523,283.56,282.54,281.745, 280.322,279.24,278.496,278.438,278.419, 278.463,278.506,278.546,278.584,278.613 ,278.647,278.68,278.709,278.734,278.756 ,278.774,278.791,278.806,278.819,278.83 ,278.837,278.843,278.847,278.848, 278.847,278.845,278.837,278.83,278.82, 278.808,278.794,278.778,278.76,278.741, 278.716,278.688,278.659,278.631,278.6, 278.54,278.47,278.386,278.295,278.196, 278.089,277.973,277.848,277.816, 277.847)
ORBIT_NUMBER = 2640
ORBITAL_ECCENTRICITY = 0.571
ORBITAL_INCLINATION = 86.61
ORBITAL_SEMIMAJOR_AXIS = 8537.59
PERIAPSIS_ALTITUDE = 281.48
PERIAPSIS_ARGUMENT_ANGLE = 254.52
PERIAPSIS_TIME = 2006-01-31T21:54:37.000Z
SPACECRAFT_ORIENTATION = (0.0,-1.0,0.0)
^MEX_ORIENTATION_DESC = "MEX_ORIENTATION_DESC.TXT"
SPACECRAFT_POINTING_MODE = NADIR
^MEX_POINTING_DESC = "MEX_POINTING_DESC.TXT"
RIGHT_ASCENSION = -1e+32
DECLINATION = -1e+32
OFFSET_ANGLE = -1e+32
SPACECRAFT_SOLAR_DISTANCE = 2.34864e+08
TARGET_NAME = MARS
/* CAMERA DATA ELEMENTS */
DETECTOR_TEMPERATURE = 18.3705
FOCAL_PLANE_TEMPERATURE = 8.5833
INST_CMPRS_NAME = "DISCRETE COSINE TRANSFORMATION (DCT)"
INST_CMPRS_RATIO = 11.9913
INST_CMPRS_QUALITY = 0
INST_CMPRS_QUANTZ_TBL_ID = 0
INSTRUMENT_TEMPERATURE = 11.234
LENS_TEMPERATURE = 8.7872
MACROPIXEL_SIZE = 4
PIXEL_SUBSAMPLING_FLAG = N
SIGNAL_CHAIN_ID = 2
/* RADIOMETRIC DATA ELEMENTS */
BANDWIDTH = 88.0
CENTER_FILTER_WAVELENGTH = 538.0
RADIANCE_OFFSET = 0.58651
RADIANCE_SCALING_FACTOR = 0.00410722
REFLECTANCE_SCALING_FACTOR = 0.000195063
MEX:REFLECTANCE_OFFSET = 0.027855
/* IMAGE OBJECT DEFINITIONS */
OBJECT = IMAGE
  INTERCHANGE_FORMAT = BINARY
  LINES = 16148
  LINE_SAMPLES = 3176
  SAMPLE_TYPE = UNSIGNED_INTEGER
  SAMPLE_BITS = 8
  BANDS = 1
  BAND_STORAGE_TYPE = BAND_SEQUENTIAL
  MAXIMUM = 255
  MEAN = 96.6094
  MINIMUM = 1
  STANDARD_DEVIATION = 25.9514
END_OBJECT = IMAGE
/* MAP OBJECT DEFINITIONS */
OBJECT = IMAGE_MAP_PROJECTION
  ^DATA_SET_MAP_PROJECTION_CATALOG= "DSMAP.CAT"
  A_AXIS_RADIUS = 3396.0
  B_AXIS_RADIUS = 3396.0
  C_AXIS_RADIUS = 3396.0
  CENTER_LATITUDE = 0.0
  CENTER_LONGITUDE = 281.0
  COORDINATE_SYSTEM_NAME = PLANETOGRAPHIC
  COORDINATE_SYSTEM_TYPE = "BODY-FIXED ROTATING"
  EASTERNMOST_LONGITUDE = 284.523
  FIRST_STANDARD_PARALLEL = "N/A"
  LINE_FIRST_PIXEL = 1
  LINE_LAST_PIXEL = 16148
  LINE_PROJECTION_OFFSET = -19441.125
  MAP_PROJECTION_ROTATION = 0.0
  MAP_PROJECTION_TYPE = SINUSOIDAL
  MAP_RESOLUTION = 592.713803866667
  MAP_SCALE = 0.1
  MAXIMUM_LATITUDE = -32.8239
  MINIMUM_LATITUDE = -60.0496
  POSITIVE_LONGITUDE_DIRECTION = EAST
  REFERENCE_LATITUDE = "N/A"
  REFERENCE_LONGITUDE = "N/A"
  SAMPLE_FIRST_PIXEL = 1
  SAMPLE_LAST_PIXEL = 3176
  SAMPLE_PROJECTION_OFFSET = 1345.375
  SECOND_STANDARD_PARALLEL = "N/A"
  WESTERNMOST_LONGITUDE = 277.816
END_OBJECT = IMAGE_MAP_PROJECTION
END
