PDS_VERSION_ID = PDS3
/* FILE DATA ELEMENTS */
RECORD_TYPE = UNDEFINED
/* POINTERS TO DATA OBJECTS */
^IMAGE = ("H2645_0000_P14.TIF")
/* IDENTIFICATION DATA ELEMENTS */
DATA_SET_ID = "MEX-M-HRSC-4-REFDR-MAPPROJECT-EXT1-V4.0"
DATA_SET_NAME = "MARS EXPRESS HRSC MAP PROJECTED REFDR EXTENSION1 V4.0"
DETECTOR_ID = MEX_HRSC_P1
EVENT_TYPE = "MARS-REGIONAL-MAPPING-Te-Im-Fl"
INSTRUMENT_HOST_ID = MEX
INSTRUMENT_HOST_NAME = "MARS EXPRESS"
INSTRUMENT_ID = HRSC
INSTRUMENT_NAME = "HIGH RESOLUTION STEREO CAMERA"
MISSION_NAME = "MARS EXPRESS"
MISSION_PHASE_NAME = ME_Phase_2
PROCESSING_LEVEL_ID = 4
PRODUCT_CREATION_TIME = 2023-02-08T07:05:14.000Z
PRODUCT_ID = "H2645_0000_P14.TIF"
RELEASE_ID = 0001
REVISION_ID = 0000
/* QUALITY DATA ELEMENTS */
DATA_QUALITY_ID = 1
DATA_QUALITY_DESC = "Data calculated based on original SPICE kernels"
/* TIME DATA ELEMENTS */
SPACECRAFT_CLOCK_START_COUNT = "1/0086946229.07302"
SPACECRAFT_CLOCK_STOP_COUNT = "1/0086947016.53476"
START_TIME = 2006-02-02T07:44:24.334Z
STOP_TIME = 2006-02-02T07:49:32.056Z
/* ORBITAL DATA ELEMENTS */
ASCENDING_NODE_LONGITUDE = 172.78
MAXIMUM_RESOLUTION = 0.0689
FOOTPRINT_POINT_LATITUDE = (-52.6153,-52.6733,-52.7123,-52.7464, -52.7633,-52.7763,-52.7768,-52.7307, -52.1949,-51.5168,-50.968,-50.4058, -49.8406,-49.2685,-48.6893,-48.1032, -47.3594,-47.0601,-46.7578,-46.4519, -46.1488,-45.843,-45.5333,-45.0557, -44.5767,-44.2568,-43.9358,-43.6113, -43.2851,-42.9572,-42.6283,-42.2957, -41.9606,-41.6226,-41.2836,-40.9413, -40.5941,-40.2465,-39.8965,-39.5438, -39.0101,-38.6528,-38.2915,-37.9286, -37.5623,-37.1921,-37.003,-36.9778, -36.9935,-37.0008,-37.0088,-37.0171, -37.0171,-37.0081,-36.9998,-36.9878, -36.9806,-36.9624,-36.9606,-36.9613, -37.3284,-37.6883,-38.052,-38.5846, -38.9412,-39.2967,-39.6459,-39.9924, -40.3365,-40.6784,-41.0176,-41.3545, -41.6898,-42.0233,-42.3542,-42.6831, -43.0096,-43.3342,-43.6576,-43.9785, -44.2952,-44.7663,-45.0812,-45.3922, -45.701,-46.0093,-46.3142,-46.6168, -47.2165,-47.6648,-48.2531,-48.9765, -49.5402,-50.2391,-50.7933,-51.3411, -51.7471,-52.4158,-52.5487,-52.6153)
FOOTPRINT_POINT_LONGITUDE = (147.32,148.426,149.349,150.411,151.151 ,152.033,152.08,152.132,152.177,152.232 ,152.273,152.317,152.358,152.397, 152.435,152.471,152.514,152.53,152.546, 152.563,152.576,152.59,152.605,152.632, 152.656,152.671,152.684,152.698,152.711 ,152.724,152.736,152.748,152.76,152.772 ,152.784,152.795,152.807,152.818, 152.829,152.839,152.853,152.862,152.871 ,152.879,152.887,152.896,152.901, 152.902,152.424,151.999,151.205,150.675 ,150.252,149.512,148.983,148.506, 148.084,147.502,147.449,147.43,147.444, 147.456,147.47,147.485,147.496,147.508, 147.517,147.525,147.532,147.538,147.544 ,147.549,147.554,147.558,147.561, 147.564,147.566,147.568,147.569,147.57, 147.568,147.565,147.564,147.562,147.558 ,147.555,147.55,147.545,147.533,147.524 ,147.508,147.484,147.459,147.426, 147.398,147.368,147.344,147.301,147.292 ,147.32)
ORBIT_NUMBER = 2645
ORBITAL_ECCENTRICITY = 0.571
ORBITAL_INCLINATION = 86.61
ORBITAL_SEMIMAJOR_AXIS = 8536.73
PERIAPSIS_ALTITUDE = 282.23
PERIAPSIS_ARGUMENT_ANGLE = 253.64
PERIAPSIS_TIME = 2006-02-02T07:30:35.000Z
SPACECRAFT_ORIENTATION = (0.0,-1.0,0.0)
^MEX_ORIENTATION_DESC = "MEX_ORIENTATION_DESC.TXT"
SPACECRAFT_POINTING_MODE = NADIR
^MEX_POINTING_DESC = "MEX_POINTING_DESC.TXT"
RIGHT_ASCENSION = -1e+32
DECLINATION = -1e+32
OFFSET_ANGLE = -1e+32
SPACECRAFT_SOLAR_DISTANCE = 2.35114e+08
TARGET_NAME = MARS
/* CAMERA DATA ELEMENTS */
DETECTOR_TEMPERATURE = 17.351
FOCAL_PLANE_TEMPERATURE = 8.3794
INST_CMPRS_NAME = "DISCRETE COSINE TRANSFORMATION (DCT)"
INST_CMPRS_RATIO = 9.43294
INST_CMPRS_QUALITY = 0
INST_CMPRS_QUANTZ_TBL_ID = 0
INSTRUMENT_TEMPERATURE = 11.234
LENS_TEMPERATURE = 8.9911
MACROPIXEL_SIZE = 2
MISSING_FRAMES = 0
PIXEL_SUBSAMPLING_FLAG = N
SIGNAL_CHAIN_ID = 3
/* RADIOMETRIC DATA ELEMENTS */
BANDWIDTH = 174.0
CENTER_FILTER_WAVELENGTH = 675.0
RADIANCE_OFFSET = 1.65183
RADIANCE_SCALING_FACTOR = 0.0137781
REFLECTANCE_SCALING_FACTOR = 0.000409673
MEX:REFLECTANCE_OFFSET = 0.0491149
/* IMAGE OBJECT DEFINITIONS */
OBJECT = IMAGE
  INTERCHANGE_FORMAT = BINARY
  LINES = 18690
  LINE_SAMPLES = 5861
  SAMPLE_TYPE = UNSIGNED_INTEGER
  SAMPLE_BITS = 8
  BANDS = 1
  BAND_STORAGE_TYPE = BAND_SEQUENTIAL
  MAXIMUM = 255
  MEAN = 96.8914
  MINIMUM = 1
  STANDARD_DEVIATION = 31.7828
END_OBJECT = IMAGE
/* MAP OBJECT DEFINITIONS */
OBJECT = IMAGE_MAP_PROJECTION
  ^DATA_SET_MAP_PROJECTION_CATALOG= "DSMAP.CAT"
  A_AXIS_RADIUS = 3396.0
  B_AXIS_RADIUS = 3396.0
  C_AXIS_RADIUS = 3396.0
  CENTER_LATITUDE = 0.0
  CENTER_LONGITUDE = 150.0
  COORDINATE_SYSTEM_NAME = PLANETOGRAPHIC
  COORDINATE_SYSTEM_TYPE = "BODY-FIXED ROTATING"
  EASTERNMOST_LONGITUDE = 152.902
  FIRST_STANDARD_PARALLEL = "N/A"
  LINE_FIRST_PIXEL = 1
  LINE_LAST_PIXEL = 18690
  LINE_PROJECTION_OFFSET = -43790.75
  MAP_PROJECTION_ROTATION = 0.0
  MAP_PROJECTION_TYPE = SINUSOIDAL
  MAP_RESOLUTION = 1185.42760773333
  MAP_SCALE = 0.05
  MAXIMUM_LATITUDE = -36.9606
  MINIMUM_LATITUDE = -52.7768
  POSITIVE_LONGITUDE_DIRECTION = EAST
  REFERENCE_LATITUDE = "N/A"
  REFERENCE_LONGITUDE = "N/A"
  SAMPLE_FIRST_PIXEL = 1
  SAMPLE_LAST_PIXEL = 5861
  SAMPLE_PROJECTION_OFFSET = 2811.25
  SECOND_STANDARD_PARALLEL = "N/A"
  WESTERNMOST_LONGITUDE = 147.292
END_OBJECT = IMAGE_MAP_PROJECTION
END
