PDS_VERSION_ID = PDS3
/* FILE DATA ELEMENTS */
RECORD_TYPE = UNDEFINED
/* POINTERS TO DATA OBJECTS */
^IMAGE = ("H2648_0000_ND4.TIF")
/* IDENTIFICATION DATA ELEMENTS */
DATA_SET_ID = "MEX-M-HRSC-4-REFDR-MAPPROJECT-EXT1-V4.0"
DATA_SET_NAME = "MARS EXPRESS HRSC MAP PROJECTED REFDR EXTENSION1 V4.0"
DETECTOR_ID = MEX_HRSC_NADIR
EVENT_TYPE = "MARS-REGIONAL-MAPPING-Te-Im-Fl"
INSTRUMENT_HOST_ID = MEX
INSTRUMENT_HOST_NAME = "MARS EXPRESS"
INSTRUMENT_ID = HRSC
INSTRUMENT_NAME = "HIGH RESOLUTION STEREO CAMERA"
MISSION_NAME = "MARS EXPRESS"
MISSION_PHASE_NAME = ME_Phase_2
PROCESSING_LEVEL_ID = 4
PRODUCT_CREATION_TIME = 2023-02-08T07:05:14.000Z
PRODUCT_ID = "H2648_0000_ND4.TIF"
RELEASE_ID = 0001
REVISION_ID = 0000
/* QUALITY DATA ELEMENTS */
DATA_QUALITY_ID = 1
DATA_QUALITY_DESC = "Data calculated based on original SPICE kernels"
/* TIME DATA ELEMENTS */
SPACECRAFT_CLOCK_START_COUNT = "1/0087018647.08384"
SPACECRAFT_CLOCK_STOP_COUNT = "1/0087019469.38125"
START_TIME = 2006-02-03T03:51:59.209Z
STOP_TIME = 2006-02-03T04:01:43.235Z
/* ORBITAL DATA ELEMENTS */
ASCENDING_NODE_LONGITUDE = 172.72
MAXIMUM_RESOLUTION = 0.0306
FOOTPRINT_POINT_LATITUDE = (-67.0522,-67.2261,-67.3658,-67.3679, -67.4797,-66.4468,-65.3967,-64.3192, -63.4923,-62.371,-61.2184,-60.632, -60.0401,-59.4416,-58.8304,-58.2127, -57.5871,-56.9553,-56.3135,-55.6632, -55.0037,-54.3332,-53.6517,-52.9593, -52.2565,-51.542,-50.8158,-50.0735, -49.3229,-48.5671,-47.8116,-46.6804, -45.9269,-45.1739,-44.421,-43.6682, -42.916,-41.7877,-41.0361,-40.2843, -39.5324,-38.7803,-38.0279,-37.2754, -36.5226,-35.7694,-35.0156,-34.2612, -33.8838,-33.8653,-33.8431,-33.7854, -33.7474,-33.6478,-33.6438,-33.6426, -34.3969,-35.1506,-35.9037,-36.6563, -37.4085,-38.1604,-39.2879,-40.415, -41.1659,-41.9169,-42.6682,-43.4195, -44.1724,-44.9243,-45.674,-46.4251, -47.1786,-47.9352,-48.6877,-49.8167, -50.5534,-51.2802,-51.9929,-52.6938, -53.3843,-54.0638,-54.7349,-55.391, -56.0395,-56.6771,-57.3085,-57.932, -58.5484,-59.1519,-59.7473,-60.6326, -61.7817,-62.9095,-64.0098,-65.0803, -66.1211,-66.8965,-67.151,-67.0522)
FOOTPRINT_POINT_LONGITUDE = (209.443,212.53,216.067,216.134,216.239 ,216.47,216.688,216.888,217.028,217.205 ,217.367,217.445,217.522,217.597, 217.666,217.734,217.8,217.867,217.931, 217.994,218.056,218.115,218.173,218.228 ,218.283,218.336,218.389,218.434, 218.486,218.535,218.582,218.651,218.695 ,218.738,218.779,218.817,218.857, 218.909,218.948,218.985,219.02,219.056, 219.09,219.124,219.157,219.189,219.222, 219.255,219.271,219.271,217.667,215.773 ,214.922,213.163,213.102,213.072, 213.074,213.074,213.073,213.069,213.064 ,213.056,213.042,213.025,213.008, 212.988,212.966,212.942,212.911,212.882 ,212.855,212.822,212.781,212.732, 212.688,212.608,212.552,212.49,212.427, 212.361,212.29,212.216,212.137,212.059, 211.974,211.888,211.794,211.695,211.591 ,211.488,211.379,211.201,210.951, 210.674,210.374,210.053,209.711,209.424 ,209.325,209.443)
ORBIT_NUMBER = 2648
ORBITAL_ECCENTRICITY = 0.571
ORBITAL_INCLINATION = 86.62
ORBITAL_SEMIMAJOR_AXIS = 8538.03
PERIAPSIS_ALTITUDE = 280.81
PERIAPSIS_ARGUMENT_ANGLE = 253.13
PERIAPSIS_TIME = 2006-02-03T03:40:11.000Z
SPACECRAFT_ORIENTATION = (0.0,-1.0,0.0)
^MEX_ORIENTATION_DESC = "MEX_ORIENTATION_DESC.TXT"
SPACECRAFT_POINTING_MODE = INERT
^MEX_POINTING_DESC = "MEX_POINTING_DESC.TXT"
RIGHT_ASCENSION = 291.208
DECLINATION = 48.609
OFFSET_ANGLE = -1e+32
SPACECRAFT_SOLAR_DISTANCE = 2.35263e+08
TARGET_NAME = MARS
/* CAMERA DATA ELEMENTS */
DETECTOR_TEMPERATURE = 18.1666
FOCAL_PLANE_TEMPERATURE = 8.7872
INST_CMPRS_NAME = "DISCRETE COSINE TRANSFORMATION (DCT)"
INST_CMPRS_RATIO = 6.86436
INST_CMPRS_QUALITY = 0
INST_CMPRS_QUANTZ_TBL_ID = 0
INSTRUMENT_TEMPERATURE = 11.234
LENS_TEMPERATURE = 8.9911
MACROPIXEL_SIZE = 1
MISSING_FRAMES = 0
PIXEL_SUBSAMPLING_FLAG = N
SIGNAL_CHAIN_ID = 0
/* RADIOMETRIC DATA ELEMENTS */
BANDWIDTH = 177.0
CENTER_FILTER_WAVELENGTH = 677.5
RADIANCE_OFFSET = 0.717736
RADIANCE_SCALING_FACTOR = 0.0168879
REFLECTANCE_SCALING_FACTOR = 0.000496562
MEX:REFLECTANCE_OFFSET = 0.0211039
/* IMAGE OBJECT DEFINITIONS */
OBJECT = IMAGE
  INTERCHANGE_FORMAT = BINARY
  LINES = 80215
  LINE_SAMPLES = 13624
  SAMPLE_TYPE = UNSIGNED_INTEGER
  SAMPLE_BITS = 8
  BANDS = 1
  BAND_STORAGE_TYPE = BAND_SEQUENTIAL
  MAXIMUM = 255
  MEAN = 94.8102
  MINIMUM = 1
  STANDARD_DEVIATION = 42.1816
END_OBJECT = IMAGE
/* MAP OBJECT DEFINITIONS */
OBJECT = IMAGE_MAP_PROJECTION
  ^DATA_SET_MAP_PROJECTION_CATALOG= "DSMAP.CAT"
  A_AXIS_RADIUS = 3396.0
  B_AXIS_RADIUS = 3396.0
  C_AXIS_RADIUS = 3396.0
  CENTER_LATITUDE = 0.0
  CENTER_LONGITUDE = 215.0
  COORDINATE_SYSTEM_NAME = PLANETOGRAPHIC
  COORDINATE_SYSTEM_TYPE = "BODY-FIXED ROTATING"
  EASTERNMOST_LONGITUDE = 219.271
  FIRST_STANDARD_PARALLEL = "N/A"
  LINE_FIRST_PIXEL = 1
  LINE_LAST_PIXEL = 80215
  LINE_PROJECTION_OFFSET = -79769.0
  MAP_PROJECTION_ROTATION = 0.0
  MAP_PROJECTION_TYPE = SINUSOIDAL
  MAP_RESOLUTION = 2370.85521546667
  MAP_SCALE = 0.025
  MAXIMUM_LATITUDE = -33.6426
  MINIMUM_LATITUDE = -67.47969999999999
  POSITIVE_LONGITUDE_DIRECTION = EAST
  REFERENCE_LATITUDE = "N/A"
  REFERENCE_LONGITUDE = "N/A"
  SAMPLE_FIRST_PIXEL = 1
  SAMPLE_LAST_PIXEL = 13624
  SAMPLE_PROJECTION_OFFSET = 5219.0
  SECOND_STANDARD_PARALLEL = "N/A"
  WESTERNMOST_LONGITUDE = 209.325
END_OBJECT = IMAGE_MAP_PROJECTION
END
