PDS_VERSION_ID = PDS3
/* FILE DATA ELEMENTS */
RECORD_TYPE = UNDEFINED
/* POINTERS TO DATA OBJECTS */
^IMAGE = ("H2652_0000_P24.TIF")
/* IDENTIFICATION DATA ELEMENTS */
DATA_SET_ID = "MEX-M-HRSC-4-REFDR-MAPPROJECT-EXT1-V4.0"
DATA_SET_NAME = "MARS EXPRESS HRSC MAP PROJECTED REFDR EXTENSION1 V4.0"
DETECTOR_ID = MEX_HRSC_P2
EVENT_TYPE = "MARS-REGIONAL-MAPPING-Im-Fl"
INSTRUMENT_HOST_ID = MEX
INSTRUMENT_HOST_NAME = "MARS EXPRESS"
INSTRUMENT_ID = HRSC
INSTRUMENT_NAME = "HIGH RESOLUTION STEREO CAMERA"
MISSION_NAME = "MARS EXPRESS"
MISSION_PHASE_NAME = ME_Phase_2
PROCESSING_LEVEL_ID = 4
PRODUCT_CREATION_TIME = 2023-02-08T07:05:14.000Z
PRODUCT_ID = "H2652_0000_P24.TIF"
RELEASE_ID = 0001
REVISION_ID = 0000
/* QUALITY DATA ELEMENTS */
DATA_QUALITY_ID = 1
DATA_QUALITY_DESC = "Data calculated based on original SPICE kernels"
/* TIME DATA ELEMENTS */
SPACECRAFT_CLOCK_START_COUNT = "1/0087115473.07294"
SPACECRAFT_CLOCK_STOP_COUNT = "1/0087116047.00586"
START_TIME = 2006-02-04T06:47:00.173Z
STOP_TIME = 2006-02-04T06:52:41.183Z
/* ORBITAL DATA ELEMENTS */
ASCENDING_NODE_LONGITUDE = 172.64
MAXIMUM_RESOLUTION = 0.0703
FOOTPRINT_POINT_LATITUDE = (-59.6824,-59.7303,-59.7557,-59.7922, -59.8124,-59.8357,-59.8598,-59.8826, -59.8835,-59.9417,-59.3206,-58.8087, -58.4182,-57.9001,-57.3761,-56.8468, -56.3089,-55.9025,-55.6292,-55.3548, -55.0783,-54.8,-54.52,-54.2389,-53.9558 ,-53.6713,-53.3848,-53.0953,-52.8051, -52.3709,-52.0766,-51.7852,-51.4892, -51.2005,-50.7732,-50.4886,-50.2014, -49.9175,-49.6408,-49.3617,-48.9447, -48.67,-48.3963,-48.1239,-47.8535, -47.3167,-46.9155,-46.3919,-46.2618, -46.2313,-46.2488,-46.2505,-46.254, -46.2536,-46.2477,-46.2442,-46.2384, -46.2323,-46.2166,-46.2153,-46.2156, -46.7307,-47.2514,-47.7799,-48.3098, -48.5795,-48.8509,-49.1233,-49.3974, -49.6731,-49.9492,-50.2275,-50.5079, -50.7894,-51.0725,-51.3572,-51.6429, -51.9305,-52.2203,-52.5087,-52.7947, -53.0802,-53.3645,-53.6466,-53.9265, -54.205,-54.4817,-54.7572,-55.031, -55.442,-55.8432,-56.3777,-56.905, -57.4311,-58.0749,-58.5853,-59.0895, -59.5881,-59.7119,-59.6824)
FOOTPRINT_POINT_LONGITUDE = (177.996,178.955,179.519,180.422, 180.988,181.723,182.63,183.769,183.826, 183.893,184.0,184.076,184.13,184.206, 184.281,184.355,184.425,184.477,184.511 ,184.546,184.579,184.612,184.644, 184.677,184.709,184.741,184.772,184.802 ,184.832,184.881,184.91,184.94,184.965, 184.993,185.037,185.065,185.089,185.113 ,185.141,185.166,185.202,185.226,185.25 ,185.273,185.296,185.341,185.372, 185.416,185.427,185.429,184.59,183.876, 183.165,182.327,181.747,181.167,180.263 ,179.615,178.838,178.773,178.749, 178.753,178.755,178.753,178.753,178.749 ,178.745,178.741,178.736,178.73,178.724 ,178.717,178.709,178.7,178.691,178.68, 178.669,178.657,178.644,178.63,178.616, 178.6,178.583,178.565,178.547,178.528, 178.509,178.488,178.467,178.431,178.399 ,178.348,178.295,178.234,178.159, 178.093,178.024,177.952,177.933, 177.996)
ORBIT_NUMBER = 2652
ORBITAL_ECCENTRICITY = 0.571
ORBITAL_INCLINATION = 86.61
ORBITAL_SEMIMAJOR_AXIS = 8538.66
PERIAPSIS_ALTITUDE = 281.72
PERIAPSIS_ARGUMENT_ANGLE = 252.43
PERIAPSIS_TIME = 2006-02-04T06:33:02.000Z
SPACECRAFT_ORIENTATION = (0.0,-1.0,0.0)
^MEX_ORIENTATION_DESC = "MEX_ORIENTATION_DESC.TXT"
SPACECRAFT_POINTING_MODE = NADIR
^MEX_POINTING_DESC = "MEX_POINTING_DESC.TXT"
RIGHT_ASCENSION = -1e+32
DECLINATION = -1e+32
OFFSET_ANGLE = -1e+32
SPACECRAFT_SOLAR_DISTANCE = 2.35461e+08
TARGET_NAME = MARS
/* CAMERA DATA ELEMENTS */
DETECTOR_TEMPERATURE = 18.3705
FOCAL_PLANE_TEMPERATURE = 7.9716
INST_CMPRS_NAME = "DISCRETE COSINE TRANSFORMATION (DCT)"
INST_CMPRS_RATIO = 7.98912
INST_CMPRS_QUALITY = 0
INST_CMPRS_QUANTZ_TBL_ID = 0
INSTRUMENT_TEMPERATURE = 11.0301
LENS_TEMPERATURE = 8.5833
MACROPIXEL_SIZE = 2
MISSING_FRAMES = 0
PIXEL_SUBSAMPLING_FLAG = N
SIGNAL_CHAIN_ID = 3
/* RADIOMETRIC DATA ELEMENTS */
BANDWIDTH = 177.0
CENTER_FILTER_WAVELENGTH = 676.5
RADIANCE_OFFSET = 0.979235
RADIANCE_SCALING_FACTOR = 0.0130805
REFLECTANCE_SCALING_FACTOR = 0.000384524
MEX:REFLECTANCE_OFFSET = 0.0287864
/* IMAGE OBJECT DEFINITIONS */
OBJECT = IMAGE
  INTERCHANGE_FORMAT = BINARY
  LINES = 16335
  LINE_SAMPLES = 4710
  SAMPLE_TYPE = UNSIGNED_INTEGER
  SAMPLE_BITS = 8
  BANDS = 1
  BAND_STORAGE_TYPE = BAND_SEQUENTIAL
  MAXIMUM = 255
  MEAN = 81.8618
  MINIMUM = 1
  STANDARD_DEVIATION = 33.0121
END_OBJECT = IMAGE
/* MAP OBJECT DEFINITIONS */
OBJECT = IMAGE_MAP_PROJECTION
  ^DATA_SET_MAP_PROJECTION_CATALOG= "DSMAP.CAT"
  A_AXIS_RADIUS = 3396.0
  B_AXIS_RADIUS = 3396.0
  C_AXIS_RADIUS = 3396.0
  CENTER_LATITUDE = 0.0
  CENTER_LONGITUDE = 182.0
  COORDINATE_SYSTEM_NAME = PLANETOGRAPHIC
  COORDINATE_SYSTEM_TYPE = "BODY-FIXED ROTATING"
  EASTERNMOST_LONGITUDE = 185.429
  FIRST_STANDARD_PARALLEL = "N/A"
  LINE_FIRST_PIXEL = 1
  LINE_LAST_PIXEL = 16335
  LINE_PROJECTION_OFFSET = -54754.75
  MAP_PROJECTION_ROTATION = 0.0
  MAP_PROJECTION_TYPE = SINUSOIDAL
  MAP_RESOLUTION = 1185.42760773333
  MAP_SCALE = 0.05
  MAXIMUM_LATITUDE = -46.2153
  MINIMUM_LATITUDE = -59.9417
  POSITIVE_LONGITUDE_DIRECTION = EAST
  REFERENCE_LATITUDE = "N/A"
  REFERENCE_LONGITUDE = "N/A"
  SAMPLE_FIRST_PIXEL = 1
  SAMPLE_LAST_PIXEL = 4710
  SAMPLE_PROJECTION_OFFSET = 2339.25
  SECOND_STANDARD_PARALLEL = "N/A"
  WESTERNMOST_LONGITUDE = 177.933
END_OBJECT = IMAGE_MAP_PROJECTION
END
