PDS_VERSION_ID = PDS3
/* FILE DATA ELEMENTS */
RECORD_TYPE = UNDEFINED
/* POINTERS TO DATA OBJECTS */
^IMAGE = ("H2652_0000_RE4.TIF")
/* IDENTIFICATION DATA ELEMENTS */
DATA_SET_ID = "MEX-M-HRSC-4-REFDR-MAPPROJECT-EXT1-V4.0"
DATA_SET_NAME = "MARS EXPRESS HRSC MAP PROJECTED REFDR EXTENSION1 V4.0"
DETECTOR_ID = MEX_HRSC_RED
EVENT_TYPE = "MARS-REGIONAL-MAPPING-Im-Fl"
INSTRUMENT_HOST_ID = MEX
INSTRUMENT_HOST_NAME = "MARS EXPRESS"
INSTRUMENT_ID = HRSC
INSTRUMENT_NAME = "HIGH RESOLUTION STEREO CAMERA"
MISSION_NAME = "MARS EXPRESS"
MISSION_PHASE_NAME = ME_Phase_2
PROCESSING_LEVEL_ID = 4
PRODUCT_CREATION_TIME = 2023-02-08T07:05:14.000Z
PRODUCT_ID = "H2652_0000_RE4.TIF"
RELEASE_ID = 0001
REVISION_ID = 0000
/* QUALITY DATA ELEMENTS */
DATA_QUALITY_ID = 1
DATA_QUALITY_DESC = "Data calculated based on original SPICE kernels"
/* TIME DATA ELEMENTS */
SPACECRAFT_CLOCK_START_COUNT = "1/0087115473.07294"
SPACECRAFT_CLOCK_STOP_COUNT = "1/0087116047.00586"
START_TIME = 2006-02-04T06:47:20.177Z
STOP_TIME = 2006-02-04T06:53:22.322Z
/* ORBITAL DATA ELEMENTS */
ASCENDING_NODE_LONGITUDE = 172.64
MAXIMUM_RESOLUTION = 0.1474
FOOTPRINT_POINT_LATITUDE = (-59.6641,-59.7049,-59.7437,-59.7676, -59.7892,-59.8198,-59.8419,-59.8619, -59.8628,-59.9359,-59.3029,-58.6457, -58.3757,-57.8469,-57.3144,-57.0406, -56.7705,-56.495,-56.2193,-55.9423, -55.6644,-55.3844,-55.1023,-54.8191, -54.39,-54.1023,-53.813,-53.5217, -53.2281,-52.9359,-52.6449,-52.2193, -51.9352,-51.6483,-51.223,-50.9487, -50.6715,-50.3956,-50.1154,-49.8438, -49.5753,-49.3056,-48.7716,-48.2446, -47.7262,-46.953,-46.4523,-46.3272, -46.2195,-46.2221,-46.2411,-46.2423, -46.2473,-46.2552,-46.2505,-46.2464, -46.2459,-46.2467,-46.245,-46.2364, -46.2307,-46.2297,-46.231,-46.722, -47.2192,-47.8551,-48.3599,-48.7505, -49.2757,-49.8066,-50.3435,-50.6156, -50.8883,-51.3016,-51.5778,-51.9973, -52.2789,-52.5616,-52.8461,-53.1333, -53.421,-53.8516,-54.1353,-54.4175, -54.6978,-54.9768,-55.255,-55.5367, -55.8053,-56.0789,-56.3508,-56.6207, -57.0241,-57.2943,-57.8204,-58.6055, -59.1209,-59.5036,-59.6298,-59.6641)
FOOTPRINT_POINT_LONGITUDE = (177.928,178.768,179.663,180.28,180.897 ,181.907,182.807,183.881,183.937, 184.001,184.114,184.214,184.25,184.332, 184.413,184.449,184.489,184.526,184.563 ,184.6,184.637,184.674,184.709,184.745, 184.797,184.832,184.867,184.901,184.934 ,184.966,184.998,185.049,185.08,185.109 ,185.152,185.184,185.213,185.241, 185.265,185.293,185.322,185.348,185.4, 185.45,185.501,185.57,185.619,185.63, 185.639,185.248,184.596,184.07,183.483, 182.896,182.244,181.788,181.397,180.679 ,179.763,179.174,178.715,178.649, 178.627,178.633,178.638,178.637,178.641 ,178.637,178.631,178.622,178.611, 178.604,178.597,178.583,178.574,178.558 ,178.546,178.533,178.52,178.505,178.489 ,178.462,178.445,178.426,178.407, 178.386,178.364,178.338,178.32,178.295, 178.27,178.244,178.203,178.171,178.114, 178.016,177.946,177.892,177.873, 177.928)
ORBIT_NUMBER = 2652
ORBITAL_ECCENTRICITY = 0.571
ORBITAL_INCLINATION = 86.61
ORBITAL_SEMIMAJOR_AXIS = 8538.66
PERIAPSIS_ALTITUDE = 281.72
PERIAPSIS_ARGUMENT_ANGLE = 252.43
PERIAPSIS_TIME = 2006-02-04T06:33:02.000Z
SPACECRAFT_ORIENTATION = (0.0,-1.0,0.0)
^MEX_ORIENTATION_DESC = "MEX_ORIENTATION_DESC.TXT"
SPACECRAFT_POINTING_MODE = NADIR
^MEX_POINTING_DESC = "MEX_POINTING_DESC.TXT"
RIGHT_ASCENSION = -1e+32
DECLINATION = -1e+32
OFFSET_ANGLE = -1e+32
SPACECRAFT_SOLAR_DISTANCE = 2.35461e+08
TARGET_NAME = MARS
/* CAMERA DATA ELEMENTS */
DETECTOR_TEMPERATURE = 18.3705
FOCAL_PLANE_TEMPERATURE = 7.9716
INST_CMPRS_NAME = "DISCRETE COSINE TRANSFORMATION (DCT)"
INST_CMPRS_RATIO = 21.8062
INST_CMPRS_QUALITY = 0
INST_CMPRS_QUANTZ_TBL_ID = 0
INSTRUMENT_TEMPERATURE = 11.0301
LENS_TEMPERATURE = 8.5833
MACROPIXEL_SIZE = 4
MISSING_FRAMES = 0
PIXEL_SUBSAMPLING_FLAG = N
SIGNAL_CHAIN_ID = 2
/* RADIOMETRIC DATA ELEMENTS */
BANDWIDTH = 48.0
CENTER_FILTER_WAVELENGTH = 748.0
RADIANCE_OFFSET = 0.25977
RADIANCE_SCALING_FACTOR = 0.00374884
REFLECTANCE_SCALING_FACTOR = 0.000474316
MEX:REFLECTANCE_OFFSET = 0.032867
/* IMAGE OBJECT DEFINITIONS */
OBJECT = IMAGE
  INTERCHANGE_FORMAT = BINARY
  LINES = 8168
  LINE_SAMPLES = 2355
  SAMPLE_TYPE = UNSIGNED_INTEGER
  SAMPLE_BITS = 8
  BANDS = 1
  BAND_STORAGE_TYPE = BAND_SEQUENTIAL
  MAXIMUM = 255
  MEAN = 79.9962
  MINIMUM = 1
  STANDARD_DEVIATION = 34.8755
END_OBJECT = IMAGE
/* MAP OBJECT DEFINITIONS */
OBJECT = IMAGE_MAP_PROJECTION
  ^DATA_SET_MAP_PROJECTION_CATALOG= "DSMAP.CAT"
  A_AXIS_RADIUS = 3396.0
  B_AXIS_RADIUS = 3396.0
  C_AXIS_RADIUS = 3396.0
  CENTER_LATITUDE = 0.0
  CENTER_LONGITUDE = 182.0
  COORDINATE_SYSTEM_NAME = PLANETOGRAPHIC
  COORDINATE_SYSTEM_TYPE = "BODY-FIXED ROTATING"
  EASTERNMOST_LONGITUDE = 185.639
  FIRST_STANDARD_PARALLEL = "N/A"
  LINE_FIRST_PIXEL = 1
  LINE_LAST_PIXEL = 8168
  LINE_PROJECTION_OFFSET = -27377.625
  MAP_PROJECTION_ROTATION = 0.0
  MAP_PROJECTION_TYPE = SINUSOIDAL
  MAP_RESOLUTION = 592.713803866667
  MAP_SCALE = 0.1
  MAXIMUM_LATITUDE = -46.2195
  MINIMUM_LATITUDE = -59.9359
  POSITIVE_LONGITUDE_DIRECTION = EAST
  REFERENCE_LATITUDE = "N/A"
  REFERENCE_LONGITUDE = "N/A"
  SAMPLE_FIRST_PIXEL = 1
  SAMPLE_LAST_PIXEL = 2355
  SAMPLE_PROJECTION_OFFSET = 1169.375
  SECOND_STANDARD_PARALLEL = "N/A"
  WESTERNMOST_LONGITUDE = 177.873
END_OBJECT = IMAGE_MAP_PROJECTION
END
