PDS_VERSION_ID = PDS3
/* FILE DATA ELEMENTS */
RECORD_TYPE = UNDEFINED
/* POINTERS TO DATA OBJECTS */
^IMAGE = ("H2660_0000_BL4.TIF")
/* IDENTIFICATION DATA ELEMENTS */
DATA_SET_ID = "MEX-M-HRSC-4-REFDR-MAPPROJECT-EXT1-V4.0"
DATA_SET_NAME = "MARS EXPRESS HRSC MAP PROJECTED REFDR EXTENSION1 V4.0"
DETECTOR_ID = MEX_HRSC_BLUE
EVENT_TYPE = "MARS-TERMINATOR-VARIABLE-Gl-Eo-At"
INSTRUMENT_HOST_ID = MEX
INSTRUMENT_HOST_NAME = "MARS EXPRESS"
INSTRUMENT_ID = HRSC
INSTRUMENT_NAME = "HIGH RESOLUTION STEREO CAMERA"
MISSION_NAME = "MARS EXPRESS"
MISSION_PHASE_NAME = ME_Phase_2
PROCESSING_LEVEL_ID = 4
PRODUCT_CREATION_TIME = 2023-02-08T07:05:14.000Z
PRODUCT_ID = "H2660_0000_BL4.TIF"
RELEASE_ID = 0001
REVISION_ID = 0000
/* QUALITY DATA ELEMENTS */
DATA_QUALITY_ID = 1
DATA_QUALITY_DESC = "Data calculated based on original SPICE kernels"
/* TIME DATA ELEMENTS */
SPACECRAFT_CLOCK_START_COUNT = "1/0087308694.09061"
SPACECRAFT_CLOCK_STOP_COUNT = "1/0087308984.65077"
START_TIME = 2006-02-06T12:25:46.710Z
STOP_TIME = 2006-02-06T12:28:49.108Z
/* ORBITAL DATA ELEMENTS */
ASCENDING_NODE_LONGITUDE = 172.47
MAXIMUM_RESOLUTION = 0.071
FOOTPRINT_POINT_LATITUDE = (-80.4416,-80.6207,-80.7237,-80.801, -80.9039,-80.9658,-80.9697,-80.9951, -80.7251,-80.3649,-79.9969,-79.6277, -79.2528,-78.9694,-78.7789,-78.5858, -78.3928,-78.2002,-77.9056,-77.7087, -77.512,-77.2117,-77.011,-76.8105, -76.6064,-76.4021,-76.1978,-75.9902, -75.7818,-75.5727,-75.3626,-75.1518, -74.9406,-74.7264,-74.5116,-74.2969, -74.0784,-73.7507,-73.4181,-73.1966, -72.8601,-72.6354,-72.2939,-72.0661, -71.8362,-71.6054,-71.2556,-71.0216, -70.7845,-70.666,-70.6196,-70.5737, -70.5332,-70.494,-70.4546,-70.3842, -70.3061,-70.3022,-70.3022,-70.5369, -70.8856,-71.2318,-71.4595,-71.8002, -72.0248,-72.2497,-72.4711,-72.6928, -73.0215,-73.2396,-73.4566,-73.6711, -73.992,-74.203,-74.4152,-74.6247, -74.8323,-75.0399,-75.3475,-75.5514, -75.7551,-75.9548,-76.2539,-76.4526, -76.6481,-76.8442,-77.0402,-77.2322, -77.424,-77.6159,-77.8993,-78.0867, -78.4595,-78.8252,-79.0983,-79.4544, -79.9819,-80.3264,-80.4124,-80.4416)
FOOTPRINT_POINT_LONGITUDE = (96.5488,99.0202,100.611,101.907, 103.807,105.071,105.155,105.32,105.852, 106.513,107.134,107.712,108.266,108.651 ,108.898,109.14,109.374,109.6,109.93, 110.141,110.345,110.644,110.835,111.021 ,111.203,111.38,111.551,111.717,111.879 ,112.032,112.192,112.348,112.495, 112.641,112.782,112.919,113.055,113.248 ,113.438,113.56,113.741,113.857,114.026 ,114.135,114.249,114.356,114.511, 114.612,114.71,114.759,114.778,113.552, 112.621,111.809,111.058,109.851,108.652 ,108.595,108.576,108.451,108.259, 108.062,107.929,107.722,107.581,107.432 ,107.282,107.127,106.89,106.728,106.561 ,106.391,106.129,105.949,105.751, 105.556,105.36,105.159,104.847,104.633, 104.412,104.191,103.855,103.609,103.37, 103.115,102.852,102.584,102.309,102.024 ,101.584,101.282,100.649,99.9818, 99.4512,98.7131,97.5078,96.6513,96.4248 ,96.5488)
ORBIT_NUMBER = 2660
ORBITAL_ECCENTRICITY = 0.571
ORBITAL_INCLINATION = 86.62
ORBITAL_SEMIMAJOR_AXIS = 8537.68
PERIAPSIS_ALTITUDE = 281.31
PERIAPSIS_ARGUMENT_ANGLE = 251.03
PERIAPSIS_TIME = 2006-02-06T12:18:36.000Z
SPACECRAFT_ORIENTATION = (0.0,-1.0,0.0)
^MEX_ORIENTATION_DESC = "MEX_ORIENTATION_DESC.TXT"
SPACECRAFT_POINTING_MODE = NADIR
^MEX_POINTING_DESC = "MEX_POINTING_DESC.TXT"
RIGHT_ASCENSION = -1e+32
DECLINATION = -1e+32
OFFSET_ANGLE = -1e+32
SPACECRAFT_SOLAR_DISTANCE = 2.35854e+08
TARGET_NAME = MARS
/* CAMERA DATA ELEMENTS */
DETECTOR_TEMPERATURE = 18.3705
FOCAL_PLANE_TEMPERATURE = 8.5833
INST_CMPRS_NAME = "DISCRETE COSINE TRANSFORMATION (DCT)"
INST_CMPRS_RATIO = 7.23125
INST_CMPRS_QUALITY = 0
INST_CMPRS_QUANTZ_TBL_ID = 0
INSTRUMENT_TEMPERATURE = 11.0301
LENS_TEMPERATURE = 8.7872
MACROPIXEL_SIZE = 4
MISSING_FRAMES = 0
PIXEL_SUBSAMPLING_FLAG = N
SIGNAL_CHAIN_ID = 2
/* RADIOMETRIC DATA ELEMENTS */
BANDWIDTH = 76.0
CENTER_FILTER_WAVELENGTH = 444.0
RADIANCE_OFFSET = 0.0
RADIANCE_SCALING_FACTOR = 0.0010511
REFLECTANCE_SCALING_FACTOR = 6.00744e-05
MEX:REFLECTANCE_OFFSET = 0.0
/* IMAGE OBJECT DEFINITIONS */
OBJECT = IMAGE
  INTERCHANGE_FORMAT = BINARY
  LINES = 12676
  LINE_SAMPLES = 4939
  SAMPLE_TYPE = UNSIGNED_INTEGER
  SAMPLE_BITS = 8
  BANDS = 1
  BAND_STORAGE_TYPE = BAND_SEQUENTIAL
  MAXIMUM = 254
  MEAN = 109.477
  MINIMUM = 1
  STANDARD_DEVIATION = 50.3669
END_OBJECT = IMAGE
/* MAP OBJECT DEFINITIONS */
OBJECT = IMAGE_MAP_PROJECTION
  ^DATA_SET_MAP_PROJECTION_CATALOG= "DSMAP.CAT"
  A_AXIS_RADIUS = 3396.0
  B_AXIS_RADIUS = 3396.0
  C_AXIS_RADIUS = 3396.0
  CENTER_LATITUDE = 0.0
  CENTER_LONGITUDE = 108.0
  COORDINATE_SYSTEM_NAME = PLANETOGRAPHIC
  COORDINATE_SYSTEM_TYPE = "BODY-FIXED ROTATING"
  EASTERNMOST_LONGITUDE = 114.778
  FIRST_STANDARD_PARALLEL = "N/A"
  LINE_FIRST_PIXEL = 1
  LINE_LAST_PIXEL = 12676
  LINE_PROJECTION_OFFSET = -83364.25
  MAP_PROJECTION_ROTATION = 0.0
  MAP_PROJECTION_TYPE = SINUSOIDAL
  MAP_RESOLUTION = 1185.42760773333
  MAP_SCALE = 0.05
  MAXIMUM_LATITUDE = -70.3022
  MINIMUM_LATITUDE = -80.99509999999999
  POSITIVE_LONGITUDE_DIRECTION = EAST
  REFERENCE_LATITUDE = "N/A"
  REFERENCE_LONGITUDE = "N/A"
  SAMPLE_FIRST_PIXEL = 1
  SAMPLE_LAST_PIXEL = 4939
  SAMPLE_PROJECTION_OFFSET = 2288.25
  SECOND_STANDARD_PARALLEL = "N/A"
  WESTERNMOST_LONGITUDE = 96.4248
END_OBJECT = IMAGE_MAP_PROJECTION
END
