PDS_VERSION_ID = PDS3
/* FILE DATA ELEMENTS */
RECORD_TYPE = UNDEFINED
/* POINTERS TO DATA OBJECTS */
^IMAGE = ("H2660_0000_P24.TIF")
/* IDENTIFICATION DATA ELEMENTS */
DATA_SET_ID = "MEX-M-HRSC-4-REFDR-MAPPROJECT-EXT1-V4.0"
DATA_SET_NAME = "MARS EXPRESS HRSC MAP PROJECTED REFDR EXTENSION1 V4.0"
DETECTOR_ID = MEX_HRSC_P2
EVENT_TYPE = "MARS-TERMINATOR-VARIABLE-Gl-Eo-At"
INSTRUMENT_HOST_ID = MEX
INSTRUMENT_HOST_NAME = "MARS EXPRESS"
INSTRUMENT_ID = HRSC
INSTRUMENT_NAME = "HIGH RESOLUTION STEREO CAMERA"
MISSION_NAME = "MARS EXPRESS"
MISSION_PHASE_NAME = ME_Phase_2
PROCESSING_LEVEL_ID = 4
PRODUCT_CREATION_TIME = 2023-02-08T07:05:14.000Z
PRODUCT_ID = "H2660_0000_P24.TIF"
RELEASE_ID = 0001
REVISION_ID = 0000
/* QUALITY DATA ELEMENTS */
DATA_QUALITY_ID = 1
DATA_QUALITY_DESC = "Data calculated based on original SPICE kernels"
/* TIME DATA ELEMENTS */
SPACECRAFT_CLOCK_START_COUNT = "1/0087308694.09061"
SPACECRAFT_CLOCK_STOP_COUNT = "1/0087308984.65077"
START_TIME = 2006-02-06T12:26:08.737Z
STOP_TIME = 2006-02-06T12:29:22.065Z
/* ORBITAL DATA ELEMENTS */
ASCENDING_NODE_LONGITUDE = 172.47
MAXIMUM_RESOLUTION = 0.0759
FOOTPRINT_POINT_LATITUDE = (-80.3835,-80.5572,-80.6483,-80.7632, -80.8371,-80.9226,-80.9266,-80.9977, -80.7284,-80.3644,-79.9963,-79.442, -78.9665,-78.7751,-78.5813,-78.3877, -78.1945,-77.9978,-77.8007,-77.5042, -77.3038,-77.1037,-76.7994,-76.5957, -76.3917,-76.1841,-75.8726,-75.5532, -75.3457,-75.0287,-74.8161,-74.4932, -74.2774,-74.0596,-73.8379,-73.5063, -73.285,-73.0608,-72.7233,-72.4982, -72.2716,-72.0417,-71.6979,-71.4649, -71.2331,-70.9972,-70.7616,-70.6427, -70.6346,-70.6142,-70.591,-70.5652, -70.5269,-70.4496,-70.3678,-70.3129, -70.3088,-70.3088,-70.6598,-70.8929, -71.1225,-71.3514,-71.5774,-71.8035, -72.0272,-72.2524,-72.4744,-72.6959, -73.0245,-73.3509,-73.5654,-73.7807, -73.9919,-74.3128,-74.5241,-74.7362, -74.9447,-75.2536,-75.4593,-75.6617, -75.9638,-76.1591,-76.3601,-76.5583, -76.8512,-77.0472,-77.2415,-77.4335, -77.6266,-77.8172,-78.0047,-78.1925, -78.38,-78.7473,-79.1117,-79.47, -79.8225,-80.3427,-80.4274,-80.3835)
FOOTPRINT_POINT_LONGITUDE = (96.5296,98.9446,100.349,102.29,103.667 ,105.421,105.509,105.596,106.123, 106.786,107.403,108.262,108.914,109.161 ,109.402,109.634,109.859,110.08,110.293 ,110.602,110.802,110.995,111.277, 111.458,111.632,111.805,112.052,112.288 ,112.446,112.675,112.821,113.035, 113.172,113.307,113.436,113.627,113.752 ,113.873,114.05,114.168,114.281,114.392 ,114.555,114.66,114.764,114.865,114.963 ,115.012,115.016,114.396,113.772,113.15 ,112.284,110.744,109.339,108.488, 108.427,108.406,108.219,108.09,107.959, 107.828,107.694,107.556,107.416,107.267 ,107.117,106.963,106.726,106.481, 106.314,106.141,105.968,105.686,105.492 ,105.289,105.09,104.781,104.568,104.352 ,104.02,103.804,103.559,103.317,102.942 ,102.678,102.406,102.13,101.84,101.546, 101.248,100.939,100.619,99.9572,99.2522 ,98.5047,97.7144,96.4278,96.2032, 96.5296)
ORBIT_NUMBER = 2660
ORBITAL_ECCENTRICITY = 0.571
ORBITAL_INCLINATION = 86.62
ORBITAL_SEMIMAJOR_AXIS = 8537.68
PERIAPSIS_ALTITUDE = 281.31
PERIAPSIS_ARGUMENT_ANGLE = 251.03
PERIAPSIS_TIME = 2006-02-06T12:18:36.000Z
SPACECRAFT_ORIENTATION = (0.0,-1.0,0.0)
^MEX_ORIENTATION_DESC = "MEX_ORIENTATION_DESC.TXT"
SPACECRAFT_POINTING_MODE = NADIR
^MEX_POINTING_DESC = "MEX_POINTING_DESC.TXT"
RIGHT_ASCENSION = -1e+32
DECLINATION = -1e+32
OFFSET_ANGLE = -1e+32
SPACECRAFT_SOLAR_DISTANCE = 2.35854e+08
TARGET_NAME = MARS
/* CAMERA DATA ELEMENTS */
DETECTOR_TEMPERATURE = 18.5744
FOCAL_PLANE_TEMPERATURE = 8.5833
INST_CMPRS_NAME = "DISCRETE COSINE TRANSFORMATION (DCT)"
INST_CMPRS_RATIO = 29.8978
INST_CMPRS_QUALITY = 0
INST_CMPRS_QUANTZ_TBL_ID = 0
INSTRUMENT_TEMPERATURE = 11.0301
LENS_TEMPERATURE = 8.7872
MACROPIXEL_SIZE = 4
MISSING_FRAMES = 0
PIXEL_SUBSAMPLING_FLAG = N
SIGNAL_CHAIN_ID = 1
/* RADIOMETRIC DATA ELEMENTS */
BANDWIDTH = 177.0
CENTER_FILTER_WAVELENGTH = 676.5
RADIANCE_OFFSET = 0.0821544
RADIANCE_SCALING_FACTOR = 0.00378555
REFLECTANCE_SCALING_FACTOR = 0.000111655
MEX:REFLECTANCE_OFFSET = 0.00242314
/* IMAGE OBJECT DEFINITIONS */
OBJECT = IMAGE
  INTERCHANGE_FORMAT = BINARY
  LINES = 12676
  LINE_SAMPLES = 4939
  SAMPLE_TYPE = UNSIGNED_INTEGER
  SAMPLE_BITS = 8
  BANDS = 1
  BAND_STORAGE_TYPE = BAND_SEQUENTIAL
  MAXIMUM = 249
  MEAN = 93.971
  MINIMUM = 1
  STANDARD_DEVIATION = 52.505
END_OBJECT = IMAGE
/* MAP OBJECT DEFINITIONS */
OBJECT = IMAGE_MAP_PROJECTION
  ^DATA_SET_MAP_PROJECTION_CATALOG= "DSMAP.CAT"
  A_AXIS_RADIUS = 3396.0
  B_AXIS_RADIUS = 3396.0
  C_AXIS_RADIUS = 3396.0
  CENTER_LATITUDE = 0.0
  CENTER_LONGITUDE = 108.0
  COORDINATE_SYSTEM_NAME = PLANETOGRAPHIC
  COORDINATE_SYSTEM_TYPE = "BODY-FIXED ROTATING"
  EASTERNMOST_LONGITUDE = 115.016
  FIRST_STANDARD_PARALLEL = "N/A"
  LINE_FIRST_PIXEL = 1
  LINE_LAST_PIXEL = 12676
  LINE_PROJECTION_OFFSET = -83364.25
  MAP_PROJECTION_ROTATION = 0.0
  MAP_PROJECTION_TYPE = SINUSOIDAL
  MAP_RESOLUTION = 1185.42760773333
  MAP_SCALE = 0.05
  MAXIMUM_LATITUDE = -70.30880000000001
  MINIMUM_LATITUDE = -80.99769999999999
  POSITIVE_LONGITUDE_DIRECTION = EAST
  REFERENCE_LATITUDE = "N/A"
  REFERENCE_LONGITUDE = "N/A"
  SAMPLE_FIRST_PIXEL = 1
  SAMPLE_LAST_PIXEL = 4939
  SAMPLE_PROJECTION_OFFSET = 2288.25
  SECOND_STANDARD_PARALLEL = "N/A"
  WESTERNMOST_LONGITUDE = 96.2032
END_OBJECT = IMAGE_MAP_PROJECTION
END
