PDS_VERSION_ID = PDS3
/* FILE DATA ELEMENTS */
RECORD_TYPE = UNDEFINED
/* POINTERS TO DATA OBJECTS */
^IMAGE = ("H2660_0001_P24.TIF")
/* IDENTIFICATION DATA ELEMENTS */
DATA_SET_ID = "MEX-M-HRSC-4-REFDR-MAPPROJECT-EXT1-V4.0"
DATA_SET_NAME = "MARS EXPRESS HRSC MAP PROJECTED REFDR EXTENSION1 V4.0"
DETECTOR_ID = MEX_HRSC_P2
EVENT_TYPE = "MARS-GLOBAL-MAPPING-Vo-Fl-Eo"
INSTRUMENT_HOST_ID = MEX
INSTRUMENT_HOST_NAME = "MARS EXPRESS"
INSTRUMENT_ID = HRSC
INSTRUMENT_NAME = "HIGH RESOLUTION STEREO CAMERA"
MISSION_NAME = "MARS EXPRESS"
MISSION_PHASE_NAME = ME_Phase_2
PROCESSING_LEVEL_ID = 4
PRODUCT_CREATION_TIME = 2023-02-08T07:05:14.000Z
PRODUCT_ID = "H2660_0001_P24.TIF"
RELEASE_ID = 0001
REVISION_ID = 0000
/* QUALITY DATA ELEMENTS */
DATA_QUALITY_ID = 1
DATA_QUALITY_DESC = "Data calculated based on original SPICE kernels"
/* TIME DATA ELEMENTS */
SPACECRAFT_CLOCK_START_COUNT = "1/0087309318.09053"
SPACECRAFT_CLOCK_STOP_COUNT = "1/0087310712.61765"
START_TIME = 2006-02-06T12:40:14.692Z
STOP_TIME = 2006-02-06T12:51:19.369Z
/* ORBITAL DATA ELEMENTS */
ASCENDING_NODE_LONGITUDE = 172.47
MAXIMUM_RESOLUTION = 0.1227
FOOTPRINT_POINT_LATITUDE = (-43.6124,-43.6204,-43.6235,-43.6248, -43.6245,-43.6224,-43.6187,-43.6133, -43.6062,-43.5974,-43.5868,-43.5744, -43.5565,-43.5545,-43.5956,-42.9498, -42.534,-41.9101,-41.4989,-41.0914, -40.6869,-40.2885,-39.6965,-39.3025, -38.9192,-38.5384,-38.1595,-37.7843, -37.4128,-37.0441,-36.6802,-36.3192, -35.9616,-35.2568,-34.5646,-33.8861, -33.2201,-32.5641,-31.9218,-31.2932, -30.6742,-30.0668,-29.4705,-28.8851, -28.3094,-27.745,-27.1893,-26.6432, -26.508,-26.4831,-26.5453,-26.6065, -26.6497,-26.7172,-26.7852,-26.8268, -26.8676,-26.9341,-27.0,-27.0565, -27.1206,-27.1606,-27.2233,-27.2629, -27.3261,-27.3338,-27.337,-27.8383, -28.3492,-28.8721,-29.4043,-29.9479, -30.5038,-31.0713,-31.651,-32.2426, -32.847,-33.4654,-34.0954,-34.7396, -35.3964,-36.0674,-36.7554,-37.4541, -37.8108,-38.1683,-38.5319,-39.0772, -39.644,-40.0201,-40.403,-40.7922, -41.1821,-41.5752,-41.9806,-42.3812, -42.7893,-43.4094,-43.6178,-43.6124)
FOOTPRINT_POINT_LONGITUDE = (112.295,113.133,113.691,114.247, 114.803,115.359,115.914,116.47,117.025, 117.58,118.137,118.694,119.392,119.462, 119.514,119.557,119.591,119.635,119.664 ,119.692,119.719,119.747,119.787, 119.811,119.838,119.865,119.89,119.915, 119.939,119.963,119.987,120.011,120.034 ,120.081,120.126,120.17,120.215,120.257 ,120.299,120.343,120.385,120.426, 120.468,120.51,120.551,120.593,120.633, 120.674,120.684,120.686,120.009,119.33, 118.846,118.073,117.302,116.821,116.34, 115.569,114.798,114.122,113.348,112.863 ,112.086,111.598,110.813,110.715, 110.679,110.759,110.839,110.918,110.996 ,111.074,111.15,111.226,111.3,111.373, 111.445,111.515,111.584,111.651,111.717 ,111.78,111.841,111.9,111.928,111.958, 111.985,112.028,112.063,112.089,112.112 ,112.133,112.156,112.178,112.194, 112.214,112.232,112.256,112.264, 112.295)
ORBIT_NUMBER = 2660
ORBITAL_ECCENTRICITY = 0.571
ORBITAL_INCLINATION = 86.62
ORBITAL_SEMIMAJOR_AXIS = 8537.68
PERIAPSIS_ALTITUDE = 281.31
PERIAPSIS_ARGUMENT_ANGLE = 251.03
PERIAPSIS_TIME = 2006-02-06T12:18:36.000Z
SPACECRAFT_ORIENTATION = (0.0,-1.0,0.0)
^MEX_ORIENTATION_DESC = "MEX_ORIENTATION_DESC.TXT"
SPACECRAFT_POINTING_MODE = NADIR
^MEX_POINTING_DESC = "MEX_POINTING_DESC.TXT"
RIGHT_ASCENSION = -1e+32
DECLINATION = -1e+32
OFFSET_ANGLE = -1e+32
SPACECRAFT_SOLAR_DISTANCE = 2.35854e+08
TARGET_NAME = MARS
/* CAMERA DATA ELEMENTS */
DETECTOR_TEMPERATURE = 20.6134
FOCAL_PLANE_TEMPERATURE = 8.5833
INST_CMPRS_NAME = "DISCRETE COSINE TRANSFORMATION (DCT)"
INST_CMPRS_RATIO = 6.7909
INST_CMPRS_QUALITY = 0
INST_CMPRS_QUANTZ_TBL_ID = 0
INSTRUMENT_TEMPERATURE = 13.0691
LENS_TEMPERATURE = 9.195
MACROPIXEL_SIZE = 2
MISSING_FRAMES = 0
PIXEL_SUBSAMPLING_FLAG = N
SIGNAL_CHAIN_ID = 3
/* RADIOMETRIC DATA ELEMENTS */
BANDWIDTH = 177.0
CENTER_FILTER_WAVELENGTH = 676.5
RADIANCE_OFFSET = 1.52872
RADIANCE_SCALING_FACTOR = 0.016664
REFLECTANCE_SCALING_FACTOR = 0.00049151
MEX:REFLECTANCE_OFFSET = 0.04509
/* IMAGE OBJECT DEFINITIONS */
OBJECT = IMAGE
  INTERCHANGE_FORMAT = BINARY
  LINES = 10048
  LINE_SAMPLES = 4063
  SAMPLE_TYPE = UNSIGNED_INTEGER
  SAMPLE_BITS = 8
  BANDS = 1
  BAND_STORAGE_TYPE = BAND_SEQUENTIAL
  MAXIMUM = 255
  MEAN = 115.082
  MINIMUM = 1
  STANDARD_DEVIATION = 20.6566
END_OBJECT = IMAGE
/* MAP OBJECT DEFINITIONS */
OBJECT = IMAGE_MAP_PROJECTION
  ^DATA_SET_MAP_PROJECTION_CATALOG= "DSMAP.CAT"
  A_AXIS_RADIUS = 3396.0
  B_AXIS_RADIUS = 3396.0
  C_AXIS_RADIUS = 3396.0
  CENTER_LATITUDE = 0.0
  CENTER_LONGITUDE = 116.0
  COORDINATE_SYSTEM_NAME = PLANETOGRAPHIC
  COORDINATE_SYSTEM_TYPE = "BODY-FIXED ROTATING"
  EASTERNMOST_LONGITUDE = 120.686
  FIRST_STANDARD_PARALLEL = "N/A"
  LINE_FIRST_PIXEL = 1
  LINE_LAST_PIXEL = 10048
  LINE_PROJECTION_OFFSET = -15840.25
  MAP_PROJECTION_ROTATION = 0.0
  MAP_PROJECTION_TYPE = SINUSOIDAL
  MAP_RESOLUTION = 592.713803866667
  MAP_SCALE = 0.1
  MAXIMUM_LATITUDE = -26.4831
  MINIMUM_LATITUDE = -43.6248
  POSITIVE_LONGITUDE_DIRECTION = EAST
  REFERENCE_LATITUDE = "N/A"
  REFERENCE_LONGITUDE = "N/A"
  SAMPLE_FIRST_PIXEL = 1
  SAMPLE_LAST_PIXEL = 4063
  SAMPLE_PROJECTION_OFFSET = 2330.75
  SECOND_STANDARD_PARALLEL = "N/A"
  WESTERNMOST_LONGITUDE = 110.679
END_OBJECT = IMAGE_MAP_PROJECTION
END
