PDS_VERSION_ID = PDS3
/* FILE DATA ELEMENTS */
RECORD_TYPE = UNDEFINED
/* POINTERS TO DATA OBJECTS */
^IMAGE = ("H2662_0001_S14.TIF")
/* IDENTIFICATION DATA ELEMENTS */
DATA_SET_ID = "MEX-M-HRSC-4-REFDR-MAPPROJECT-EXT1-V4.0"
DATA_SET_NAME = "MARS EXPRESS HRSC MAP PROJECTED REFDR EXTENSION1 V4.0"
DETECTOR_ID = MEX_HRSC_S1
EVENT_TYPE = "MARS-REGIONAL-MAPPING-Te-Im-Fl"
INSTRUMENT_HOST_ID = MEX
INSTRUMENT_HOST_NAME = "MARS EXPRESS"
INSTRUMENT_ID = HRSC
INSTRUMENT_NAME = "HIGH RESOLUTION STEREO CAMERA"
MISSION_NAME = "MARS EXPRESS"
MISSION_PHASE_NAME = ME_Phase_2
PROCESSING_LEVEL_ID = 4
PRODUCT_CREATION_TIME = 2023-02-08T07:05:14.000Z
PRODUCT_ID = "H2662_0001_S14.TIF"
RELEASE_ID = 0001
REVISION_ID = 0000
/* QUALITY DATA ELEMENTS */
DATA_QUALITY_ID = 1
DATA_QUALITY_DESC = "Data calculated based on original SPICE kernels"
/* TIME DATA ELEMENTS */
SPACECRAFT_CLOCK_START_COUNT = "1/0087357451.08386"
SPACECRAFT_CLOCK_STOP_COUNT = "1/0087358663.55261"
START_TIME = 2006-02-07T01:57:36.833Z
STOP_TIME = 2006-02-07T02:05:28.921Z
/* ORBITAL DATA ELEMENTS */
ASCENDING_NODE_LONGITUDE = 172.43
MAXIMUM_RESOLUTION = 0.0643
FOOTPRINT_POINT_LATITUDE = (-58.062,-58.1284,-58.2161,-58.2721, -58.307,-58.3082,-58.2211,-57.4166, -56.5969,-55.7618,-54.9106,-54.0473, -52.7089,-51.8,-51.3382,-50.8698, -50.3971,-49.9168,-49.4336,-48.9439, -48.4504,-47.9513,-47.4475,-46.6768, -46.1637,-45.6395,-45.1092,-44.5729, -44.0299,-43.4811,-42.9257,-42.3649, -41.798,-41.2209,-40.6389,-40.0497, -39.4588,-38.8701,-38.29,-37.4195, -36.8439,-36.2689,-35.6964,-35.1264, -34.5592,-33.9943,-33.4322,-33.1508, -32.8747,-32.8958,-32.9024,-32.9079, -32.8975,-32.8849,-32.8651,-32.8319, -32.829,-32.8293,-33.6597,-34.216, -34.7754,-35.3374,-35.9041,-36.4744, -37.0441,-37.619,-38.1963,-38.7799, -39.367,-39.9523,-40.5338,-41.107, -41.9458,-42.5042,-43.0587,-43.6061, -44.1482,-44.683,-45.2112,-45.7374, -46.2554,-46.7617,-47.5191,-48.0178, -48.5106,-48.9979,-49.4806,-49.961, -50.4344,-50.9016,-51.3613,-52.2705, -53.3915,-54.2601,-55.1148,-55.9554, -56.778,-57.5821,-57.7799,-58.062)
FOOTPRINT_POINT_LONGITUDE = (275.468,276.421,277.947,279.236, 280.337,280.385,280.452,280.561,280.664 ,280.763,280.857,280.944,281.073,281.15 ,281.187,281.224,281.26,281.296,281.33, 281.363,281.395,281.426,281.456,281.501 ,281.527,281.553,281.579,281.604, 281.629,281.652,281.674,281.695,281.715 ,281.735,281.753,281.771,281.787, 281.803,281.815,281.834,281.844,281.855 ,281.864,281.873,281.88,281.887,281.893 ,281.896,281.898,281.057,280.383, 279.317,278.417,277.742,277.066,276.163 ,276.106,276.086,276.132,276.16,276.188 ,276.213,276.238,276.261,276.282, 276.302,276.32,276.337,276.353,276.365, 276.374,276.38,276.383,276.385,276.386, 276.385,276.382,276.376,276.369,276.361 ,276.35,276.335,276.313,276.296,276.276 ,276.255,276.233,276.209,276.183, 276.155,276.124,276.058,275.97,275.888, 275.8,275.706,275.603,275.491,275.462, 275.468)
ORBIT_NUMBER = 2662
ORBITAL_ECCENTRICITY = 0.571
ORBITAL_INCLINATION = 86.61
ORBITAL_SEMIMAJOR_AXIS = 8541.44
PERIAPSIS_ALTITUDE = 281.74
PERIAPSIS_ARGUMENT_ANGLE = 250.69
PERIAPSIS_TIME = 2006-02-07T01:45:01.000Z
SPACECRAFT_ORIENTATION = (0.0,-1.0,0.0)
^MEX_ORIENTATION_DESC = "MEX_ORIENTATION_DESC.TXT"
SPACECRAFT_POINTING_MODE = ACROSSTRACK
^MEX_POINTING_DESC = "MEX_POINTING_DESC.TXT"
RIGHT_ASCENSION = -1e+32
DECLINATION = -1e+32
OFFSET_ANGLE = 0.2
SPACECRAFT_SOLAR_DISTANCE = 2.35952e+08
TARGET_NAME = MARS
/* CAMERA DATA ELEMENTS */
DETECTOR_TEMPERATURE = 18.5744
FOCAL_PLANE_TEMPERATURE = 8.1755
INST_CMPRS_NAME = "DISCRETE COSINE TRANSFORMATION (DCT)"
INST_CMPRS_RATIO = 11.2418
INST_CMPRS_QUALITY = 0
INST_CMPRS_QUANTZ_TBL_ID = 0
INSTRUMENT_TEMPERATURE = 12.2535
LENS_TEMPERATURE = 8.5833
MACROPIXEL_SIZE = 2
MISSING_FRAMES = 0
PIXEL_SUBSAMPLING_FLAG = N
SIGNAL_CHAIN_ID = 1
/* RADIOMETRIC DATA ELEMENTS */
BANDWIDTH = 180.0
CENTER_FILTER_WAVELENGTH = 677.0
RADIANCE_OFFSET = 1.29633
RADIANCE_SCALING_FACTOR = 0.0123278
REFLECTANCE_SCALING_FACTOR = 0.000358081
MEX:REFLECTANCE_OFFSET = 0.0376539
/* IMAGE OBJECT DEFINITIONS */
OBJECT = IMAGE
  INTERCHANGE_FORMAT = BINARY
  LINES = 30170
  LINE_SAMPLES = 7041
  SAMPLE_TYPE = UNSIGNED_INTEGER
  SAMPLE_BITS = 8
  BANDS = 1
  BAND_STORAGE_TYPE = BAND_SEQUENTIAL
  MAXIMUM = 255
  MEAN = 92.7655
  MINIMUM = 1
  STANDARD_DEVIATION = 39.7296
END_OBJECT = IMAGE
/* MAP OBJECT DEFINITIONS */
OBJECT = IMAGE_MAP_PROJECTION
  ^DATA_SET_MAP_PROJECTION_CATALOG= "DSMAP.CAT"
  A_AXIS_RADIUS = 3396.0
  B_AXIS_RADIUS = 3396.0
  C_AXIS_RADIUS = 3396.0
  CENTER_LATITUDE = 0.0
  CENTER_LONGITUDE = 279.0
  COORDINATE_SYSTEM_NAME = PLANETOGRAPHIC
  COORDINATE_SYSTEM_TYPE = "BODY-FIXED ROTATING"
  EASTERNMOST_LONGITUDE = 281.898
  FIRST_STANDARD_PARALLEL = "N/A"
  LINE_FIRST_PIXEL = 1
  LINE_LAST_PIXEL = 30170
  LINE_PROJECTION_OFFSET = -38809.25
  MAP_PROJECTION_ROTATION = 0.0
  MAP_PROJECTION_TYPE = SINUSOIDAL
  MAP_RESOLUTION = 1185.42760773333
  MAP_SCALE = 0.05
  MAXIMUM_LATITUDE = -32.829
  MINIMUM_LATITUDE = -58.3082
  POSITIVE_LONGITUDE_DIRECTION = EAST
  REFERENCE_LATITUDE = "N/A"
  REFERENCE_LONGITUDE = "N/A"
  SAMPLE_FIRST_PIXEL = 1
  SAMPLE_LAST_PIXEL = 7041
  SAMPLE_PROJECTION_OFFSET = 3661.75
  SECOND_STANDARD_PARALLEL = "N/A"
  WESTERNMOST_LONGITUDE = 275.462
END_OBJECT = IMAGE_MAP_PROJECTION
END
