PDS_VERSION_ID = PDS3
/* FILE DATA ELEMENTS */
RECORD_TYPE = UNDEFINED
/* POINTERS TO DATA OBJECTS */
^IMAGE = ("H2663_0000_BL4.TIF")
/* IDENTIFICATION DATA ELEMENTS */
DATA_SET_ID = "MEX-M-HRSC-4-REFDR-MAPPROJECT-EXT1-V4.0"
DATA_SET_NAME = "MARS EXPRESS HRSC MAP PROJECTED REFDR EXTENSION1 V4.0"
DETECTOR_ID = MEX_HRSC_BLUE
EVENT_TYPE = "MARS-TERMINATOR-VARIABLE-Eo-At"
INSTRUMENT_HOST_ID = MEX
INSTRUMENT_HOST_NAME = "MARS EXPRESS"
INSTRUMENT_ID = HRSC
INSTRUMENT_NAME = "HIGH RESOLUTION STEREO CAMERA"
MISSION_NAME = "MARS EXPRESS"
MISSION_PHASE_NAME = ME_Phase_2
PROCESSING_LEVEL_ID = 4
PRODUCT_CREATION_TIME = 2023-02-08T07:05:14.000Z
PRODUCT_ID = "H2663_0000_BL4.TIF"
RELEASE_ID = 0001
REVISION_ID = 0000
/* QUALITY DATA ELEMENTS */
DATA_QUALITY_ID = 1
DATA_QUALITY_DESC = "Data calculated based on original SPICE kernels"
/* TIME DATA ELEMENTS */
SPACECRAFT_CLOCK_START_COUNT = "1/0087381302.09071"
SPACECRAFT_CLOCK_STOP_COUNT = "1/0087381578.32830"
START_TIME = 2006-02-07T08:35:57.958Z
STOP_TIME = 2006-02-07T08:38:39.990Z
/* ORBITAL DATA ELEMENTS */
ASCENDING_NODE_LONGITUDE = 172.41
MAXIMUM_RESOLUTION = 0.0753
FOOTPRINT_POINT_LATITUDE = (-78.9685,-79.043,-79.1288,-79.2279, -79.2981,-79.3908,-79.446,-79.4495, -79.473,-79.15,-78.8272,-78.4985, -78.1692,-77.8343,-77.4985,-77.2424, -76.9861,-76.6407,-76.3793,-76.2052, -75.9397,-75.7626,-75.5856,-75.3159, -75.1357,-74.9557,-74.773,-74.5899, -74.4071,-74.2221,-74.0362,-73.8505, -73.6629,-73.4746,-73.2869,-73.0971, -72.9064,-72.7145,-72.5203,-72.326, -72.1323,-71.9356,-71.6405,-71.4425, -71.2436,-71.0431,-70.841,-70.6395, -70.4361,-70.3338,-70.3324,-70.3053, -70.2646,-70.2298,-70.1827,-70.154, -70.1169,-70.0592,-70.0166,-70.0127, -70.0127,-70.3149,-70.514,-70.8124, -71.0089,-71.3036,-71.4975,-71.6915, -71.9795,-72.1707,-72.3615,-72.5498, -72.7384,-72.926,-73.1115,-73.2972, -73.4817,-73.6643,-73.8472,-74.0291, -74.2086,-74.3884,-74.568,-74.7447, -74.9213,-75.1858,-75.3594,-75.533, -75.7928,-76.2188,-76.7231,-77.0565, -77.3838,-77.7896,-78.1099,-78.3487, -78.6613,-78.8954,-78.9734,-78.9685)
FOOTPRINT_POINT_LONGITUDE = (164.903,165.915,167.161,168.727, 169.938,171.705,172.875,172.954,173.101 ,173.558,173.988,174.399,174.789, 175.161,175.514,175.769,176.017,176.33, 176.557,176.703,176.918,177.057,177.193 ,177.393,177.522,177.648,177.773, 177.894,178.013,178.13,178.245,178.356, 178.466,178.576,178.684,178.791,178.896 ,178.992,179.089,179.184,179.278, 179.371,179.506,179.599,179.687,179.769 ,179.853,179.936,180.018,180.058, 180.059,179.294,178.291,177.527,176.591 ,176.066,175.427,174.5,173.866,173.809, 173.789,173.633,173.528,173.364,173.253 ,173.081,172.965,172.846,172.663, 172.539,172.411,172.282,172.148,172.012 ,171.875,171.734,171.591,171.445, 171.294,171.142,170.988,170.829,170.665 ,170.498,170.331,170.069,169.891, 169.709,169.427,168.937,168.313,167.87, 167.409,166.799,166.281,165.879,165.322 ,164.881,164.729,164.903)
ORBIT_NUMBER = 2663
ORBITAL_ECCENTRICITY = 0.571
ORBITAL_INCLINATION = 86.61
ORBITAL_SEMIMAJOR_AXIS = 8540.64
PERIAPSIS_ALTITUDE = 282.0
PERIAPSIS_ARGUMENT_ANGLE = 250.51
PERIAPSIS_TIME = 2006-02-07T08:28:12.000Z
SPACECRAFT_ORIENTATION = (0.0,-1.0,0.0)
^MEX_ORIENTATION_DESC = "MEX_ORIENTATION_DESC.TXT"
SPACECRAFT_POINTING_MODE = NADIR
^MEX_POINTING_DESC = "MEX_POINTING_DESC.TXT"
RIGHT_ASCENSION = -1e+32
DECLINATION = -1e+32
OFFSET_ANGLE = -1e+32
SPACECRAFT_SOLAR_DISTANCE = 2.36001e+08
TARGET_NAME = MARS
/* CAMERA DATA ELEMENTS */
DETECTOR_TEMPERATURE = 18.3705
FOCAL_PLANE_TEMPERATURE = 7.9716
INST_CMPRS_NAME = "DISCRETE COSINE TRANSFORMATION (DCT)"
INST_CMPRS_RATIO = 6.86964
INST_CMPRS_QUALITY = 0
INST_CMPRS_QUANTZ_TBL_ID = 0
INSTRUMENT_TEMPERATURE = 11.0301
LENS_TEMPERATURE = 8.3794
MACROPIXEL_SIZE = 4
MISSING_FRAMES = 0
PIXEL_SUBSAMPLING_FLAG = N
SIGNAL_CHAIN_ID = 2
/* RADIOMETRIC DATA ELEMENTS */
BANDWIDTH = 76.0
CENTER_FILTER_WAVELENGTH = 444.0
RADIANCE_OFFSET = 0.0
RADIANCE_SCALING_FACTOR = 0.00103508
REFLECTANCE_SCALING_FACTOR = 5.92325e-05
MEX:REFLECTANCE_OFFSET = 0.0
/* IMAGE OBJECT DEFINITIONS */
OBJECT = IMAGE
  INTERCHANGE_FORMAT = BINARY
  LINES = 11221
  LINE_SAMPLES = 4497
  SAMPLE_TYPE = UNSIGNED_INTEGER
  SAMPLE_BITS = 8
  BANDS = 1
  BAND_STORAGE_TYPE = BAND_SEQUENTIAL
  MAXIMUM = 254
  MEAN = 118.055
  MINIMUM = 1
  STANDARD_DEVIATION = 48.2425
END_OBJECT = IMAGE
/* MAP OBJECT DEFINITIONS */
OBJECT = IMAGE_MAP_PROJECTION
  ^DATA_SET_MAP_PROJECTION_CATALOG= "DSMAP.CAT"
  A_AXIS_RADIUS = 3396.0
  B_AXIS_RADIUS = 3396.0
  C_AXIS_RADIUS = 3396.0
  CENTER_LATITUDE = 0.0
  CENTER_LONGITUDE = 174.0
  COORDINATE_SYSTEM_NAME = PLANETOGRAPHIC
  COORDINATE_SYSTEM_TYPE = "BODY-FIXED ROTATING"
  EASTERNMOST_LONGITUDE = 180.059
  FIRST_STANDARD_PARALLEL = "N/A"
  LINE_FIRST_PIXEL = 1
  LINE_LAST_PIXEL = 11221
  LINE_PROJECTION_OFFSET = -83007.75
  MAP_PROJECTION_ROTATION = 0.0
  MAP_PROJECTION_TYPE = SINUSOIDAL
  MAP_RESOLUTION = 1185.42760773333
  MAP_SCALE = 0.05
  MAXIMUM_LATITUDE = -70.0127
  MINIMUM_LATITUDE = -79.473
  POSITIVE_LONGITUDE_DIRECTION = EAST
  REFERENCE_LATITUDE = "N/A"
  REFERENCE_LONGITUDE = "N/A"
  SAMPLE_FIRST_PIXEL = 1
  SAMPLE_LAST_PIXEL = 4497
  SAMPLE_PROJECTION_OFFSET = 2092.25
  SECOND_STANDARD_PARALLEL = "N/A"
  WESTERNMOST_LONGITUDE = 164.729
END_OBJECT = IMAGE_MAP_PROJECTION
END
