PDS_VERSION_ID = PDS3
/* FILE DATA ELEMENTS */
RECORD_TYPE = UNDEFINED
/* POINTERS TO DATA OBJECTS */
^IMAGE = ("H2663_0000_S24.TIF")
/* IDENTIFICATION DATA ELEMENTS */
DATA_SET_ID = "MEX-M-HRSC-4-REFDR-MAPPROJECT-EXT1-V4.0"
DATA_SET_NAME = "MARS EXPRESS HRSC MAP PROJECTED REFDR EXTENSION1 V4.0"
DETECTOR_ID = MEX_HRSC_S2
EVENT_TYPE = "MARS-TERMINATOR-VARIABLE-Eo-At"
INSTRUMENT_HOST_ID = MEX
INSTRUMENT_HOST_NAME = "MARS EXPRESS"
INSTRUMENT_ID = HRSC
INSTRUMENT_NAME = "HIGH RESOLUTION STEREO CAMERA"
MISSION_NAME = "MARS EXPRESS"
MISSION_PHASE_NAME = ME_Phase_2
PROCESSING_LEVEL_ID = 4
PRODUCT_CREATION_TIME = 2023-02-08T07:05:14.000Z
PRODUCT_ID = "H2663_0000_S24.TIF"
RELEASE_ID = 0001
REVISION_ID = 0000
/* QUALITY DATA ELEMENTS */
DATA_QUALITY_ID = 1
DATA_QUALITY_DESC = "Data calculated based on original SPICE kernels"
/* TIME DATA ELEMENTS */
SPACECRAFT_CLOCK_START_COUNT = "1/0087381302.09071"
SPACECRAFT_CLOCK_STOP_COUNT = "1/0087381578.32830"
START_TIME = 2006-02-07T08:36:40.475Z
STOP_TIME = 2006-02-07T08:39:42.368Z
/* ORBITAL DATA ELEMENTS */
ASCENDING_NODE_LONGITUDE = 172.41
MAXIMUM_RESOLUTION = 0.0865
FOOTPRINT_POINT_LATITUDE = (-78.8475,-78.9375,-79.0225,-79.1502, -79.2222,-79.3507,-79.3544,-79.4567, -79.1322,-78.8041,-78.5566,-78.2237, -77.8869,-77.3767,-77.0348,-76.8599, -76.6849,-76.5102,-76.3336,-76.1565, -75.9802,-75.8006,-75.622,-75.3508, -75.1694,-74.9882,-74.8042,-74.6204, -74.4357,-74.2496,-74.0637,-73.8755, -73.6866,-73.4984,-73.3118,-73.1272, -72.934,-72.7401,-72.4459,-72.1527, -71.9572,-71.7577,-71.4665,-71.1654, -70.9639,-70.7583,-70.4546,-70.3522, -70.3162,-70.2966,-70.2644,-70.2364, -70.1991,-70.1585,-70.1238,-70.0913, -70.039,-69.9867,-69.9822,-69.9821, -70.2843,-70.4835,-70.6835,-70.8807, -71.078,-71.2734,-71.5656,-71.7589, -71.9512,-72.1417,-72.3323,-72.6159, -72.8055,-72.9926,-73.2713,-73.5476, -73.7317,-73.9139,-74.0983,-74.2762, -74.4565,-74.7255,-74.9912,-75.1675, -75.3423,-75.5179,-75.7767,-75.9493, -76.2062,-76.3764,-76.5469,-76.8816, -77.1319,-77.4614,-77.7884,-78.1926, -78.5094,-78.8251,-78.9027,-78.8475)
FOOTPRINT_POINT_LONGITUDE = (164.832,166.086,167.358,169.464, 170.781,173.468,173.553,173.611,174.064 ,174.495,174.804,175.198,175.572, 176.101,176.434,176.594,176.751,176.903 ,177.054,177.201,177.344,177.485, 177.623,177.824,177.955,178.082,178.208 ,178.33,178.45,178.569,178.684,178.798, 178.909,179.018,179.128,179.236,179.339 ,179.44,179.586,179.73,179.826,179.917, 180.057,180.189,180.275,180.358,180.484 ,180.525,180.539,179.944,179.014, 178.286,177.43,176.576,175.922,175.335, 174.423,173.579,173.515,173.493,173.339 ,173.235,173.127,173.018,172.907, 172.793,172.618,172.499,172.378,172.255 ,172.129,171.934,171.799,171.662, 171.454,171.239,171.09,170.94,170.781, 170.629,170.467,170.217,169.963,169.788 ,169.61,169.425,169.145,168.951,168.652 ,168.446,168.235,167.802,167.462,166.99 ,166.492,165.836,165.286,164.702, 164.552,164.832)
ORBIT_NUMBER = 2663
ORBITAL_ECCENTRICITY = 0.571
ORBITAL_INCLINATION = 86.61
ORBITAL_SEMIMAJOR_AXIS = 8540.64
PERIAPSIS_ALTITUDE = 282.0
PERIAPSIS_ARGUMENT_ANGLE = 250.51
PERIAPSIS_TIME = 2006-02-07T08:28:12.000Z
SPACECRAFT_ORIENTATION = (0.0,-1.0,0.0)
^MEX_ORIENTATION_DESC = "MEX_ORIENTATION_DESC.TXT"
SPACECRAFT_POINTING_MODE = NADIR
^MEX_POINTING_DESC = "MEX_POINTING_DESC.TXT"
RIGHT_ASCENSION = -1e+32
DECLINATION = -1e+32
OFFSET_ANGLE = -1e+32
SPACECRAFT_SOLAR_DISTANCE = 2.36001e+08
TARGET_NAME = MARS
/* CAMERA DATA ELEMENTS */
DETECTOR_TEMPERATURE = 18.5744
FOCAL_PLANE_TEMPERATURE = 7.9716
INST_CMPRS_NAME = "DISCRETE COSINE TRANSFORMATION (DCT)"
INST_CMPRS_RATIO = 34.7508
INST_CMPRS_QUALITY = 0
INST_CMPRS_QUANTZ_TBL_ID = 0
INSTRUMENT_TEMPERATURE = 11.0301
LENS_TEMPERATURE = 8.3794
MACROPIXEL_SIZE = 4
MISSING_FRAMES = 0
PIXEL_SUBSAMPLING_FLAG = N
SIGNAL_CHAIN_ID = 1
/* RADIOMETRIC DATA ELEMENTS */
BANDWIDTH = 178.0
CENTER_FILTER_WAVELENGTH = 679.0
RADIANCE_OFFSET = 0.0869776
RADIANCE_SCALING_FACTOR = 0.00375197
REFLECTANCE_SCALING_FACTOR = 0.000110668
MEX:REFLECTANCE_OFFSET = 0.00256548
/* IMAGE OBJECT DEFINITIONS */
OBJECT = IMAGE
  INTERCHANGE_FORMAT = BINARY
  LINES = 11221
  LINE_SAMPLES = 4497
  SAMPLE_TYPE = UNSIGNED_INTEGER
  SAMPLE_BITS = 8
  BANDS = 1
  BAND_STORAGE_TYPE = BAND_SEQUENTIAL
  MAXIMUM = 255
  MEAN = 105.524
  MINIMUM = 2
  STANDARD_DEVIATION = 53.4154
END_OBJECT = IMAGE
/* MAP OBJECT DEFINITIONS */
OBJECT = IMAGE_MAP_PROJECTION
  ^DATA_SET_MAP_PROJECTION_CATALOG= "DSMAP.CAT"
  A_AXIS_RADIUS = 3396.0
  B_AXIS_RADIUS = 3396.0
  C_AXIS_RADIUS = 3396.0
  CENTER_LATITUDE = 0.0
  CENTER_LONGITUDE = 174.0
  COORDINATE_SYSTEM_NAME = PLANETOGRAPHIC
  COORDINATE_SYSTEM_TYPE = "BODY-FIXED ROTATING"
  EASTERNMOST_LONGITUDE = 180.539
  FIRST_STANDARD_PARALLEL = "N/A"
  LINE_FIRST_PIXEL = 1
  LINE_LAST_PIXEL = 11221
  LINE_PROJECTION_OFFSET = -83007.75
  MAP_PROJECTION_ROTATION = 0.0
  MAP_PROJECTION_TYPE = SINUSOIDAL
  MAP_RESOLUTION = 1185.42760773333
  MAP_SCALE = 0.05
  MAXIMUM_LATITUDE = -69.9821
  MINIMUM_LATITUDE = -79.4567
  POSITIVE_LONGITUDE_DIRECTION = EAST
  REFERENCE_LATITUDE = "N/A"
  REFERENCE_LONGITUDE = "N/A"
  SAMPLE_FIRST_PIXEL = 1
  SAMPLE_LAST_PIXEL = 4497
  SAMPLE_PROJECTION_OFFSET = 2092.25
  SECOND_STANDARD_PARALLEL = "N/A"
  WESTERNMOST_LONGITUDE = 164.552
END_OBJECT = IMAGE_MAP_PROJECTION
END
