PDS_VERSION_ID = PDS3
/* FILE DATA ELEMENTS */
RECORD_TYPE = UNDEFINED
/* POINTERS TO DATA OBJECTS */
^IMAGE = ("H2664_0000_RE4.TIF")
/* IDENTIFICATION DATA ELEMENTS */
DATA_SET_ID = "MEX-M-HRSC-4-REFDR-MAPPROJECT-EXT1-V4.0"
DATA_SET_NAME = "MARS EXPRESS HRSC MAP PROJECTED REFDR EXTENSION1 V4.0"
DETECTOR_ID = MEX_HRSC_RED
EVENT_TYPE = "MARS-TERMINATOR-VARIABLE-Eo-At"
INSTRUMENT_HOST_ID = MEX
INSTRUMENT_HOST_NAME = "MARS EXPRESS"
INSTRUMENT_ID = HRSC
INSTRUMENT_NAME = "HIGH RESOLUTION STEREO CAMERA"
MISSION_NAME = "MARS EXPRESS"
MISSION_PHASE_NAME = ME_Phase_2
PROCESSING_LEVEL_ID = 4
PRODUCT_CREATION_TIME = 2023-02-08T07:05:14.000Z
PRODUCT_ID = "H2664_0000_RE4.TIF"
RELEASE_ID = 0001
REVISION_ID = 0000
/* QUALITY DATA ELEMENTS */
DATA_QUALITY_ID = 1
DATA_QUALITY_DESC = "Data calculated based on original SPICE kernels"
/* TIME DATA ELEMENTS */
SPACECRAFT_CLOCK_START_COUNT = "1/0087405497.07306"
SPACECRAFT_CLOCK_STOP_COUNT = "1/0087405769.34727"
START_TIME = 2006-02-07T15:19:45.625Z
STOP_TIME = 2006-02-07T15:22:39.485Z
/* ORBITAL DATA ELEMENTS */
ASCENDING_NODE_LONGITUDE = 172.39
MAXIMUM_RESOLUTION = 0.0836
FOOTPRINT_POINT_LATITUDE = (-79.0075,-79.0916,-79.207,-79.3361, -79.3932,-79.4588,-79.5083,-79.512, -79.6079,-79.132,-78.8118,-78.4849, -77.9932,-77.6601,-77.324,-77.0724, -76.8167,-76.6461,-76.4735,-76.2986, -76.1244,-75.9446,-75.7719,-75.5974, -75.3334,-75.1564,-74.9795,-74.7991, -74.6178,-74.435,-74.1607,-73.8848, -73.7015,-73.5202,-73.3341,-73.1487, -72.9605,-72.7703,-72.5817,-72.3902, -72.2078,-72.0184,-71.8232,-71.6241, -71.4239,-71.2292,-71.0315,-70.7358, -70.6361,-70.6125,-70.5897,-70.5686, -70.5313,-70.5028,-70.4644,-70.4103, -70.3589,-70.3217,-70.2822,-70.2781, -70.278,-70.5726,-70.7673,-70.9584, -71.151,-71.4394,-71.7268,-71.9131, -72.1024,-72.3829,-72.5687,-72.8453, -73.0289,-73.2132,-73.3944,-73.6649, -73.9331,-74.1114,-74.376,-74.5538, -74.8182,-74.9973,-75.1702,-75.3418, -75.5121,-75.8472,-76.0177,-76.1843, -76.351,-76.6005,-76.9246,-77.0892, -77.3384,-77.58,-77.9779,-78.2937, -78.6029,-78.9868,-79.0624,-79.0075)
FOOTPRINT_POINT_LONGITUDE = (66.3763,67.5424,69.2802,71.4595, 72.5254,73.8536,74.9469,75.0315,75.1145 ,75.7851,76.2019,76.6007,77.1621, 77.5117,77.8488,78.09,78.3259,78.4773, 78.6246,78.7694,78.9104,79.0439,79.1833 ,79.3174,79.5131,79.6408,79.7651, 79.8871,80.0057,80.1202,80.292,80.4569, 80.5669,80.6755,80.7809,80.8846,80.9845 ,81.083,81.1799,81.2755,81.3761,81.4704 ,81.5595,81.6438,81.7279,81.8138, 81.8987,82.0235,82.0644,82.0736,81.3587 ,80.7716,79.8621,79.2152,78.3761, 77.4146,76.5207,75.8817,75.2438,75.1801 ,75.1582,75.0026,74.8973,74.795,74.6853 ,74.5151,74.3381,74.2241,74.1011, 73.9148,73.7883,73.5931,73.46,73.3199, 73.1816,72.9688,72.7494,72.5988,72.3681 ,72.206,71.9538,71.7728,71.6003,71.4258 ,71.2505,70.8931,70.6978,70.5061, 70.3062,69.9984,69.5851,69.3605,68.9963 ,68.6411,68.0212,67.4962,66.9511,66.226 ,66.0767,66.3763)
ORBIT_NUMBER = 2664
ORBITAL_ECCENTRICITY = 0.571
ORBITAL_INCLINATION = 86.62
ORBITAL_SEMIMAJOR_AXIS = 8538.27
PERIAPSIS_ALTITUDE = 281.01
PERIAPSIS_ARGUMENT_ANGLE = 250.34
PERIAPSIS_TIME = 2006-02-07T15:11:26.000Z
SPACECRAFT_ORIENTATION = (0.0,-1.0,0.0)
^MEX_ORIENTATION_DESC = "MEX_ORIENTATION_DESC.TXT"
SPACECRAFT_POINTING_MODE = NADIR
^MEX_POINTING_DESC = "MEX_POINTING_DESC.TXT"
RIGHT_ASCENSION = -1e+32
DECLINATION = -1e+32
OFFSET_ANGLE = -1e+32
SPACECRAFT_SOLAR_DISTANCE = 2.3605e+08
TARGET_NAME = MARS
/* CAMERA DATA ELEMENTS */
DETECTOR_TEMPERATURE = 18.7783
FOCAL_PLANE_TEMPERATURE = 8.5833
INST_CMPRS_NAME = "DISCRETE COSINE TRANSFORMATION (DCT)"
INST_CMPRS_RATIO = 45.0374
INST_CMPRS_QUALITY = 0
INST_CMPRS_QUANTZ_TBL_ID = 0
INSTRUMENT_TEMPERATURE = 11.4379
LENS_TEMPERATURE = 8.7872
MACROPIXEL_SIZE = 4
MISSING_FRAMES = 0
PIXEL_SUBSAMPLING_FLAG = N
SIGNAL_CHAIN_ID = 2
/* RADIOMETRIC DATA ELEMENTS */
BANDWIDTH = 48.0
CENTER_FILTER_WAVELENGTH = 748.0
RADIANCE_OFFSET = 0.0
RADIANCE_SCALING_FACTOR = 0.000909233
REFLECTANCE_SCALING_FACTOR = 0.000115614
MEX:REFLECTANCE_OFFSET = 0.0
/* IMAGE OBJECT DEFINITIONS */
OBJECT = IMAGE
  INTERCHANGE_FORMAT = BINARY
  LINES = 11023
  LINE_SAMPLES = 4406
  SAMPLE_TYPE = UNSIGNED_INTEGER
  SAMPLE_BITS = 8
  BANDS = 1
  BAND_STORAGE_TYPE = BAND_SEQUENTIAL
  MAXIMUM = 255
  MEAN = 98.7448
  MINIMUM = 1
  STANDARD_DEVIATION = 47.2291
END_OBJECT = IMAGE
/* MAP OBJECT DEFINITIONS */
OBJECT = IMAGE_MAP_PROJECTION
  ^DATA_SET_MAP_PROJECTION_CATALOG= "DSMAP.CAT"
  A_AXIS_RADIUS = 3396.0
  B_AXIS_RADIUS = 3396.0
  C_AXIS_RADIUS = 3396.0
  CENTER_LATITUDE = 0.0
  CENTER_LONGITUDE = 76.0
  COORDINATE_SYSTEM_NAME = PLANETOGRAPHIC
  COORDINATE_SYSTEM_TYPE = "BODY-FIXED ROTATING"
  EASTERNMOST_LONGITUDE = 82.0736
  FIRST_STANDARD_PARALLEL = "N/A"
  LINE_FIRST_PIXEL = 1
  LINE_LAST_PIXEL = 11023
  LINE_PROJECTION_OFFSET = -83355.25
  MAP_PROJECTION_ROTATION = 0.0
  MAP_PROJECTION_TYPE = SINUSOIDAL
  MAP_RESOLUTION = 1185.42760773333
  MAP_SCALE = 0.05
  MAXIMUM_LATITUDE = -70.27800000000001
  MINIMUM_LATITUDE = -79.6079
  POSITIVE_LONGITUDE_DIRECTION = EAST
  REFERENCE_LATITUDE = "N/A"
  REFERENCE_LONGITUDE = "N/A"
  SAMPLE_FIRST_PIXEL = 1
  SAMPLE_LAST_PIXEL = 4406
  SAMPLE_PROJECTION_OFFSET = 2175.75
  SECOND_STANDARD_PARALLEL = "N/A"
  WESTERNMOST_LONGITUDE = 66.0767
END_OBJECT = IMAGE_MAP_PROJECTION
END
