PDS_VERSION_ID = PDS3
/* FILE DATA ELEMENTS */
RECORD_TYPE = UNDEFINED
/* POINTERS TO DATA OBJECTS */
^IMAGE = ("H2664_0001_P24.TIF")
/* IDENTIFICATION DATA ELEMENTS */
DATA_SET_ID = "MEX-M-HRSC-4-REFDR-MAPPROJECT-EXT1-V4.0"
DATA_SET_NAME = "MARS EXPRESS HRSC MAP PROJECTED REFDR EXTENSION1 V4.0"
DETECTOR_ID = MEX_HRSC_P2
EVENT_TYPE = "MARS-GLOBAL-MAPPING-Vo-Fl-Mw"
INSTRUMENT_HOST_ID = MEX
INSTRUMENT_HOST_NAME = "MARS EXPRESS"
INSTRUMENT_ID = HRSC
INSTRUMENT_NAME = "HIGH RESOLUTION STEREO CAMERA"
MISSION_NAME = "MARS EXPRESS"
MISSION_PHASE_NAME = ME_Phase_2
PROCESSING_LEVEL_ID = 4
PRODUCT_CREATION_TIME = 2023-02-08T07:05:14.000Z
PRODUCT_ID = "H2664_0001_P24.TIF"
RELEASE_ID = 0001
REVISION_ID = 0000
/* QUALITY DATA ELEMENTS */
DATA_QUALITY_ID = 1
DATA_QUALITY_DESC = "Data calculated based on original SPICE kernels"
/* TIME DATA ELEMENTS */
SPACECRAFT_CLOCK_START_COUNT = "1/0087405998.09049"
SPACECRAFT_CLOCK_STOP_COUNT = "1/0087407056.04966"
START_TIME = 2006-02-07T15:30:40.697Z
STOP_TIME = 2006-02-07T15:39:55.300Z
/* ORBITAL DATA ELEMENTS */
ASCENDING_NODE_LONGITUDE = 172.39
MAXIMUM_RESOLUTION = 0.1058
FOOTPRINT_POINT_LATITUDE = (-49.109,-49.1335,-49.155,-49.1631, -49.1709,-49.1753,-49.1779,-49.1789, -49.1782,-49.1756,-49.1671,-49.1662, -49.253,-48.6581,-48.2651,-47.8766, -47.4898,-47.1062,-46.7261,-46.3483, -45.9756,-45.6052,-45.2376,-44.8724, -44.5112,-44.1522,-43.7961,-43.4418, -43.0901,-42.7462,-42.2267,-41.886, -41.2134,-40.5511,-39.8996,-39.2622, -38.6293,-38.0079,-37.3973,-36.7965, -36.2038,-35.7644,-35.1896,-34.6223, -34.0628,-33.5104,-32.9701,-32.8368, -32.8087,-32.8613,-32.9165,-32.9659, -32.9965,-33.0203,-33.0495,-33.0928, -33.1321,-33.1554,-33.1866,-33.2087, -33.23,-33.2504,-33.2786,-33.3074, -33.3109,-33.3127,-33.9577,-34.4786, -35.0076,-35.5458,-36.0945,-36.653, -37.2205,-37.7969,-38.3859,-38.9848, -39.5927,-40.3705,-40.845,-41.4883, -42.1415,-42.8068,-43.4826,-43.8246, -44.1716,-44.5211,-44.8759,-45.2342, -45.588,-45.9494,-46.3141,-46.6827, -47.0536,-47.429,-47.8067,-48.1871, -48.5723,-48.9601,-49.1553,-49.109)
FOOTPRINT_POINT_LONGITUDE = (79.1504,80.074,81.1262,81.6519,82.3095 ,82.8353,83.361,83.8868,84.4132,84.9406 ,85.8656,85.9318,86.0182,86.0704, 86.1039,86.1376,86.1694,86.2005,86.2312 ,86.2607,86.291,86.3201,86.3486,86.376, 86.4037,86.4303,86.4564,86.4813,86.5055 ,86.5329,86.5669,86.5906,86.6373, 86.6824,86.7264,86.7719,86.8123,86.8529 ,86.8933,86.9331,86.9712,86.9988, 87.0371,87.0739,87.1096,87.1437,87.18, 87.1894,87.1913,86.4113,85.5428,84.7642 ,84.2456,83.8135,83.3825,82.6913, 81.9984,81.5647,80.9571,80.5223,80.0867 ,79.6505,79.0377,78.3346,78.2465, 78.2148,78.2838,78.3404,78.3965,78.4514 ,78.5044,78.5561,78.6068,78.6564, 78.7031,78.7482,78.7922,78.8428,78.8716 ,78.9074,78.9415,78.9725,79.0012, 79.0147,79.0259,79.0368,79.045,79.052, 79.0634,79.0707,79.0767,79.0812,79.0852 ,79.087,79.0884,79.0888,79.0868,79.084, 79.0819,79.1504)
ORBIT_NUMBER = 2664
ORBITAL_ECCENTRICITY = 0.571
ORBITAL_INCLINATION = 86.62
ORBITAL_SEMIMAJOR_AXIS = 8538.27
PERIAPSIS_ALTITUDE = 281.01
PERIAPSIS_ARGUMENT_ANGLE = 250.34
PERIAPSIS_TIME = 2006-02-07T15:11:26.000Z
SPACECRAFT_ORIENTATION = (0.0,-1.0,0.0)
^MEX_ORIENTATION_DESC = "MEX_ORIENTATION_DESC.TXT"
SPACECRAFT_POINTING_MODE = NADIR
^MEX_POINTING_DESC = "MEX_POINTING_DESC.TXT"
RIGHT_ASCENSION = -1e+32
DECLINATION = -1e+32
OFFSET_ANGLE = -1e+32
SPACECRAFT_SOLAR_DISTANCE = 2.3605e+08
TARGET_NAME = MARS
/* CAMERA DATA ELEMENTS */
DETECTOR_TEMPERATURE = 20.6134
FOCAL_PLANE_TEMPERATURE = 8.5833
INST_CMPRS_NAME = "DISCRETE COSINE TRANSFORMATION (DCT)"
INST_CMPRS_RATIO = 9.62295
INST_CMPRS_QUALITY = 0
INST_CMPRS_QUANTZ_TBL_ID = 0
INSTRUMENT_TEMPERATURE = 13.4769
LENS_TEMPERATURE = 9.195
MACROPIXEL_SIZE = 2
MISSING_FRAMES = 0
PIXEL_SUBSAMPLING_FLAG = N
SIGNAL_CHAIN_ID = 3
/* RADIOMETRIC DATA ELEMENTS */
BANDWIDTH = 177.0
CENTER_FILTER_WAVELENGTH = 676.5
RADIANCE_OFFSET = 2.23722
RADIANCE_SCALING_FACTOR = 0.0114639
REFLECTANCE_SCALING_FACTOR = 0.000338692
MEX:REFLECTANCE_OFFSET = 0.0660968
/* IMAGE OBJECT DEFINITIONS */
OBJECT = IMAGE
  INTERCHANGE_FORMAT = BINARY
  LINES = 9677
  LINE_SAMPLES = 3554
  SAMPLE_TYPE = UNSIGNED_INTEGER
  SAMPLE_BITS = 8
  BANDS = 1
  BAND_STORAGE_TYPE = BAND_SEQUENTIAL
  MAXIMUM = 248
  MEAN = 84.76
  MINIMUM = 1
  STANDARD_DEVIATION = 28.3558
END_OBJECT = IMAGE
/* MAP OBJECT DEFINITIONS */
OBJECT = IMAGE_MAP_PROJECTION
  ^DATA_SET_MAP_PROJECTION_CATALOG= "DSMAP.CAT"
  A_AXIS_RADIUS = 3396.0
  B_AXIS_RADIUS = 3396.0
  C_AXIS_RADIUS = 3396.0
  CENTER_LATITUDE = 0.0
  CENTER_LONGITUDE = 83.0
  COORDINATE_SYSTEM_NAME = PLANETOGRAPHIC
  COORDINATE_SYSTEM_TYPE = "BODY-FIXED ROTATING"
  EASTERNMOST_LONGITUDE = 87.1913
  FIRST_STANDARD_PARALLEL = "N/A"
  LINE_FIRST_PIXEL = 1
  LINE_LAST_PIXEL = 9677
  LINE_PROJECTION_OFFSET = -19524.25
  MAP_PROJECTION_ROTATION = 0.0
  MAP_PROJECTION_TYPE = SINUSOIDAL
  MAP_RESOLUTION = 592.713803866667
  MAP_SCALE = 0.1
  MAXIMUM_LATITUDE = -32.8087
  MINIMUM_LATITUDE = -49.253
  POSITIVE_LONGITUDE_DIRECTION = EAST
  REFERENCE_LATITUDE = "N/A"
  REFERENCE_LONGITUDE = "N/A"
  SAMPLE_FIRST_PIXEL = 1
  SAMPLE_LAST_PIXEL = 3554
  SAMPLE_PROJECTION_OFFSET = 2012.75
  SECOND_STANDARD_PARALLEL = "N/A"
  WESTERNMOST_LONGITUDE = 78.2148
END_OBJECT = IMAGE_MAP_PROJECTION
END
