PDS_VERSION_ID = PDS3
/* FILE DATA ELEMENTS */
RECORD_TYPE = UNDEFINED
/* POINTERS TO DATA OBJECTS */
^IMAGE = ("H2664_0001_RE4.TIF")
/* IDENTIFICATION DATA ELEMENTS */
DATA_SET_ID = "MEX-M-HRSC-4-REFDR-MAPPROJECT-EXT1-V4.0"
DATA_SET_NAME = "MARS EXPRESS HRSC MAP PROJECTED REFDR EXTENSION1 V4.0"
DETECTOR_ID = MEX_HRSC_RED
EVENT_TYPE = "MARS-GLOBAL-MAPPING-Vo-Fl-Mw"
INSTRUMENT_HOST_ID = MEX
INSTRUMENT_HOST_NAME = "MARS EXPRESS"
INSTRUMENT_ID = HRSC
INSTRUMENT_NAME = "HIGH RESOLUTION STEREO CAMERA"
MISSION_NAME = "MARS EXPRESS"
MISSION_PHASE_NAME = ME_Phase_2
PROCESSING_LEVEL_ID = 4
PRODUCT_CREATION_TIME = 2023-02-08T07:05:14.000Z
PRODUCT_ID = "H2664_0001_RE4.TIF"
RELEASE_ID = 0001
REVISION_ID = 0000
/* QUALITY DATA ELEMENTS */
DATA_QUALITY_ID = 1
DATA_QUALITY_DESC = "Data calculated based on original SPICE kernels"
/* TIME DATA ELEMENTS */
SPACECRAFT_CLOCK_START_COUNT = "1/0087405998.09049"
SPACECRAFT_CLOCK_STOP_COUNT = "1/0087407056.04966"
START_TIME = 2006-02-07T15:31:19.880Z
STOP_TIME = 2006-02-07T15:41:44.522Z
/* ORBITAL DATA ELEMENTS */
ASCENDING_NODE_LONGITUDE = 172.39
MAXIMUM_RESOLUTION = 0.2256
FOOTPRINT_POINT_LATITUDE = (-49.1047,-49.1237,-49.1332,-49.1412, -49.1483,-49.1529,-49.1575,-49.1577, -49.1563,-49.1533,-49.1487,-49.1387, -49.1377,-49.2486,-48.6261,-48.217, -47.8124,-47.41,-47.0122,-46.6182, -46.2288,-45.8433,-45.4611,-45.0831, -44.7087,-44.3374,-43.9695,-43.6062, -43.2451,-42.8895,-42.358,-42.0104, -41.6647,-40.9852,-40.3202,-39.6671, -38.8696,-38.2437,-37.6305,-37.0308, -36.4408,-35.8648,-35.4346,-34.8755, -34.3275,-33.9148,-33.3869,-32.866, -32.7378,-32.7357,-32.8042,-32.8576, -32.8943,-32.9297,-32.9819,-33.0142, -33.0576,-33.1153,-33.1702,-33.2212, -33.2509,-33.2935,-33.3472,-33.4089, -33.4142,-33.4169,-33.9069,-34.3979, -34.8986,-35.4117,-35.9365,-36.4721, -37.0191,-37.5775,-38.1504,-38.7355, -39.333,-39.9429,-40.4109,-40.8847, -41.5321,-42.19,-42.8635,-43.2056, -43.5502,-44.0777,-44.4317,-44.9793, -45.3426,-45.7081,-46.0808,-46.4582, -46.8396,-47.2252,-47.6151,-48.0083, -48.4064,-49.0112,-49.215,-49.1047)
FOOTPRINT_POINT_LONGITUDE = (79.0302,79.8965,80.4284,80.9594, 81.5569,82.088,83.083,83.68,84.2107, 84.7423,85.2749,86.0763,86.1433,86.229, 86.2903,86.3306,86.3702,86.4081,86.4456 ,86.4823,86.5189,86.5547,86.5897, 86.6245,86.6586,86.6918,86.7244,86.7572 ,86.7888,86.821,86.866,86.897,86.9267, 86.9864,87.0458,87.1036,87.1754,87.231, 87.2864,87.3422,87.3966,87.4522,87.4906 ,87.5444,87.5984,87.6339,87.689,87.7423 ,87.7559,87.7561,86.8476,86.1178, 85.5707,85.1175,84.3922,83.8468,83.3036 ,82.5779,81.7586,81.0287,80.5718, 79.9312,79.1036,78.0866,77.9939,77.963, 78.0211,78.0819,78.1423,78.2014,78.2592 ,78.3163,78.3723,78.4273,78.4798, 78.5309,78.5805,78.6284,78.6622,78.6955 ,78.7361,78.7759,78.8122,78.8292, 78.8461,78.868,78.8827,78.8978,78.9103, 78.9227,78.9322,78.9401,78.9468,78.9522 ,78.9561,78.9592,78.9604,78.9594, 78.9582,79.0302)
ORBIT_NUMBER = 2664
ORBITAL_ECCENTRICITY = 0.571
ORBITAL_INCLINATION = 86.62
ORBITAL_SEMIMAJOR_AXIS = 8538.27
PERIAPSIS_ALTITUDE = 281.01
PERIAPSIS_ARGUMENT_ANGLE = 250.34
PERIAPSIS_TIME = 2006-02-07T15:11:26.000Z
SPACECRAFT_ORIENTATION = (0.0,-1.0,0.0)
^MEX_ORIENTATION_DESC = "MEX_ORIENTATION_DESC.TXT"
SPACECRAFT_POINTING_MODE = NADIR
^MEX_POINTING_DESC = "MEX_POINTING_DESC.TXT"
RIGHT_ASCENSION = -1e+32
DECLINATION = -1e+32
OFFSET_ANGLE = -1e+32
SPACECRAFT_SOLAR_DISTANCE = 2.3605e+08
TARGET_NAME = MARS
/* CAMERA DATA ELEMENTS */
DETECTOR_TEMPERATURE = 20.6134
FOCAL_PLANE_TEMPERATURE = 8.5833
INST_CMPRS_NAME = "DISCRETE COSINE TRANSFORMATION (DCT)"
INST_CMPRS_RATIO = 20.0152
INST_CMPRS_QUALITY = 0
INST_CMPRS_QUANTZ_TBL_ID = 0
INSTRUMENT_TEMPERATURE = 13.4769
LENS_TEMPERATURE = 9.195
MACROPIXEL_SIZE = 4
MISSING_FRAMES = 0
PIXEL_SUBSAMPLING_FLAG = N
SIGNAL_CHAIN_ID = 2
/* RADIOMETRIC DATA ELEMENTS */
BANDWIDTH = 48.0
CENTER_FILTER_WAVELENGTH = 748.0
RADIANCE_OFFSET = 0.577342
RADIANCE_SCALING_FACTOR = 0.00349543
REFLECTANCE_SCALING_FACTOR = 0.000444469
MEX:REFLECTANCE_OFFSET = 0.0734131
/* IMAGE OBJECT DEFINITIONS */
OBJECT = IMAGE
  INTERCHANGE_FORMAT = BINARY
  LINES = 4839
  LINE_SAMPLES = 1777
  SAMPLE_TYPE = UNSIGNED_INTEGER
  SAMPLE_BITS = 8
  BANDS = 1
  BAND_STORAGE_TYPE = BAND_SEQUENTIAL
  MAXIMUM = 242
  MEAN = 90.9989
  MINIMUM = 1
  STANDARD_DEVIATION = 27.7126
END_OBJECT = IMAGE
/* MAP OBJECT DEFINITIONS */
OBJECT = IMAGE_MAP_PROJECTION
  ^DATA_SET_MAP_PROJECTION_CATALOG= "DSMAP.CAT"
  A_AXIS_RADIUS = 3396.0
  B_AXIS_RADIUS = 3396.0
  C_AXIS_RADIUS = 3396.0
  CENTER_LATITUDE = 0.0
  CENTER_LONGITUDE = 83.0
  COORDINATE_SYSTEM_NAME = PLANETOGRAPHIC
  COORDINATE_SYSTEM_TYPE = "BODY-FIXED ROTATING"
  EASTERNMOST_LONGITUDE = 87.7561
  FIRST_STANDARD_PARALLEL = "N/A"
  LINE_FIRST_PIXEL = 1
  LINE_LAST_PIXEL = 4839
  LINE_PROJECTION_OFFSET = -9762.375
  MAP_PROJECTION_ROTATION = 0.0
  MAP_PROJECTION_TYPE = SINUSOIDAL
  MAP_RESOLUTION = 296.356901933333
  MAP_SCALE = 0.2
  MAXIMUM_LATITUDE = -32.7357
  MINIMUM_LATITUDE = -49.2486
  POSITIVE_LONGITUDE_DIRECTION = EAST
  REFERENCE_LATITUDE = "N/A"
  REFERENCE_LONGITUDE = "N/A"
  SAMPLE_FIRST_PIXEL = 1
  SAMPLE_LAST_PIXEL = 1777
  SAMPLE_PROJECTION_OFFSET = 1006.125
  SECOND_STANDARD_PARALLEL = "N/A"
  WESTERNMOST_LONGITUDE = 77.96299999999999
END_OBJECT = IMAGE_MAP_PROJECTION
END
