PDS_VERSION_ID = PDS3
/* FILE DATA ELEMENTS */
RECORD_TYPE = UNDEFINED
/* POINTERS TO DATA OBJECTS */
^IMAGE = ("H2665_0001_ND4.TIF")
/* IDENTIFICATION DATA ELEMENTS */
DATA_SET_ID = "MEX-M-HRSC-4-REFDR-MAPPROJECT-EXT1-V4.0"
DATA_SET_NAME = "MARS EXPRESS HRSC MAP PROJECTED REFDR EXTENSION1 V4.0"
DETECTOR_ID = MEX_HRSC_NADIR
EVENT_TYPE = "MARS-REGIONAL-MAPPING-Im-Fl-Eo"
INSTRUMENT_HOST_ID = MEX
INSTRUMENT_HOST_NAME = "MARS EXPRESS"
INSTRUMENT_ID = HRSC
INSTRUMENT_NAME = "HIGH RESOLUTION STEREO CAMERA"
MISSION_NAME = "MARS EXPRESS"
MISSION_PHASE_NAME = ME_Phase_2
PROCESSING_LEVEL_ID = 4
PRODUCT_CREATION_TIME = 2023-02-08T07:05:14.000Z
PRODUCT_ID = "H2665_0001_ND4.TIF"
RELEASE_ID = 0001
REVISION_ID = 0000
/* QUALITY DATA ELEMENTS */
DATA_QUALITY_ID = 1
DATA_QUALITY_DESC = "Data calculated based on original SPICE kernels"
/* TIME DATA ELEMENTS */
SPACECRAFT_CLOCK_START_COUNT = "1/0087430060.08250"
SPACECRAFT_CLOCK_STOP_COUNT = "1/0087430997.40252"
START_TIME = 2006-02-07T22:09:19.065Z
STOP_TIME = 2006-02-07T22:16:48.099Z
/* ORBITAL DATA ELEMENTS */
ASCENDING_NODE_LONGITUDE = 172.37
MAXIMUM_RESOLUTION = 0.0361
FOOTPRINT_POINT_LATITUDE = (-56.5511,-56.6037,-56.6392,-56.6736, -56.7211,-56.7417,-56.7424,-56.7441, -56.0697,-55.3849,-54.6898,-53.9838, -53.267,-52.539,-51.7999,-51.0486, -50.6684,-50.2854,-49.8991,-49.51, -49.1175,-48.7219,-48.323,-47.9208, -47.5152,-47.1062,-46.6939,-46.278, -45.6479,-45.2272,-44.8089,-44.3931, -43.9798,-43.5689,-43.1604,-42.7544, -42.3508,-41.9495,-41.5506,-41.1541, -40.76,-40.3681,-39.9786,-39.5914, -39.2064,-38.8237,-38.4433,-37.6892, -37.502,-37.4857,-37.5156,-37.5326, -37.5517,-37.5604,-37.5668,-37.5715, -37.5713,-37.5658,-37.5546,-37.5534, -37.5534,-38.2899,-39.0357,-39.7909, -40.1721,-40.5557,-40.9417,-41.3301, -41.7209,-42.1143,-42.51,-42.9083, -43.3091,-43.7124,-44.1182,-44.5266, -44.9375,-45.5587,-45.9741,-46.386, -46.7946,-47.2001,-47.6024,-48.0015, -48.3971,-48.7896,-49.1792,-49.5655, -49.949,-50.7067,-51.4531,-52.1879, -52.9111,-53.6238,-54.3256,-55.0174, -55.6983,-56.3687,-56.5352,-56.5511)
FOOTPRINT_POINT_LONGITUDE = (340.806,341.807,342.587,343.479, 345.154,346.388,346.444,346.515,346.593 ,346.668,346.741,346.812,346.88,346.942 ,347.003,347.063,347.092,347.121, 347.149,347.175,347.202,347.23,347.256, 347.28,347.305,347.329,347.353,347.376, 347.409,347.431,347.452,347.472,347.494 ,347.511,347.531,347.547,347.565,347.58 ,347.596,347.611,347.626,347.64,347.653 ,347.667,347.678,347.691,347.702, 347.725,347.731,347.731,346.869,346.27, 345.406,344.876,344.346,343.684,342.622 ,341.891,341.092,341.025,340.992, 341.034,341.072,341.108,341.125,341.141 ,341.156,341.17,341.183,341.196,341.208 ,341.216,341.227,341.235,341.242, 341.249,341.252,341.258,341.258,341.258 ,341.256,341.253,341.249,341.242, 341.236,341.231,341.22,341.209,341.199, 341.171,341.139,341.102,341.06,341.014, 340.961,340.907,340.844,340.774,340.756 ,340.806)
ORBIT_NUMBER = 2665
ORBITAL_ECCENTRICITY = 0.571
ORBITAL_INCLINATION = 86.62
ORBITAL_SEMIMAJOR_AXIS = 8539.25
PERIAPSIS_ALTITUDE = 281.84
PERIAPSIS_ARGUMENT_ANGLE = 250.15
PERIAPSIS_TIME = 2006-02-07T21:54:36.000Z
SPACECRAFT_ORIENTATION = (0.0,-1.0,0.0)
^MEX_ORIENTATION_DESC = "MEX_ORIENTATION_DESC.TXT"
SPACECRAFT_POINTING_MODE = NADIR
^MEX_POINTING_DESC = "MEX_POINTING_DESC.TXT"
RIGHT_ASCENSION = -1e+32
DECLINATION = -1e+32
OFFSET_ANGLE = -1e+32
SPACECRAFT_SOLAR_DISTANCE = 2.36098e+08
TARGET_NAME = MARS
/* CAMERA DATA ELEMENTS */
DETECTOR_TEMPERATURE = 18.9822
FOCAL_PLANE_TEMPERATURE = 8.5833
INST_CMPRS_NAME = "DISCRETE COSINE TRANSFORMATION (DCT)"
INST_CMPRS_RATIO = 6.59201
INST_CMPRS_QUALITY = 0
INST_CMPRS_QUANTZ_TBL_ID = 0
INSTRUMENT_TEMPERATURE = 12.6613
LENS_TEMPERATURE = 8.9911
MACROPIXEL_SIZE = 1
MISSING_FRAMES = 0
PIXEL_SUBSAMPLING_FLAG = N
SIGNAL_CHAIN_ID = 0
/* RADIOMETRIC DATA ELEMENTS */
BANDWIDTH = 177.0
CENTER_FILTER_WAVELENGTH = 677.5
RADIANCE_OFFSET = 1.17577
RADIANCE_SCALING_FACTOR = 0.0106306
REFLECTANCE_SCALING_FACTOR = 0.0003148
MEX:REFLECTANCE_OFFSET = 0.0348176
/* IMAGE OBJECT DEFINITIONS */
OBJECT = IMAGE
  INTERCHANGE_FORMAT = BINARY
  LINES = 45653
  LINE_SAMPLES = 12671
  SAMPLE_TYPE = UNSIGNED_INTEGER
  SAMPLE_BITS = 8
  BANDS = 1
  BAND_STORAGE_TYPE = BAND_SEQUENTIAL
  MAXIMUM = 255
  MEAN = 96.4097
  MINIMUM = 1
  STANDARD_DEVIATION = 30.7255
END_OBJECT = IMAGE
/* MAP OBJECT DEFINITIONS */
OBJECT = IMAGE_MAP_PROJECTION
  ^DATA_SET_MAP_PROJECTION_CATALOG= "DSMAP.CAT"
  A_AXIS_RADIUS = 3396.0
  B_AXIS_RADIUS = 3396.0
  C_AXIS_RADIUS = 3396.0
  CENTER_LATITUDE = 0.0
  CENTER_LONGITUDE = 344.0
  COORDINATE_SYSTEM_NAME = PLANETOGRAPHIC
  COORDINATE_SYSTEM_TYPE = "BODY-FIXED ROTATING"
  EASTERNMOST_LONGITUDE = 347.731
  FIRST_STANDARD_PARALLEL = "N/A"
  LINE_FIRST_PIXEL = 1
  LINE_LAST_PIXEL = 45653
  LINE_PROJECTION_OFFSET = -88880.0
  MAP_PROJECTION_ROTATION = 0.0
  MAP_PROJECTION_TYPE = SINUSOIDAL
  MAP_RESOLUTION = 2370.85521546667
  MAP_SCALE = 0.025
  MAXIMUM_LATITUDE = -37.4857
  MINIMUM_LATITUDE = -56.7441
  POSITIVE_LONGITUDE_DIRECTION = EAST
  REFERENCE_LATITUDE = "N/A"
  REFERENCE_LONGITUDE = "N/A"
  SAMPLE_FIRST_PIXEL = 1
  SAMPLE_LAST_PIXEL = 12671
  SAMPLE_PROJECTION_OFFSET = 5653.0
  SECOND_STANDARD_PARALLEL = "N/A"
  WESTERNMOST_LONGITUDE = 340.756
END_OBJECT = IMAGE_MAP_PROJECTION
END
