PDS_VERSION_ID = PDS3
/* FILE DATA ELEMENTS */
RECORD_TYPE = UNDEFINED
/* POINTERS TO DATA OBJECTS */
^IMAGE = ("H2677_0000_ND4.TIF")
/* IDENTIFICATION DATA ELEMENTS */
DATA_SET_ID = "MEX-M-HRSC-4-REFDR-MAPPROJECT-EXT1-V4.0"
DATA_SET_NAME = "MARS EXPRESS HRSC MAP PROJECTED REFDR EXTENSION1 V4.0"
DETECTOR_ID = MEX_HRSC_NADIR
EVENT_TYPE = "MARS-REGIONAL-MAPPING-Vo-Im-Fl"
INSTRUMENT_HOST_ID = MEX
INSTRUMENT_HOST_NAME = "MARS EXPRESS"
INSTRUMENT_ID = HRSC
INSTRUMENT_NAME = "HIGH RESOLUTION STEREO CAMERA"
MISSION_NAME = "MARS EXPRESS"
MISSION_PHASE_NAME = ME_Phase_2
PROCESSING_LEVEL_ID = 4
PRODUCT_CREATION_TIME = 2023-02-08T07:05:14.000Z
PRODUCT_ID = "H2677_0000_ND4.TIF"
RELEASE_ID = 0001
REVISION_ID = 0000
/* QUALITY DATA ELEMENTS */
DATA_QUALITY_ID = 1
DATA_QUALITY_DESC = "Data calculated based on original SPICE kernels"
/* TIME DATA ELEMENTS */
SPACECRAFT_CLOCK_START_COUNT = "1/0087720340.08248"
SPACECRAFT_CLOCK_STOP_COUNT = "1/0087721409.18899"
START_TIME = 2006-02-11T06:47:11.838Z
STOP_TIME = 2006-02-11T06:56:13.864Z
/* ORBITAL DATA ELEMENTS */
ASCENDING_NODE_LONGITUDE = 172.12
MAXIMUM_RESOLUTION = 0.034
FOOTPRINT_POINT_LATITUDE = (-60.8374,-60.8994,-60.9842,-61.0457, -61.076,-61.0771,-61.0796,-60.2658, -59.4374,-58.593,-57.7323,-56.8553, -55.9613,-55.5078,-55.0496,-54.5867, -54.1193,-53.6474,-53.1706,-52.689, -52.2024,-51.7108,-51.2143,-50.7125, -50.2055,-49.4353,-48.922,-48.4122, -47.9061,-47.4035,-46.9044,-46.4089, -45.9169,-45.4283,-44.9431,-44.4614, -43.9831,-43.5081,-43.0365,-42.5682, -42.1032,-41.6415,-41.183,-40.7277, -40.2756,-39.8267,-38.9382,-38.062, -37.8448,-37.8299,-37.8659,-37.8848, -37.9182,-37.9287,-37.929,-37.9211, -37.9118,-37.9105,-37.9104,-38.7641, -39.6306,-40.5102,-41.4029,-41.8543, -42.3091,-42.7673,-43.229,-43.694, -44.1626,-44.6347,-45.1103,-45.5895, -46.0722,-46.5586,-47.0485,-47.5421, -48.0394,-48.5403,-49.2987,-49.8069, -50.3101,-50.8084,-51.3017,-51.7901, -52.2738,-52.7526,-53.2266,-53.6956, -54.1602,-54.6208,-55.0768,-55.5277, -56.4172,-57.2902,-58.1464,-58.9869, -59.8117,-60.6216,-60.8217,-60.8374)
FOOTPRINT_POINT_LONGITUDE = (240.559,241.618,243.39,245.167,246.479 ,246.539,246.623,246.75,246.871,246.989 ,247.094,247.201,247.301,247.349, 247.396,247.442,247.486,247.53,247.573, 247.613,247.655,247.694,247.732,247.768 ,247.802,247.855,247.888,247.921, 247.954,247.982,248.01,248.04,248.066, 248.09,248.113,248.136,248.157,248.177, 248.196,248.215,248.234,248.25,248.267, 248.282,248.297,248.312,248.337,248.361 ,248.367,248.367,247.385,246.76,245.162 ,244.049,243.004,242.028,241.398, 241.328,241.294,241.342,241.388,241.43, 241.471,241.487,241.502,241.516,241.527 ,241.539,241.549,241.557,241.563, 241.568,241.569,241.572,241.572,241.569 ,241.565,241.558,241.542,241.529, 241.514,241.497,241.478,241.456,241.435 ,241.407,241.379,241.342,241.309, 241.281,241.243,241.205,241.111,241.026 ,240.919,240.803,240.676,240.542, 240.508,240.559)
ORBIT_NUMBER = 2677
ORBITAL_ECCENTRICITY = 0.571
ORBITAL_INCLINATION = 86.62
ORBITAL_SEMIMAJOR_AXIS = 8544.31
PERIAPSIS_ALTITUDE = 282.32
PERIAPSIS_ARGUMENT_ANGLE = 248.07
PERIAPSIS_TIME = 2006-02-11T06:33:14.000Z
SPACECRAFT_ORIENTATION = (0.0,-1.0,0.0)
^MEX_ORIENTATION_DESC = "MEX_ORIENTATION_DESC.TXT"
SPACECRAFT_POINTING_MODE = NADIR
^MEX_POINTING_DESC = "MEX_POINTING_DESC.TXT"
RIGHT_ASCENSION = -1e+32
DECLINATION = -1e+32
OFFSET_ANGLE = -1e+32
SPACECRAFT_SOLAR_DISTANCE = 2.36678e+08
TARGET_NAME = MARS
/* CAMERA DATA ELEMENTS */
DETECTOR_TEMPERATURE = 18.3705
FOCAL_PLANE_TEMPERATURE = 8.3794
INST_CMPRS_NAME = "DISCRETE COSINE TRANSFORMATION (DCT)"
INST_CMPRS_RATIO = 7.18099
INST_CMPRS_QUALITY = 0
INST_CMPRS_QUANTZ_TBL_ID = 0
INSTRUMENT_TEMPERATURE = 11.234
LENS_TEMPERATURE = 8.7872
MACROPIXEL_SIZE = 1
MISSING_FRAMES = 0
PIXEL_SUBSAMPLING_FLAG = N
SIGNAL_CHAIN_ID = 0
/* RADIOMETRIC DATA ELEMENTS */
BANDWIDTH = 177.0
CENTER_FILTER_WAVELENGTH = 677.5
RADIANCE_OFFSET = 0.557402
RADIANCE_SCALING_FACTOR = 0.0129787
REFLECTANCE_SCALING_FACTOR = 0.000386221
MEX:REFLECTANCE_OFFSET = 0.0165872
/* IMAGE OBJECT DEFINITIONS */
OBJECT = IMAGE
  INTERCHANGE_FORMAT = BINARY
  LINES = 55117
  LINE_SAMPLES = 13236
  SAMPLE_TYPE = UNSIGNED_INTEGER
  SAMPLE_BITS = 8
  BANDS = 1
  BAND_STORAGE_TYPE = BAND_SEQUENTIAL
  MAXIMUM = 255
  MEAN = 92.0959
  MINIMUM = 1
  STANDARD_DEVIATION = 41.8414
END_OBJECT = IMAGE
/* MAP OBJECT DEFINITIONS */
OBJECT = IMAGE_MAP_PROJECTION
  ^DATA_SET_MAP_PROJECTION_CATALOG= "DSMAP.CAT"
  A_AXIS_RADIUS = 3396.0
  B_AXIS_RADIUS = 3396.0
  C_AXIS_RADIUS = 3396.0
  CENTER_LATITUDE = 0.0
  CENTER_LONGITUDE = 245.0
  COORDINATE_SYSTEM_NAME = PLANETOGRAPHIC
  COORDINATE_SYSTEM_TYPE = "BODY-FIXED ROTATING"
  EASTERNMOST_LONGITUDE = 248.367
  FIRST_STANDARD_PARALLEL = "N/A"
  LINE_FIRST_PIXEL = 1
  LINE_LAST_PIXEL = 55117
  LINE_PROJECTION_OFFSET = -89698.0
  MAP_PROJECTION_ROTATION = 0.0
  MAP_PROJECTION_TYPE = SINUSOIDAL
  MAP_RESOLUTION = 2370.85521546667
  MAP_SCALE = 0.025
  MAXIMUM_LATITUDE = -37.8299
  MINIMUM_LATITUDE = -61.0796
  POSITIVE_LONGITUDE_DIRECTION = EAST
  REFERENCE_LATITUDE = "N/A"
  REFERENCE_LONGITUDE = "N/A"
  SAMPLE_FIRST_PIXEL = 1
  SAMPLE_LAST_PIXEL = 13236
  SAMPLE_PROJECTION_OFFSET = 6933.0
  SECOND_STANDARD_PARALLEL = "N/A"
  WESTERNMOST_LONGITUDE = 240.508
END_OBJECT = IMAGE_MAP_PROJECTION
END
