PDS_VERSION_ID = PDS3
/* FILE DATA ELEMENTS */
RECORD_TYPE = UNDEFINED
/* POINTERS TO DATA OBJECTS */
^IMAGE = ("H2681_0000_GR4.TIF")
/* IDENTIFICATION DATA ELEMENTS */
DATA_SET_ID = "MEX-M-HRSC-4-REFDR-MAPPROJECT-EXT1-V4.0"
DATA_SET_NAME = "MARS EXPRESS HRSC MAP PROJECTED REFDR EXTENSION1 V4.0"
DETECTOR_ID = MEX_HRSC_GREEN
EVENT_TYPE = "MARS-GLOBAL-MAPPING-Im-Fl-At"
INSTRUMENT_HOST_ID = MEX
INSTRUMENT_HOST_NAME = "MARS EXPRESS"
INSTRUMENT_ID = HRSC
INSTRUMENT_NAME = "HIGH RESOLUTION STEREO CAMERA"
MISSION_NAME = "MARS EXPRESS"
MISSION_PHASE_NAME = ME_Phase_2
PROCESSING_LEVEL_ID = 4
PRODUCT_CREATION_TIME = 2023-02-08T07:05:14.000Z
PRODUCT_ID = "H2681_0000_GR4.TIF"
RELEASE_ID = 0001
REVISION_ID = 0000
/* QUALITY DATA ELEMENTS */
DATA_QUALITY_ID = 1
DATA_QUALITY_DESC = "Data calculated based on original SPICE kernels"
/* TIME DATA ELEMENTS */
SPACECRAFT_CLOCK_START_COUNT = "1/0087817178.09063"
SPACECRAFT_CLOCK_STOP_COUNT = "1/0087818063.03238"
START_TIME = 2006-02-12T09:41:03.473Z
STOP_TIME = 2006-02-12T09:47:28.823Z
/* ORBITAL DATA ELEMENTS */
ASCENDING_NODE_LONGITUDE = 172.03
MAXIMUM_RESOLUTION = 0.1469
FOOTPRINT_POINT_LATITUDE = (-57.8518,-57.9061,-57.9632,-57.9931, -58.024,-58.0445,-58.0726,-58.0734, -58.059,-57.4647,-56.8631,-56.2536, -55.6349,-55.0083,-54.373,-53.7295, -52.9107,-52.2476,-51.5739,-51.2338, -50.8912,-50.3707,-50.0232,-49.6717, -49.3177,-48.9609,-48.6016,-48.2397, -47.8756,-47.5087,-47.139,-46.7664, -46.3907,-45.8217,-45.4407,-45.0616, -44.6842,-44.3092,-43.936,-43.5647, -43.1953,-42.8271,-42.462,-42.0979, -41.7359,-41.3758,-41.0179,-40.8393, -40.8344,-40.8563,-40.8731,-40.8809, -40.8808,-40.871,-40.8597,-40.8488, -40.8242,-40.8222,-40.8239,-41.1753, -41.5286,-41.8839,-42.241,-42.6001, -42.9614,-43.3241,-43.6892,-44.055, -44.4235,-44.7941,-45.1666,-45.5415, -45.9171,-46.2902,-46.6591,-47.2116, -47.5756,-47.936,-48.2944,-48.651, -49.0045,-49.3554,-49.7038,-50.0499, -50.3938,-50.7349,-51.0738,-51.4102, -52.0769,-52.7341,-53.3829,-54.0228, -54.6539,-55.2768,-55.8911,-56.4973, -57.096,-57.6872,-57.8339,-57.8518)
FOOTPRINT_POINT_LONGITUDE = (207.84,208.777,209.935,210.654,211.539 ,212.26,213.707,213.763,213.826,213.898 ,213.967,214.033,214.1,214.163,214.224, 214.28,214.355,214.406,214.457,214.482, 214.506,214.547,214.566,214.59,214.612, 214.634,214.655,214.676,214.696,214.715 ,214.734,214.753,214.773,214.802,214.82 ,214.838,214.855,214.871,214.886, 214.901,214.915,214.93,214.941,214.954, 214.966,214.977,214.986,214.992,214.992 ,214.124,213.128,212.197,211.453, 210.458,209.775,209.277,208.404,208.342 ,208.321,208.335,208.348,208.36,208.372 ,208.383,208.394,208.403,208.411, 208.417,208.423,208.428,208.432,208.436 ,208.438,208.439,208.435,208.437, 208.434,208.428,208.422,208.417,208.409 ,208.399,208.39,208.379,208.368,208.354 ,208.34,208.326,208.294,208.257,208.217 ,208.173,208.125,208.073,208.015, 207.953,207.888,207.82,207.801,207.84)
ORBIT_NUMBER = 2681
ORBITAL_ECCENTRICITY = 0.571
ORBITAL_INCLINATION = 86.62
ORBITAL_SEMIMAJOR_AXIS = 8544.94
PERIAPSIS_ALTITUDE = 282.32
PERIAPSIS_ARGUMENT_ANGLE = 247.39
PERIAPSIS_TIME = 2006-02-12T09:26:09.000Z
SPACECRAFT_ORIENTATION = (0.0,-1.0,0.0)
^MEX_ORIENTATION_DESC = "MEX_ORIENTATION_DESC.TXT"
SPACECRAFT_POINTING_MODE = NADIR
^MEX_POINTING_DESC = "MEX_POINTING_DESC.TXT"
RIGHT_ASCENSION = -1e+32
DECLINATION = -1e+32
OFFSET_ANGLE = -1e+32
SPACECRAFT_SOLAR_DISTANCE = 2.36869e+08
TARGET_NAME = MARS
/* CAMERA DATA ELEMENTS */
DETECTOR_TEMPERATURE = 17.7588
FOCAL_PLANE_TEMPERATURE = 8.1755
INST_CMPRS_NAME = "DISCRETE COSINE TRANSFORMATION (DCT)"
INST_CMPRS_RATIO = 14.354
INST_CMPRS_QUALITY = 0
INST_CMPRS_QUANTZ_TBL_ID = 0
INSTRUMENT_TEMPERATURE = 11.234
LENS_TEMPERATURE = 8.7872
MACROPIXEL_SIZE = 4
MISSING_FRAMES = 0
PIXEL_SUBSAMPLING_FLAG = N
SIGNAL_CHAIN_ID = 2
/* RADIOMETRIC DATA ELEMENTS */
BANDWIDTH = 88.0
CENTER_FILTER_WAVELENGTH = 538.0
RADIANCE_OFFSET = 0.426067
RADIANCE_SCALING_FACTOR = 0.0039816
REFLECTANCE_SCALING_FACTOR = 0.00019234
MEX:REFLECTANCE_OFFSET = 0.0205821
/* IMAGE OBJECT DEFINITIONS */
OBJECT = IMAGE
  INTERCHANGE_FORMAT = BINARY
  LINES = 5107
  LINE_SAMPLES = 1562
  SAMPLE_TYPE = UNSIGNED_INTEGER
  SAMPLE_BITS = 8
  BANDS = 1
  BAND_STORAGE_TYPE = BAND_SEQUENTIAL
  MAXIMUM = 255
  MEAN = 89.8398
  MINIMUM = 1
  STANDARD_DEVIATION = 37.1849
END_OBJECT = IMAGE
/* MAP OBJECT DEFINITIONS */
OBJECT = IMAGE_MAP_PROJECTION
  ^DATA_SET_MAP_PROJECTION_CATALOG= "DSMAP.CAT"
  A_AXIS_RADIUS = 3396.0
  B_AXIS_RADIUS = 3396.0
  C_AXIS_RADIUS = 3396.0
  CENTER_LATITUDE = 0.0
  CENTER_LONGITUDE = 211.0
  COORDINATE_SYSTEM_NAME = PLANETOGRAPHIC
  COORDINATE_SYSTEM_TYPE = "BODY-FIXED ROTATING"
  EASTERNMOST_LONGITUDE = 214.992
  FIRST_STANDARD_PARALLEL = "N/A"
  LINE_FIRST_PIXEL = 1
  LINE_LAST_PIXEL = 5107
  LINE_PROJECTION_OFFSET = -12100.875
  MAP_PROJECTION_ROTATION = 0.0
  MAP_PROJECTION_TYPE = SINUSOIDAL
  MAP_RESOLUTION = 296.356901933333
  MAP_SCALE = 0.2
  MAXIMUM_LATITUDE = -40.8222
  MINIMUM_LATITUDE = -58.0734
  POSITIVE_LONGITUDE_DIRECTION = EAST
  REFERENCE_LATITUDE = "N/A"
  REFERENCE_LONGITUDE = "N/A"
  SAMPLE_FIRST_PIXEL = 1
  SAMPLE_LAST_PIXEL = 1562
  SAMPLE_PROJECTION_OFFSET = 630.375
  SECOND_STANDARD_PARALLEL = "N/A"
  WESTERNMOST_LONGITUDE = 207.801
END_OBJECT = IMAGE_MAP_PROJECTION
END
