PDS_VERSION_ID = PDS3
/* FILE DATA ELEMENTS */
RECORD_TYPE = UNDEFINED
/* POINTERS TO DATA OBJECTS */
^IMAGE = ("H2684_0000_RE4.TIF")
/* IDENTIFICATION DATA ELEMENTS */
DATA_SET_ID = "MEX-M-HRSC-4-REFDR-MAPPROJECT-EXT1-V4.0"
DATA_SET_NAME = "MARS EXPRESS HRSC MAP PROJECTED REFDR EXTENSION1 V4.0"
DETECTOR_ID = MEX_HRSC_RED
EVENT_TYPE = "MARS-REGIONAL-MAPPING-Im"
INSTRUMENT_HOST_ID = MEX
INSTRUMENT_HOST_NAME = "MARS EXPRESS"
INSTRUMENT_ID = HRSC
INSTRUMENT_NAME = "HIGH RESOLUTION STEREO CAMERA"
MISSION_NAME = "MARS EXPRESS"
MISSION_PHASE_NAME = ME_Phase_2
PROCESSING_LEVEL_ID = 4
PRODUCT_CREATION_TIME = 2023-02-08T07:05:14.000Z
PRODUCT_ID = "H2684_0000_RE4.TIF"
RELEASE_ID = 0001
REVISION_ID = 0000
/* QUALITY DATA ELEMENTS */
DATA_QUALITY_ID = 1
DATA_QUALITY_DESC = "Data calculated based on original SPICE kernels"
/* TIME DATA ELEMENTS */
SPACECRAFT_CLOCK_START_COUNT = "1/0087889813.07285"
SPACECRAFT_CLOCK_STOP_COUNT = "1/0087890523.08735"
START_TIME = 2006-02-13T05:54:22.174Z
STOP_TIME = 2006-02-13T06:00:43.639Z
/* ORBITAL DATA ELEMENTS */
ASCENDING_NODE_LONGITUDE = 171.97
MAXIMUM_RESOLUTION = 0.204
FOOTPRINT_POINT_LATITUDE = (-55.4852,-55.5153,-55.5348,-55.5525, -55.5738,-55.5872,-55.5974,-55.6074, -55.6182,-55.6239,-55.6277,-55.6297, -55.6296,-55.6294,-55.7073,-55.1053, -54.8633,-54.4952,-54.2476,-54.0015, -53.7557,-53.5051,-53.2531,-52.767, -52.5138,-52.1326,-51.8757,-51.6195, -51.3637,-51.1085,-50.8515,-50.6037, -50.3545,-50.1094,-49.8659,-49.6234, -49.2625,-48.7876,-48.3195,-47.8516, -47.5063,-47.0507,-46.6002,-46.1564, -45.7173,-45.2849,-44.8578,-44.4346, -44.0184,-43.9148,-43.9113,-43.9335, -43.9619,-43.9844,-44.004,-44.0207, -44.0372,-44.0509,-44.0598,-44.0676, -44.0796,-44.0846,-44.0924,-44.098, -44.1025,-44.1026,-44.1044,-44.503, -44.9068,-45.3165,-45.7316,-46.1526, -46.5797,-47.0126,-47.4515,-47.8964, -48.3472,-48.8042,-49.2668,-49.7354, -50.2107,-50.6921,-50.9348,-51.1794, -51.4256,-51.6732,-51.9227,-52.1716, -52.4196,-52.6667,-52.9129,-53.1577, -53.4012,-53.6439,-54.1254,-54.603, -54.9575,-55.4289,-55.5474,-55.4852)
FOOTPRINT_POINT_LONGITUDE = (272.55,273.317,273.874,274.431,275.197 ,275.754,276.241,276.798,277.565, 278.122,278.681,279.241,279.944,280.014 ,280.085,280.163,280.194,280.238, 280.267,280.297,280.328,280.356,280.384 ,280.453,280.482,280.526,280.554, 280.582,280.608,280.634,280.657,280.684 ,280.709,280.736,280.762,280.788, 280.825,280.876,280.925,280.97,281.005, 281.05,281.093,281.137,281.18,281.222, 281.264,281.305,281.346,281.356,281.356 ,280.787,280.049,279.395,278.742, 278.171,277.519,276.866,276.457,276.049 ,275.394,274.985,274.33,273.755,272.683 ,272.6,272.573,272.593,272.612,272.629, 272.645,272.659,272.672,272.683,272.692 ,272.7,272.705,272.709,272.71,272.71, 272.707,272.701,272.697,272.693,272.688 ,272.682,272.676,272.668,272.661, 272.652,272.642,272.632,272.622,272.611 ,272.587,272.56,272.539,272.507,272.497 ,272.55)
ORBIT_NUMBER = 2684
ORBITAL_ECCENTRICITY = 0.571
ORBITAL_INCLINATION = 86.61
ORBITAL_SEMIMAJOR_AXIS = 8546.58
PERIAPSIS_ALTITUDE = 283.05
PERIAPSIS_ARGUMENT_ANGLE = 246.85
PERIAPSIS_TIME = 2006-02-13T05:35:54.000Z
SPACECRAFT_ORIENTATION = (0.0,-1.0,0.0)
^MEX_ORIENTATION_DESC = "MEX_ORIENTATION_DESC.TXT"
SPACECRAFT_POINTING_MODE = NADIR
^MEX_POINTING_DESC = "MEX_POINTING_DESC.TXT"
RIGHT_ASCENSION = -1e+32
DECLINATION = -1e+32
OFFSET_ANGLE = -1e+32
SPACECRAFT_SOLAR_DISTANCE = 2.37012e+08
TARGET_NAME = MARS
/* CAMERA DATA ELEMENTS */
DETECTOR_TEMPERATURE = 19.1861
FOCAL_PLANE_TEMPERATURE = 8.5833
INST_CMPRS_NAME = "DISCRETE COSINE TRANSFORMATION (DCT)"
INST_CMPRS_RATIO = 22.4678
INST_CMPRS_QUALITY = 0
INST_CMPRS_QUANTZ_TBL_ID = 0
INSTRUMENT_TEMPERATURE = 11.4379
LENS_TEMPERATURE = 8.9911
MACROPIXEL_SIZE = 4
MISSING_FRAMES = 0
PIXEL_SUBSAMPLING_FLAG = N
SIGNAL_CHAIN_ID = 2
/* RADIOMETRIC DATA ELEMENTS */
BANDWIDTH = 48.0
CENTER_FILTER_WAVELENGTH = 748.0
RADIANCE_OFFSET = 0.248845
RADIANCE_SCALING_FACTOR = 0.00189074
REFLECTANCE_SCALING_FACTOR = 0.000242383
MEX:REFLECTANCE_OFFSET = 0.0319008
/* IMAGE OBJECT DEFINITIONS */
OBJECT = IMAGE
  INTERCHANGE_FORMAT = BINARY
  LINES = 3478
  LINE_SAMPLES = 1457
  SAMPLE_TYPE = UNSIGNED_INTEGER
  SAMPLE_BITS = 8
  BANDS = 1
  BAND_STORAGE_TYPE = BAND_SEQUENTIAL
  MAXIMUM = 253
  MEAN = 92.1151
  MINIMUM = 1
  STANDARD_DEVIATION = 31.7462
END_OBJECT = IMAGE
/* MAP OBJECT DEFINITIONS */
OBJECT = IMAGE_MAP_PROJECTION
  ^DATA_SET_MAP_PROJECTION_CATALOG= "DSMAP.CAT"
  A_AXIS_RADIUS = 3396.0
  B_AXIS_RADIUS = 3396.0
  C_AXIS_RADIUS = 3396.0
  CENTER_LATITUDE = 0.0
  CENTER_LONGITUDE = 277.0
  COORDINATE_SYSTEM_NAME = PLANETOGRAPHIC
  COORDINATE_SYSTEM_TYPE = "BODY-FIXED ROTATING"
  EASTERNMOST_LONGITUDE = 281.356
  FIRST_STANDARD_PARALLEL = "N/A"
  LINE_FIRST_PIXEL = 1
  LINE_LAST_PIXEL = 3478
  LINE_PROJECTION_OFFSET = -13038.875
  MAP_PROJECTION_ROTATION = 0.0
  MAP_PROJECTION_TYPE = SINUSOIDAL
  MAP_RESOLUTION = 296.356901933333
  MAP_SCALE = 0.2
  MAXIMUM_LATITUDE = -43.9113
  MINIMUM_LATITUDE = -55.7073
  POSITIVE_LONGITUDE_DIRECTION = EAST
  REFERENCE_LATITUDE = "N/A"
  REFERENCE_LONGITUDE = "N/A"
  SAMPLE_FIRST_PIXEL = 1
  SAMPLE_LAST_PIXEL = 1457
  SAMPLE_PROJECTION_OFFSET = 780.625
  SECOND_STANDARD_PARALLEL = "N/A"
  WESTERNMOST_LONGITUDE = 272.497
END_OBJECT = IMAGE_MAP_PROJECTION
END
