PDS_VERSION_ID = PDS3
/* FILE DATA ELEMENTS */
RECORD_TYPE = UNDEFINED
/* POINTERS TO DATA OBJECTS */
^IMAGE = ("H2686_0000_ND4.TIF")
/* IDENTIFICATION DATA ELEMENTS */
DATA_SET_ID = "MEX-M-HRSC-4-REFDR-MAPPROJECT-EXT1-V4.0"
DATA_SET_NAME = "MARS EXPRESS HRSC MAP PROJECTED REFDR EXTENSION1 V4.0"
DETECTOR_ID = MEX_HRSC_NADIR
EVENT_TYPE = "MARS-TERMINATOR-VARIABLE-Fl-At"
INSTRUMENT_HOST_ID = MEX
INSTRUMENT_HOST_NAME = "MARS EXPRESS"
INSTRUMENT_ID = HRSC
INSTRUMENT_NAME = "HIGH RESOLUTION STEREO CAMERA"
MISSION_NAME = "MARS EXPRESS"
MISSION_PHASE_NAME = ME_Phase_2
PROCESSING_LEVEL_ID = 4
PRODUCT_CREATION_TIME = 2023-02-08T07:05:14.000Z
PRODUCT_ID = "H2686_0000_ND4.TIF"
RELEASE_ID = 0001
REVISION_ID = 0000
/* QUALITY DATA ELEMENTS */
DATA_QUALITY_ID = 1
DATA_QUALITY_DESC = "Data calculated based on original SPICE kernels"
/* TIME DATA ELEMENTS */
SPACECRAFT_CLOCK_START_COUNT = "1/0087938397.07284"
SPACECRAFT_CLOCK_STOP_COUNT = "1/0087939448.41911"
START_TIME = 2006-02-13T19:22:52.100Z
STOP_TIME = 2006-02-13T19:31:23.023Z
/* ORBITAL DATA ELEMENTS */
ASCENDING_NODE_LONGITUDE = 171.93
MAXIMUM_RESOLUTION = 0.064
FOOTPRINT_POINT_LATITUDE = (-56.4461,-56.4875,-56.5105,-56.5227, -56.5246,-56.5171,-56.4964,-56.4949, -56.6541,-56.1447,-55.639,-54.886, -54.1311,-53.6292,-53.134,-52.6379, -51.9077,-51.4157,-50.9306,-50.4365, -49.9443,-49.4517,-48.9618,-48.4697, -47.7395,-47.25,-46.7665,-46.2814, -45.7974,-45.3161,-44.8328,-44.3592, -43.8734,-43.3972,-42.6817,-42.2039, -41.7291,-41.2551,-40.5449,-39.6001, -39.1276,-38.1889,-37.2536,-36.5536, -35.6206,-34.9202,-33.9923,-32.8377, -32.6067,-32.5973,-32.6358,-32.6546, -32.6761,-32.6931,-32.7054,-32.7111, -32.7136,-32.7115,-32.6984,-32.6971, -32.6971,-33.3864,-34.3069,-35.2303, -36.1555,-37.0838,-38.0139,-38.9476, -40.3508,-40.8245,-41.5309,-42.0024, -42.7145,-43.1881,-43.6662,-44.1404, -44.6197,-45.0967,-45.5786,-46.0581, -46.7718,-47.4964,-48.2264,-48.7129, -49.4466,-50.1803,-50.6709,-51.1598, -51.6541,-52.1439,-52.6371,-53.1271, -53.6206,-54.3606,-54.8536,-55.3545, -55.8538,-56.3566,-56.6072,-56.4461)
FOOTPRINT_POINT_LONGITUDE = (72.6117,74.5469,76.1581,77.756,79.3414 ,80.8209,82.5923,82.6905,82.7839, 82.8086,82.8327,82.8675,82.8982,82.9172 ,82.9369,82.955,82.9843,83.0006,83.018, 83.0313,83.0441,83.0557,83.0671,83.0768 ,83.0921,83.1002,83.1096,83.1174, 83.1248,83.1324,83.1383,83.1474,83.1506 ,83.1571,83.1649,83.1689,83.1734, 83.1776,83.1831,83.189,83.191,83.1963, 83.201,83.2039,83.2059,83.2056,83.2069, 83.2093,83.2093,83.2094,82.0481,81.3313 ,80.3469,79.2721,78.1038,77.0198, 76.1107,75.4727,74.1898,74.0978,74.0526 ,74.0629,74.074,74.0802,74.0829,74.0806 ,74.0745,74.0626,74.0375,74.0224, 74.0021,73.9869,73.9585,73.9394,73.9155 ,73.8939,73.8669,73.8408,73.8094, 73.7787,73.7348,73.6788,73.6151,73.5708 ,73.4978,73.4206,73.3656,73.3097, 73.2474,73.1862,73.12,73.0537,72.982, 72.8691,72.7903,72.7016,72.6108,72.5133 ,72.4638,72.6117)
ORBIT_NUMBER = 2686
ORBITAL_ECCENTRICITY = 0.571
ORBITAL_INCLINATION = 86.62
ORBITAL_SEMIMAJOR_AXIS = 8543.26
PERIAPSIS_ALTITUDE = 282.47
PERIAPSIS_ARGUMENT_ANGLE = 246.51
PERIAPSIS_TIME = 2006-02-13T19:02:23.000Z
SPACECRAFT_ORIENTATION = (0.0,-1.0,0.0)
^MEX_ORIENTATION_DESC = "MEX_ORIENTATION_DESC.TXT"
SPACECRAFT_POINTING_MODE = INERT
^MEX_POINTING_DESC = "MEX_POINTING_DESC.TXT"
RIGHT_ASCENSION = 281.567
DECLINATION = 47.029
OFFSET_ANGLE = -1e+32
SPACECRAFT_SOLAR_DISTANCE = 2.37106e+08
TARGET_NAME = MARS
/* CAMERA DATA ELEMENTS */
DETECTOR_TEMPERATURE = 18.3705
FOCAL_PLANE_TEMPERATURE = 7.9716
INST_CMPRS_NAME = "DISCRETE COSINE TRANSFORMATION (DCT)"
INST_CMPRS_RATIO = 6.91705
INST_CMPRS_QUALITY = 0
INST_CMPRS_QUANTZ_TBL_ID = 0
INSTRUMENT_TEMPERATURE = 11.234
LENS_TEMPERATURE = 8.3794
MACROPIXEL_SIZE = 1
MISSING_FRAMES = 0
PIXEL_SUBSAMPLING_FLAG = N
SIGNAL_CHAIN_ID = 0
/* RADIOMETRIC DATA ELEMENTS */
BANDWIDTH = 177.0
CENTER_FILTER_WAVELENGTH = 677.5
RADIANCE_OFFSET = 0.941169
RADIANCE_SCALING_FACTOR = 0.012218
REFLECTANCE_SCALING_FACTOR = 0.000364904
MEX:REFLECTANCE_OFFSET = 0.028109
/* IMAGE OBJECT DEFINITIONS */
OBJECT = IMAGE
  INTERCHANGE_FORMAT = BINARY
  LINES = 28587
  LINE_SAMPLES = 9140
  SAMPLE_TYPE = UNSIGNED_INTEGER
  SAMPLE_BITS = 8
  BANDS = 1
  BAND_STORAGE_TYPE = BAND_SEQUENTIAL
  MAXIMUM = 255
  MEAN = 137.407
  MINIMUM = 1
  STANDARD_DEVIATION = 48.4156
END_OBJECT = IMAGE
/* MAP OBJECT DEFINITIONS */
OBJECT = IMAGE_MAP_PROJECTION
  ^DATA_SET_MAP_PROJECTION_CATALOG= "DSMAP.CAT"
  A_AXIS_RADIUS = 3396.0
  B_AXIS_RADIUS = 3396.0
  C_AXIS_RADIUS = 3396.0
  CENTER_LATITUDE = 0.0
  CENTER_LONGITUDE = 79.0
  COORDINATE_SYSTEM_NAME = PLANETOGRAPHIC
  COORDINATE_SYSTEM_TYPE = "BODY-FIXED ROTATING"
  EASTERNMOST_LONGITUDE = 83.2094
  FIRST_STANDARD_PARALLEL = "N/A"
  LINE_FIRST_PIXEL = 1
  LINE_LAST_PIXEL = 28587
  LINE_PROJECTION_OFFSET = -38643.0
  MAP_PROJECTION_ROTATION = 0.0
  MAP_PROJECTION_TYPE = SINUSOIDAL
  MAP_RESOLUTION = 1185.42760773333
  MAP_SCALE = 0.05
  MAXIMUM_LATITUDE = -32.5973
  MINIMUM_LATITUDE = -56.6541
  POSITIVE_LONGITUDE_DIRECTION = EAST
  REFERENCE_LATITUDE = "N/A"
  REFERENCE_LONGITUDE = "N/A"
  SAMPLE_FIRST_PIXEL = 1
  SAMPLE_LAST_PIXEL = 9140
  SAMPLE_PROJECTION_OFFSET = 4935.0
  SECOND_STANDARD_PARALLEL = "N/A"
  WESTERNMOST_LONGITUDE = 72.46380000000001
END_OBJECT = IMAGE_MAP_PROJECTION
END
