PDS_VERSION_ID = PDS3
/* FILE DATA ELEMENTS */
RECORD_TYPE = UNDEFINED
/* POINTERS TO DATA OBJECTS */
^IMAGE = ("H2688_0000_GR4.TIF")
/* IDENTIFICATION DATA ELEMENTS */
DATA_SET_ID = "MEX-M-HRSC-4-REFDR-MAPPROJECT-EXT1-V4.0"
DATA_SET_NAME = "MARS EXPRESS HRSC MAP PROJECTED REFDR EXTENSION1 V4.0"
DETECTOR_ID = MEX_HRSC_GREEN
EVENT_TYPE = "MARS-TERMINATOR-VARIABLE-Te-Im-At"
INSTRUMENT_HOST_ID = MEX
INSTRUMENT_HOST_NAME = "MARS EXPRESS"
INSTRUMENT_ID = HRSC
INSTRUMENT_NAME = "HIGH RESOLUTION STEREO CAMERA"
MISSION_NAME = "MARS EXPRESS"
MISSION_PHASE_NAME = ME_Phase_2
PROCESSING_LEVEL_ID = 4
PRODUCT_CREATION_TIME = 2023-02-08T07:05:14.000Z
PRODUCT_ID = "H2688_0000_GR4.TIF"
RELEASE_ID = 0001
REVISION_ID = 0000
/* QUALITY DATA ELEMENTS */
DATA_QUALITY_ID = 1
DATA_QUALITY_DESC = "Data calculated based on original SPICE kernels"
/* TIME DATA ELEMENTS */
SPACECRAFT_CLOCK_START_COUNT = "1/0087986365.07296"
SPACECRAFT_CLOCK_STOP_COUNT = "1/0087987259.58085"
START_TIME = 2006-02-14T08:40:33.553Z
STOP_TIME = 2006-02-14T08:48:50.378Z
/* ORBITAL DATA ELEMENTS */
ASCENDING_NODE_LONGITUDE = 171.89
MAXIMUM_RESOLUTION = 0.1142
FOOTPRINT_POINT_LATITUDE = (-67.1459,-67.2581,-67.3987,-67.4615, -67.4632,-67.407,-66.6734,-65.9196, -65.1527,-64.3725,-63.5764,-62.7656, -61.94,-61.5216,-61.0984,-60.6717, -60.2409,-59.8066,-59.1311,-58.6867, -58.2325,-57.7823,-57.3219,-56.8582, -56.3895,-55.9162,-55.4376,-54.9547, -54.4669,-53.9758,-53.4767,-52.9672, -52.2077,-51.692,-50.8985,-50.0989, -49.5665,-49.0167,-48.4685,-47.9064, -47.0357,-46.4604,-45.8779,-45.2898, -44.6966,-44.0914,-43.7876,-43.5451, -43.5608,-43.5667,-43.5696,-43.5586, -43.5419,-43.5254,-43.473,-43.4703, -43.472,-44.0734,-44.6658,-45.25, -45.8293,-46.4022,-46.9696,-47.8285, -48.3794,-48.9255,-49.4652,-49.9995, -50.5283,-51.0492,-51.8234,-52.3317, -52.8338,-53.3318,-53.8209,-54.3125, -54.798,-55.277,-55.7515,-56.2134, -56.6789,-57.144,-57.5977,-58.0476, -58.4926,-58.9326,-59.6006,-60.0314, -60.4576,-60.8806,-61.2987,-61.7133, -62.5301,-63.3319,-64.1189,-64.8911, -65.6516,-66.7629,-66.9421,-67.1459)
FOOTPRINT_POINT_LONGITUDE = (237.725,239.399,242.14,243.908,243.967 ,244.073,244.26,244.448,244.625,244.793 ,244.953,245.106,245.25,245.319,245.387 ,245.452,245.516,245.578,245.67,245.726 ,245.788,245.838,245.893,245.944, 245.995,246.045,246.093,246.139,246.184 ,246.225,246.269,246.318,246.37,246.407 ,246.47,246.523,246.547,246.584,246.611 ,246.645,246.69,246.718,246.745,246.771 ,246.793,246.819,246.831,246.839, 245.933,245.328,244.543,243.397,242.492 ,241.888,240.439,240.378,240.358, 240.373,240.382,240.387,240.391,240.392 ,240.392,240.385,240.378,240.369, 240.356,240.342,240.325,240.304,240.27, 240.243,240.213,240.182,240.145,240.113 ,240.076,240.037,239.994,239.942, 239.895,239.849,239.794,239.738,239.678 ,239.616,239.514,239.446,239.374,239.3, 239.222,239.142,238.972,238.789,238.594 ,238.384,238.161,237.794,237.728, 237.725)
ORBIT_NUMBER = 2688
ORBITAL_ECCENTRICITY = 0.572
ORBITAL_INCLINATION = 86.62
ORBITAL_SEMIMAJOR_AXIS = 8546.74
PERIAPSIS_ALTITUDE = 282.65
PERIAPSIS_ARGUMENT_ANGLE = 246.15
PERIAPSIS_TIME = 2006-02-14T08:28:47.000Z
SPACECRAFT_ORIENTATION = (0.0,-1.0,0.0)
^MEX_ORIENTATION_DESC = "MEX_ORIENTATION_DESC.TXT"
SPACECRAFT_POINTING_MODE = ALONGTRACK
^MEX_POINTING_DESC = "MEX_POINTING_DESC.TXT"
RIGHT_ASCENSION = -1e+32
DECLINATION = -1e+32
OFFSET_ANGLE = 1.65
SPACECRAFT_SOLAR_DISTANCE = 2.37201e+08
TARGET_NAME = MARS
/* CAMERA DATA ELEMENTS */
DETECTOR_TEMPERATURE = 18.5744
FOCAL_PLANE_TEMPERATURE = 8.9911
INST_CMPRS_NAME = "DISCRETE COSINE TRANSFORMATION (DCT)"
INST_CMPRS_RATIO = 22.6685
INST_CMPRS_QUALITY = 0
INST_CMPRS_QUANTZ_TBL_ID = 0
INSTRUMENT_TEMPERATURE = 11.4379
LENS_TEMPERATURE = 8.9911
MACROPIXEL_SIZE = 4
PIXEL_SUBSAMPLING_FLAG = N
SIGNAL_CHAIN_ID = 2
/* RADIOMETRIC DATA ELEMENTS */
BANDWIDTH = 88.0
CENTER_FILTER_WAVELENGTH = 538.0
RADIANCE_OFFSET = 0.186757
RADIANCE_SCALING_FACTOR = 0.00372848
REFLECTANCE_SCALING_FACTOR = 0.000180617
MEX:REFLECTANCE_OFFSET = 0.00904699
/* IMAGE OBJECT DEFINITIONS */
OBJECT = IMAGE
  INTERCHANGE_FORMAT = BINARY
  LINES = 14176
  LINE_SAMPLES = 2937
  SAMPLE_TYPE = UNSIGNED_INTEGER
  SAMPLE_BITS = 8
  BANDS = 1
  BAND_STORAGE_TYPE = BAND_SEQUENTIAL
  MAXIMUM = 255
  MEAN = 113.414
  MINIMUM = 1
  STANDARD_DEVIATION = 41.2726
END_OBJECT = IMAGE
/* MAP OBJECT DEFINITIONS */
OBJECT = IMAGE_MAP_PROJECTION
  ^DATA_SET_MAP_PROJECTION_CATALOG= "DSMAP.CAT"
  A_AXIS_RADIUS = 3396.0
  B_AXIS_RADIUS = 3396.0
  C_AXIS_RADIUS = 3396.0
  CENTER_LATITUDE = 0.0
  CENTER_LONGITUDE = 243.0
  COORDINATE_SYSTEM_NAME = PLANETOGRAPHIC
  COORDINATE_SYSTEM_TYPE = "BODY-FIXED ROTATING"
  EASTERNMOST_LONGITUDE = 246.839
  FIRST_STANDARD_PARALLEL = "N/A"
  LINE_FIRST_PIXEL = 1
  LINE_LAST_PIXEL = 14176
  LINE_PROJECTION_OFFSET = -25781.125
  MAP_PROJECTION_ROTATION = 0.0
  MAP_PROJECTION_TYPE = SINUSOIDAL
  MAP_RESOLUTION = 592.713803866667
  MAP_SCALE = 0.1
  MAXIMUM_LATITUDE = -43.4703
  MINIMUM_LATITUDE = -67.4632
  POSITIVE_LONGITUDE_DIRECTION = EAST
  REFERENCE_LATITUDE = "N/A"
  REFERENCE_LONGITUDE = "N/A"
  SAMPLE_FIRST_PIXEL = 1
  SAMPLE_LAST_PIXEL = 2937
  SAMPLE_PROJECTION_OFFSET = 1234.875
  SECOND_STANDARD_PARALLEL = "N/A"
  WESTERNMOST_LONGITUDE = 237.725
END_OBJECT = IMAGE_MAP_PROJECTION
END
