PDS_VERSION_ID = PDS3
/* FILE DATA ELEMENTS */
RECORD_TYPE = UNDEFINED
/* POINTERS TO DATA OBJECTS */
^IMAGE = ("H2692_0000_ND4.TIF")
/* IDENTIFICATION DATA ELEMENTS */
DATA_SET_ID = "MEX-M-HRSC-4-REFDR-MAPPROJECT-EXT1-V4.0"
DATA_SET_NAME = "MARS EXPRESS HRSC MAP PROJECTED REFDR EXTENSION1 V4.0"
DETECTOR_ID = MEX_HRSC_NADIR
EVENT_TYPE = "MARS-TERMINATOR-VARIABLE-At"
INSTRUMENT_HOST_ID = MEX
INSTRUMENT_HOST_NAME = "MARS EXPRESS"
INSTRUMENT_ID = HRSC
INSTRUMENT_NAME = "HIGH RESOLUTION STEREO CAMERA"
MISSION_NAME = "MARS EXPRESS"
MISSION_PHASE_NAME = ME_Phase_2
PROCESSING_LEVEL_ID = 4
PRODUCT_CREATION_TIME = 2023-02-08T07:05:14.000Z
PRODUCT_ID = "H2692_0000_ND4.TIF"
RELEASE_ID = 0001
REVISION_ID = 0000
/* QUALITY DATA ELEMENTS */
DATA_QUALITY_ID = 1
DATA_QUALITY_DESC = "Data calculated based on original SPICE kernels"
/* TIME DATA ELEMENTS */
SPACECRAFT_CLOCK_START_COUNT = "1/0088083084.08266"
SPACECRAFT_CLOCK_STOP_COUNT = "1/0088083477.32233"
START_TIME = 2006-02-15T11:32:30.551Z
STOP_TIME = 2006-02-15T11:35:52.604Z
/* ORBITAL DATA ELEMENTS */
ASCENDING_NODE_LONGITUDE = 171.81
MAXIMUM_RESOLUTION = 0.051
FOOTPRINT_POINT_LATITUDE = (-73.2311,-73.3258,-73.3899,-73.4571, -73.4996,-73.5849,-73.6338,-73.6364, -73.6422,-73.3296,-73.1209,-72.8042, -72.5929,-72.3788,-72.1652,-71.9488, -71.7326,-71.5138,-71.1859,-70.9678, -70.7503,-70.533,-70.3163,-70.1, -69.8841,-69.6685,-69.4534,-69.2392, -69.025,-68.8112,-68.5976,-68.3845, -68.172,-67.96,-67.7484,-67.5373, -67.3265,-67.1162,-66.9063,-66.4879, -66.0713,-65.6565,-65.2435,-64.8322, -64.4227,-64.015,-63.6094,-63.2051, -63.1043,-63.0774,-63.0607,-63.0436, -63.0124,-62.9932,-62.9693,-62.9429, -62.9176,-62.8868,-62.8383,-62.8018, -62.7976,-62.7968,-63.196,-63.597, -63.9997,-64.4042,-64.8104,-65.2184, -65.6281,-66.0395,-66.4526,-66.8673, -67.2838,-67.7019,-67.9115,-68.1216, -68.332,-68.5429,-68.7542,-68.9659, -69.1779,-69.3904,-69.6032,-69.8164, -70.0299,-70.2439,-70.4582,-70.6728, -70.8878,-71.1032,-71.3188,-71.5317, -71.7448,-71.9552,-72.2701,-72.4779, -72.6857,-73.0962,-73.1983,-73.2311)
FOOTPRINT_POINT_LONGITUDE = (201.057,202.409,203.414,204.571, 205.371,207.203,208.462,208.537,208.668 ,208.838,208.947,209.108,209.212, 209.313,209.415,209.511,209.607,209.699 ,209.836,209.924,210.011,210.095, 210.179,210.26,210.338,210.414,210.488, 210.568,210.641,210.71,210.773,210.835, 210.9,210.963,211.025,211.086,211.144, 211.201,211.257,211.365,211.469,211.57, 211.665,211.757,211.844,211.928,212.014 ,212.087,212.106,212.111,211.335, 210.687,209.718,209.204,208.626,208.048 ,207.535,206.959,206.13,205.556,205.492 ,205.469,205.378,205.282,205.181, 205.075,204.964,204.847,204.724,204.596 ,204.459,204.316,204.165,204.007, 203.924,203.84,203.753,203.664,203.573, 203.48,203.383,203.284,203.182,203.077, 202.969,202.858,202.743,202.625,202.505 ,202.38,202.251,202.121,201.987,201.852 ,201.644,201.502,201.354,201.053, 200.976,201.057)
ORBIT_NUMBER = 2692
ORBITAL_ECCENTRICITY = 0.572
ORBITAL_INCLINATION = 86.62
ORBITAL_SEMIMAJOR_AXIS = 8547.37
PERIAPSIS_ALTITUDE = 282.5
PERIAPSIS_ARGUMENT_ANGLE = 245.47
PERIAPSIS_TIME = 2006-02-15T11:21:42.000Z
SPACECRAFT_ORIENTATION = (0.0,-1.0,0.0)
^MEX_ORIENTATION_DESC = "MEX_ORIENTATION_DESC.TXT"
SPACECRAFT_POINTING_MODE = NADIR
^MEX_POINTING_DESC = "MEX_POINTING_DESC.TXT"
RIGHT_ASCENSION = -1e+32
DECLINATION = -1e+32
OFFSET_ANGLE = -1e+32
SPACECRAFT_SOLAR_DISTANCE = 2.37389e+08
TARGET_NAME = MARS
/* CAMERA DATA ELEMENTS */
DETECTOR_TEMPERATURE = 18.3705
FOCAL_PLANE_TEMPERATURE = 8.5833
INST_CMPRS_NAME = "DISCRETE COSINE TRANSFORMATION (DCT)"
INST_CMPRS_RATIO = 12.674
INST_CMPRS_QUALITY = 0
INST_CMPRS_QUANTZ_TBL_ID = 0
INSTRUMENT_TEMPERATURE = 11.0301
LENS_TEMPERATURE = 8.9911
MACROPIXEL_SIZE = 2
MISSING_FRAMES = 0
PIXEL_SUBSAMPLING_FLAG = N
SIGNAL_CHAIN_ID = 0
/* RADIOMETRIC DATA ELEMENTS */
BANDWIDTH = 177.0
CENTER_FILTER_WAVELENGTH = 677.5
RADIANCE_OFFSET = 0.0
RADIANCE_SCALING_FACTOR = 0.00438786
REFLECTANCE_SCALING_FACTOR = 0.000131361
MEX:REFLECTANCE_OFFSET = 0.0
/* IMAGE OBJECT DEFINITIONS */
OBJECT = IMAGE
  INTERCHANGE_FORMAT = BINARY
  LINES = 12858
  LINE_SAMPLES = 4813
  SAMPLE_TYPE = UNSIGNED_INTEGER
  SAMPLE_BITS = 8
  BANDS = 1
  BAND_STORAGE_TYPE = BAND_SEQUENTIAL
  MAXIMUM = 254
  MEAN = 94.1206
  MINIMUM = 1
  STANDARD_DEVIATION = 43.4208
END_OBJECT = IMAGE
/* MAP OBJECT DEFINITIONS */
OBJECT = IMAGE_MAP_PROJECTION
  ^DATA_SET_MAP_PROJECTION_CATALOG= "DSMAP.CAT"
  A_AXIS_RADIUS = 3396.0
  B_AXIS_RADIUS = 3396.0
  C_AXIS_RADIUS = 3396.0
  CENTER_LATITUDE = 0.0
  CENTER_LONGITUDE = 207.0
  COORDINATE_SYSTEM_NAME = PLANETOGRAPHIC
  COORDINATE_SYSTEM_TYPE = "BODY-FIXED ROTATING"
  EASTERNMOST_LONGITUDE = 212.111
  FIRST_STANDARD_PARALLEL = "N/A"
  LINE_FIRST_PIXEL = 1
  LINE_LAST_PIXEL = 12858
  LINE_PROJECTION_OFFSET = -74442.0
  MAP_PROJECTION_ROTATION = 0.0
  MAP_PROJECTION_TYPE = SINUSOIDAL
  MAP_RESOLUTION = 1185.42760773333
  MAP_SCALE = 0.05
  MAXIMUM_LATITUDE = -62.7968
  MINIMUM_LATITUDE = -73.6422
  POSITIVE_LONGITUDE_DIRECTION = EAST
  REFERENCE_LATITUDE = "N/A"
  REFERENCE_LONGITUDE = "N/A"
  SAMPLE_FIRST_PIXEL = 1
  SAMPLE_LAST_PIXEL = 4813
  SAMPLE_PROJECTION_OFFSET = 2068.0
  SECOND_STANDARD_PARALLEL = "N/A"
  WESTERNMOST_LONGITUDE = 200.976
END_OBJECT = IMAGE_MAP_PROJECTION
END
