PDS_VERSION_ID = PDS3
/* FILE DATA ELEMENTS */
RECORD_TYPE = UNDEFINED
/* POINTERS TO DATA OBJECTS */
^IMAGE = ("H2692_0001_GR4.TIF")
/* IDENTIFICATION DATA ELEMENTS */
DATA_SET_ID = "MEX-M-HRSC-4-REFDR-MAPPROJECT-EXT1-V4.0"
DATA_SET_NAME = "MARS EXPRESS HRSC MAP PROJECTED REFDR EXTENSION1 V4.0"
DETECTOR_ID = MEX_HRSC_GREEN
EVENT_TYPE = "MARS-GLOBAL-MAPPING-Vo-Te-Fl"
INSTRUMENT_HOST_ID = MEX
INSTRUMENT_HOST_NAME = "MARS EXPRESS"
INSTRUMENT_ID = HRSC
INSTRUMENT_NAME = "HIGH RESOLUTION STEREO CAMERA"
MISSION_NAME = "MARS EXPRESS"
MISSION_PHASE_NAME = ME_Phase_2
PROCESSING_LEVEL_ID = 4
PRODUCT_CREATION_TIME = 2023-02-08T07:05:14.000Z
PRODUCT_ID = "H2692_0001_GR4.TIF"
RELEASE_ID = 0001
REVISION_ID = 0000
/* QUALITY DATA ELEMENTS */
DATA_QUALITY_ID = 1
DATA_QUALITY_DESC = "Data calculated based on original SPICE kernels"
/* TIME DATA ELEMENTS */
SPACECRAFT_CLOCK_START_COUNT = "1/0088083610.09072"
SPACECRAFT_CLOCK_STOP_COUNT = "1/0088084981.21155"
START_TIME = 2006-02-15T11:42:38.761Z
STOP_TIME = 2006-02-15T11:48:07.043Z
/* ORBITAL DATA ELEMENTS */
ASCENDING_NODE_LONGITUDE = 171.81
MAXIMUM_RESOLUTION = 0.2262
FOOTPRINT_POINT_LATITUDE = (-43.6812,-43.7064,-43.7218,-43.735, -43.751,-43.7592,-43.763,-43.7644, -43.7635,-43.7602,-43.7544,-43.7462, -43.7356,-43.7341,-43.7225,-43.4591, -43.1967,-42.9353,-42.6748,-42.4154, -42.1571,-41.898,-41.6413,-41.3857, -41.1324,-40.8783,-40.6253,-40.3732, -40.1222,-39.8718,-39.6219,-39.1253, -38.6325,-38.1434,-37.658,-37.176, -36.6976,-36.3409,-35.9861,-35.5168, -35.1663,-34.5866,-34.1263,-33.6688, -33.2152,-32.765,-32.3187,-31.7622, -31.6517,-31.5501,-31.5807,-31.5975, -31.6135,-31.6394,-31.6663,-31.6816, -31.7062,-31.7249,-31.7387,-31.7517, -31.7585,-31.7676,-31.7703,-31.7724, -31.7742,-31.7745,-31.7731,-31.7726, -31.7742,-32.2033,-32.6355,-33.0711, -33.5103,-33.9525,-34.3983,-34.8474, -35.3003,-35.7565,-36.2161,-36.6791, -37.0289,-37.4981,-38.0913,-38.5689, -38.9293,-39.4121,-39.901,-40.3928, -40.8883,-41.1374,-41.3873,-41.6381, -41.8902,-42.1433,-42.5253,-42.781, -43.0374,-43.4247,-43.5541,-43.6812)
FOOTPRINT_POINT_LONGITUDE = (206.996,207.692,208.197,208.702, 209.523,210.154,210.658,211.163,211.668 ,212.173,212.678,213.185,213.693, 213.756,213.795,213.805,213.814,213.823 ,213.832,213.84,213.847,213.858,213.866 ,213.873,213.877,213.884,213.891, 213.897,213.903,213.91,213.917,213.929, 213.94,213.95,213.959,213.967,213.974, 213.979,213.984,213.988,213.993,213.999 ,214.003,214.007,214.01,214.012,214.012 ,214.017,214.017,214.017,213.512,213.22 ,212.928,212.417,211.835,211.472, 210.818,210.237,209.728,209.145,208.781 ,208.125,207.833,207.541,207.029, 206.663,206.296,206.222,206.198,206.241 ,206.284,206.326,206.368,206.408, 206.447,206.485,206.523,206.56,206.596, 206.629,206.655,206.686,206.728,206.758 ,206.778,206.802,206.831,206.855, 206.878,206.889,206.899,206.908,206.918 ,206.928,206.942,206.951,206.958, 206.971,206.974,206.996)
ORBIT_NUMBER = 2692
ORBITAL_ECCENTRICITY = 0.572
ORBITAL_INCLINATION = 86.62
ORBITAL_SEMIMAJOR_AXIS = 8547.37
PERIAPSIS_ALTITUDE = 282.5
PERIAPSIS_ARGUMENT_ANGLE = 245.47
PERIAPSIS_TIME = 2006-02-15T11:21:42.000Z
SPACECRAFT_ORIENTATION = (0.0,-1.0,0.0)
^MEX_ORIENTATION_DESC = "MEX_ORIENTATION_DESC.TXT"
SPACECRAFT_POINTING_MODE = NADIR
^MEX_POINTING_DESC = "MEX_POINTING_DESC.TXT"
RIGHT_ASCENSION = -1e+32
DECLINATION = -1e+32
OFFSET_ANGLE = -1e+32
SPACECRAFT_SOLAR_DISTANCE = 2.37389e+08
TARGET_NAME = MARS
/* CAMERA DATA ELEMENTS */
DETECTOR_TEMPERATURE = 19.5939
FOCAL_PLANE_TEMPERATURE = 8.5833
INST_CMPRS_NAME = "DISCRETE COSINE TRANSFORMATION (DCT)"
INST_CMPRS_RATIO = 11.496
INST_CMPRS_QUALITY = 0
INST_CMPRS_QUANTZ_TBL_ID = 0
INSTRUMENT_TEMPERATURE = 12.8652
LENS_TEMPERATURE = 9.3989
MACROPIXEL_SIZE = 4
MISSING_FRAMES = 0
PIXEL_SUBSAMPLING_FLAG = N
SIGNAL_CHAIN_ID = 2
/* RADIOMETRIC DATA ELEMENTS */
BANDWIDTH = 88.0
CENTER_FILTER_WAVELENGTH = 538.0
RADIANCE_OFFSET = 0.56781
RADIANCE_SCALING_FACTOR = 0.00344509
REFLECTANCE_SCALING_FACTOR = 0.000167156
MEX:REFLECTANCE_OFFSET = 0.0275501
/* IMAGE OBJECT DEFINITIONS */
OBJECT = IMAGE
  INTERCHANGE_FORMAT = BINARY
  LINES = 3627
  LINE_SAMPLES = 2079
  SAMPLE_TYPE = UNSIGNED_INTEGER
  SAMPLE_BITS = 8
  BANDS = 1
  BAND_STORAGE_TYPE = BAND_SEQUENTIAL
  MAXIMUM = 255
  MEAN = 102.397
  MINIMUM = 1
  STANDARD_DEVIATION = 28.788
END_OBJECT = IMAGE
/* MAP OBJECT DEFINITIONS */
OBJECT = IMAGE_MAP_PROJECTION
  ^DATA_SET_MAP_PROJECTION_CATALOG= "DSMAP.CAT"
  A_AXIS_RADIUS = 3396.0
  B_AXIS_RADIUS = 3396.0
  C_AXIS_RADIUS = 3396.0
  CENTER_LATITUDE = 0.0
  CENTER_LONGITUDE = 210.0
  COORDINATE_SYSTEM_NAME = PLANETOGRAPHIC
  COORDINATE_SYSTEM_TYPE = "BODY-FIXED ROTATING"
  EASTERNMOST_LONGITUDE = 214.017
  FIRST_STANDARD_PARALLEL = "N/A"
  LINE_FIRST_PIXEL = 1
  LINE_LAST_PIXEL = 3627
  LINE_PROJECTION_OFFSET = -9339.125
  MAP_PROJECTION_ROTATION = 0.0
  MAP_PROJECTION_TYPE = SINUSOIDAL
  MAP_RESOLUTION = 296.356901933333
  MAP_SCALE = 0.2
  MAXIMUM_LATITUDE = -31.5501
  MINIMUM_LATITUDE = -43.7644
  POSITIVE_LONGITUDE_DIRECTION = EAST
  REFERENCE_LATITUDE = "N/A"
  REFERENCE_LONGITUDE = "N/A"
  SAMPLE_FIRST_PIXEL = 1
  SAMPLE_LAST_PIXEL = 2079
  SAMPLE_PROJECTION_OFFSET = 1007.375
  SECOND_STANDARD_PARALLEL = "N/A"
  WESTERNMOST_LONGITUDE = 206.198
END_OBJECT = IMAGE_MAP_PROJECTION
END
