PDS_VERSION_ID = PDS3
/* FILE DATA ELEMENTS */
RECORD_TYPE = UNDEFINED
/* POINTERS TO DATA OBJECTS */
^IMAGE = ("H2692_0001_ND4.TIF")
/* IDENTIFICATION DATA ELEMENTS */
DATA_SET_ID = "MEX-M-HRSC-4-REFDR-MAPPROJECT-EXT1-V4.0"
DATA_SET_NAME = "MARS EXPRESS HRSC MAP PROJECTED REFDR EXTENSION1 V4.0"
DETECTOR_ID = MEX_HRSC_NADIR
EVENT_TYPE = "MARS-GLOBAL-MAPPING-Vo-Te-Fl"
INSTRUMENT_HOST_ID = MEX
INSTRUMENT_HOST_NAME = "MARS EXPRESS"
INSTRUMENT_ID = HRSC
INSTRUMENT_NAME = "HIGH RESOLUTION STEREO CAMERA"
MISSION_NAME = "MARS EXPRESS"
MISSION_PHASE_NAME = ME_Phase_2
PROCESSING_LEVEL_ID = 4
PRODUCT_CREATION_TIME = 2023-02-08T07:05:14.000Z
PRODUCT_ID = "H2692_0001_ND4.TIF"
RELEASE_ID = 0001
REVISION_ID = 0000
/* QUALITY DATA ELEMENTS */
DATA_QUALITY_ID = 1
DATA_QUALITY_DESC = "Data calculated based on original SPICE kernels"
/* TIME DATA ELEMENTS */
SPACECRAFT_CLOCK_START_COUNT = "1/0088083610.09072"
SPACECRAFT_CLOCK_STOP_COUNT = "1/0088084981.21155"
START_TIME = 2006-02-15T11:43:15.331Z
STOP_TIME = 2006-02-15T11:49:07.296Z
/* ORBITAL DATA ELEMENTS */
ASCENDING_NODE_LONGITUDE = 171.81
MAXIMUM_RESOLUTION = 0.0586
FOOTPRINT_POINT_LATITUDE = (-43.6812,-43.7007,-43.715,-43.7267, -43.7376,-43.7432,-43.7462,-43.7453, -43.7412,-43.7355,-43.7236,-43.7057, -43.7038,-43.7028,-43.3007,-43.034, -42.7684,-42.5039,-42.2405,-41.9782, -41.717,-41.4568,-41.1977,-40.9397, -40.6827,-40.1719,-39.6653,-39.1627, -38.6643,-38.1699,-37.6794,-37.193, -36.7104,-36.2317,-35.7568,-35.2857, -34.8183,-34.3546,-33.8946,-33.4381, -32.9853,-32.536,-32.0902,-31.6478, -31.5378,-31.5095,-31.5419,-31.5625, -31.5823,-31.6012,-31.6193,-31.6366, -31.6609,-31.6762,-31.6906,-31.7042, -31.717,-31.7289,-31.7401,-31.7505, -31.7601,-31.771,-31.7786,-31.7872, -31.7945,-31.7994,-31.8035,-31.8075, -31.8098,-31.8102,-31.8108,-32.2367, -32.6662,-33.0995,-33.5364,-33.9772, -34.4217,-34.8701,-35.3224,-35.7787, -36.2389,-36.7031,-37.1715,-37.6438, -38.1203,-38.601,-39.0861,-39.5753, -40.0687,-40.5666,-41.0688,-41.5756, -42.0867,-42.344,-42.6024,-42.8619, -43.1226,-43.5158,-43.6474,-43.6812)
FOOTPRINT_POINT_LONGITUDE = (206.862,207.491,208.048,208.605, 209.302,209.859,210.415,211.319,211.876 ,212.363,213.061,213.83,213.9,213.956, 213.973,213.983,213.993,214.003,214.011 ,214.021,214.033,214.041,214.046, 214.054,214.063,214.078,214.093,214.108 ,214.122,214.135,214.146,214.157, 214.167,214.177,214.184,214.191,214.199 ,214.206,214.213,214.22,214.225,214.228 ,214.233,214.238,214.239,214.239, 213.753,213.428,213.103,212.777,212.453 ,212.129,211.643,211.319,210.996, 210.672,210.349,210.025,209.701,209.377 ,209.052,208.646,208.322,207.915, 207.508,207.182,206.857,206.448,206.121 ,206.039,205.998,206.045,206.09,206.135 ,206.179,206.222,206.264,206.305, 206.347,206.386,206.424,206.46,206.496, 206.533,206.566,206.6,206.627,206.656, 206.687,206.714,206.74,206.762,206.783, 206.793,206.805,206.814,206.821,206.837 ,206.84,206.862)
ORBIT_NUMBER = 2692
ORBITAL_ECCENTRICITY = 0.572
ORBITAL_INCLINATION = 86.62
ORBITAL_SEMIMAJOR_AXIS = 8547.37
PERIAPSIS_ALTITUDE = 282.5
PERIAPSIS_ARGUMENT_ANGLE = 245.47
PERIAPSIS_TIME = 2006-02-15T11:21:42.000Z
SPACECRAFT_ORIENTATION = (0.0,-1.0,0.0)
^MEX_ORIENTATION_DESC = "MEX_ORIENTATION_DESC.TXT"
SPACECRAFT_POINTING_MODE = NADIR
^MEX_POINTING_DESC = "MEX_POINTING_DESC.TXT"
RIGHT_ASCENSION = -1e+32
DECLINATION = -1e+32
OFFSET_ANGLE = -1e+32
SPACECRAFT_SOLAR_DISTANCE = 2.37389e+08
TARGET_NAME = MARS
/* CAMERA DATA ELEMENTS */
DETECTOR_TEMPERATURE = 19.5939
FOCAL_PLANE_TEMPERATURE = 8.5833
INST_CMPRS_NAME = "DISCRETE COSINE TRANSFORMATION (DCT)"
INST_CMPRS_RATIO = 6.0431
INST_CMPRS_QUALITY = 0
INST_CMPRS_QUANTZ_TBL_ID = 0
INSTRUMENT_TEMPERATURE = 12.8652
LENS_TEMPERATURE = 9.3989
MACROPIXEL_SIZE = 1
MISSING_FRAMES = 0
PIXEL_SUBSAMPLING_FLAG = N
SIGNAL_CHAIN_ID = 0
/* RADIOMETRIC DATA ELEMENTS */
BANDWIDTH = 177.0
CENTER_FILTER_WAVELENGTH = 677.5
RADIANCE_OFFSET = 1.16405
RADIANCE_SCALING_FACTOR = 0.0129584
REFLECTANCE_SCALING_FACTOR = 0.000387942
MEX:REFLECTANCE_OFFSET = 0.0348486
/* IMAGE OBJECT DEFINITIONS */
OBJECT = IMAGE
  INTERCHANGE_FORMAT = BINARY
  LINES = 14507
  LINE_SAMPLES = 8316
  SAMPLE_TYPE = UNSIGNED_INTEGER
  SAMPLE_BITS = 8
  BANDS = 1
  BAND_STORAGE_TYPE = BAND_SEQUENTIAL
  MAXIMUM = 255
  MEAN = 76.1648
  MINIMUM = 1
  STANDARD_DEVIATION = 22.2144
END_OBJECT = IMAGE
/* MAP OBJECT DEFINITIONS */
OBJECT = IMAGE_MAP_PROJECTION
  ^DATA_SET_MAP_PROJECTION_CATALOG= "DSMAP.CAT"
  A_AXIS_RADIUS = 3396.0
  B_AXIS_RADIUS = 3396.0
  C_AXIS_RADIUS = 3396.0
  CENTER_LATITUDE = 0.0
  CENTER_LONGITUDE = 210.0
  COORDINATE_SYSTEM_NAME = PLANETOGRAPHIC
  COORDINATE_SYSTEM_TYPE = "BODY-FIXED ROTATING"
  EASTERNMOST_LONGITUDE = 214.239
  FIRST_STANDARD_PARALLEL = "N/A"
  LINE_FIRST_PIXEL = 1
  LINE_LAST_PIXEL = 14507
  LINE_PROJECTION_OFFSET = -37355.0
  MAP_PROJECTION_ROTATION = 0.0
  MAP_PROJECTION_TYPE = SINUSOIDAL
  MAP_RESOLUTION = 1185.42760773333
  MAP_SCALE = 0.05
  MAXIMUM_LATITUDE = -31.5095
  MINIMUM_LATITUDE = -43.7462
  POSITIVE_LONGITUDE_DIRECTION = EAST
  REFERENCE_LATITUDE = "N/A"
  REFERENCE_LONGITUDE = "N/A"
  SAMPLE_FIRST_PIXEL = 1
  SAMPLE_LAST_PIXEL = 8316
  SAMPLE_PROJECTION_OFFSET = 4031.0
  SECOND_STANDARD_PARALLEL = "N/A"
  WESTERNMOST_LONGITUDE = 205.998
END_OBJECT = IMAGE_MAP_PROJECTION
END
