PDS_VERSION_ID = PDS3
/* FILE DATA ELEMENTS */
RECORD_TYPE = UNDEFINED
/* POINTERS TO DATA OBJECTS */
^IMAGE = ("H2692_0001_P24.TIF")
/* IDENTIFICATION DATA ELEMENTS */
DATA_SET_ID = "MEX-M-HRSC-4-REFDR-MAPPROJECT-EXT1-V4.0"
DATA_SET_NAME = "MARS EXPRESS HRSC MAP PROJECTED REFDR EXTENSION1 V4.0"
DETECTOR_ID = MEX_HRSC_P2
EVENT_TYPE = "MARS-GLOBAL-MAPPING-Vo-Te-Fl"
INSTRUMENT_HOST_ID = MEX
INSTRUMENT_HOST_NAME = "MARS EXPRESS"
INSTRUMENT_ID = HRSC
INSTRUMENT_NAME = "HIGH RESOLUTION STEREO CAMERA"
MISSION_NAME = "MARS EXPRESS"
MISSION_PHASE_NAME = ME_Phase_2
PROCESSING_LEVEL_ID = 4
PRODUCT_CREATION_TIME = 2023-02-08T07:05:14.000Z
PRODUCT_ID = "H2692_0001_P24.TIF"
RELEASE_ID = 0001
REVISION_ID = 0000
/* QUALITY DATA ELEMENTS */
DATA_QUALITY_ID = 1
DATA_QUALITY_DESC = "Data calculated based on original SPICE kernels"
/* TIME DATA ELEMENTS */
SPACECRAFT_CLOCK_START_COUNT = "1/0088083610.09072"
SPACECRAFT_CLOCK_STOP_COUNT = "1/0088084981.21155"
START_TIME = 2006-02-15T11:46:27.369Z
STOP_TIME = 2006-02-15T11:55:09.786Z
/* ORBITAL DATA ELEMENTS */
ASCENDING_NODE_LONGITUDE = 171.81
MAXIMUM_RESOLUTION = 0.1465
FOOTPRINT_POINT_LATITUDE = (-43.7042,-43.7064,-43.7049,-43.7015, -43.6955,-43.6906,-43.6834,-43.6718, -43.6579,-43.6417,-43.6231,-43.602, -43.5784,-43.5524,-43.549,-43.5879, -43.1479,-42.86,-42.4264,-42.1418, -41.859,-41.5779,-41.2981,-40.8825, -40.6094,-40.3382,-39.8031,-39.1422, -38.6259,-38.116,-37.6123,-37.1151, -36.6248,-36.1413,-35.6632,-35.0722, -34.6025,-34.2699,-33.823,-33.2741, -32.7278,-32.2982,-31.7687,-31.3516, -31.2473,-31.228,-31.2873,-31.3451, -31.3835,-31.4218,-31.4588,-31.4948, -31.5302,-31.5561,-31.5925,-31.6435, -31.6777,-31.7191,-31.7769,-31.8158, -31.8415,-31.881,-31.9196,-31.9561, -31.9954,-32.0248,-32.0543,-32.0902, -32.0977,-32.1009,-32.4804,-32.8665, -33.2581,-33.6566,-34.0609,-34.4737, -34.8937,-35.3201,-35.7431,-36.0749, -36.5211,-36.9721,-37.4285,-37.8951, -38.3712,-38.9756,-39.3457,-39.718, -40.2178,-40.7328,-41.2585,-41.7884, -42.0584,-42.3297,-42.6004,-42.879, -43.1566,-43.5722,-43.714,-43.7042)
FOOTPRINT_POINT_LONGITUDE = (206.234,207.24,207.907,208.49,209.155, 209.571,210.069,210.733,211.397,212.061 ,212.725,213.39,214.057,214.725,214.808 ,214.865,214.899,214.923,214.954, 214.976,214.998,215.019,215.039,215.069 ,215.09,215.11,215.152,215.201,215.242, 215.282,215.32,215.357,215.394,215.431, 215.466,215.507,215.537,215.57,215.608, 215.655,215.698,215.732,215.774,215.808 ,215.816,215.818,215.193,214.566, 214.149,213.732,213.316,212.9,212.484, 212.172,211.757,211.134,210.719,210.199 ,209.47,208.949,208.636,208.114,207.592 ,207.068,206.542,206.121,205.698, 205.167,205.061,205.023,205.08,205.136, 205.193,205.249,205.304,205.358,205.412 ,205.464,205.522,205.559,205.61,205.66, 205.712,205.76,205.807,205.864,205.897, 205.93,205.976,206.016,206.053,206.091, 206.109,206.126,206.145,206.159,206.175 ,206.202,206.209,206.234)
ORBIT_NUMBER = 2692
ORBITAL_ECCENTRICITY = 0.572
ORBITAL_INCLINATION = 86.62
ORBITAL_SEMIMAJOR_AXIS = 8547.37
PERIAPSIS_ALTITUDE = 282.5
PERIAPSIS_ARGUMENT_ANGLE = 245.47
PERIAPSIS_TIME = 2006-02-15T11:21:42.000Z
SPACECRAFT_ORIENTATION = (0.0,-1.0,0.0)
^MEX_ORIENTATION_DESC = "MEX_ORIENTATION_DESC.TXT"
SPACECRAFT_POINTING_MODE = NADIR
^MEX_POINTING_DESC = "MEX_POINTING_DESC.TXT"
RIGHT_ASCENSION = -1e+32
DECLINATION = -1e+32
OFFSET_ANGLE = -1e+32
SPACECRAFT_SOLAR_DISTANCE = 2.37389e+08
TARGET_NAME = MARS
/* CAMERA DATA ELEMENTS */
DETECTOR_TEMPERATURE = 20.6134
FOCAL_PLANE_TEMPERATURE = 8.5833
INST_CMPRS_NAME = "DISCRETE COSINE TRANSFORMATION (DCT)"
INST_CMPRS_RATIO = 9.58852
INST_CMPRS_QUALITY = 0
INST_CMPRS_QUANTZ_TBL_ID = 0
INSTRUMENT_TEMPERATURE = 12.8652
LENS_TEMPERATURE = 9.3989
MACROPIXEL_SIZE = 2
MISSING_FRAMES = 0
PIXEL_SUBSAMPLING_FLAG = N
SIGNAL_CHAIN_ID = 3
/* RADIOMETRIC DATA ELEMENTS */
BANDWIDTH = 177.0
CENTER_FILTER_WAVELENGTH = 676.5
RADIANCE_OFFSET = 1.46683
RADIANCE_SCALING_FACTOR = 0.012655
REFLECTANCE_SCALING_FACTOR = 0.000378138
MEX:REFLECTANCE_OFFSET = 0.0438296
/* IMAGE OBJECT DEFINITIONS */
OBJECT = IMAGE
  INTERCHANGE_FORMAT = BINARY
  LINES = 7254
  LINE_SAMPLES = 4158
  SAMPLE_TYPE = UNSIGNED_INTEGER
  SAMPLE_BITS = 8
  BANDS = 1
  BAND_STORAGE_TYPE = BAND_SEQUENTIAL
  MAXIMUM = 255
  MEAN = 69.4927
  MINIMUM = 1
  STANDARD_DEVIATION = 22.209
END_OBJECT = IMAGE
/* MAP OBJECT DEFINITIONS */
OBJECT = IMAGE_MAP_PROJECTION
  ^DATA_SET_MAP_PROJECTION_CATALOG= "DSMAP.CAT"
  A_AXIS_RADIUS = 3396.0
  B_AXIS_RADIUS = 3396.0
  C_AXIS_RADIUS = 3396.0
  CENTER_LATITUDE = 0.0
  CENTER_LONGITUDE = 210.0
  COORDINATE_SYSTEM_NAME = PLANETOGRAPHIC
  COORDINATE_SYSTEM_TYPE = "BODY-FIXED ROTATING"
  EASTERNMOST_LONGITUDE = 215.818
  FIRST_STANDARD_PARALLEL = "N/A"
  LINE_FIRST_PIXEL = 1
  LINE_LAST_PIXEL = 7254
  LINE_PROJECTION_OFFSET = -18677.75
  MAP_PROJECTION_ROTATION = 0.0
  MAP_PROJECTION_TYPE = SINUSOIDAL
  MAP_RESOLUTION = 592.713803866667
  MAP_SCALE = 0.1
  MAXIMUM_LATITUDE = -31.228
  MINIMUM_LATITUDE = -43.714
  POSITIVE_LONGITUDE_DIRECTION = EAST
  REFERENCE_LATITUDE = "N/A"
  REFERENCE_LONGITUDE = "N/A"
  SAMPLE_FIRST_PIXEL = 1
  SAMPLE_LAST_PIXEL = 4158
  SAMPLE_PROJECTION_OFFSET = 2015.25
  SECOND_STANDARD_PARALLEL = "N/A"
  WESTERNMOST_LONGITUDE = 205.023
END_OBJECT = IMAGE_MAP_PROJECTION
END
