PDS_VERSION_ID = PDS3
/* FILE DATA ELEMENTS */
RECORD_TYPE = UNDEFINED
/* POINTERS TO DATA OBJECTS */
^IMAGE = ("H2694_0001_BL4.TIF")
/* IDENTIFICATION DATA ELEMENTS */
DATA_SET_ID = "MEX-M-HRSC-4-REFDR-MAPPROJECT-EXT1-V4.0"
DATA_SET_NAME = "MARS EXPRESS HRSC MAP PROJECTED REFDR EXTENSION1 V4.0"
DETECTOR_ID = MEX_HRSC_BLUE
EVENT_TYPE = "MARS-GLOBAL-MAPPING-Te-Im-At"
INSTRUMENT_HOST_ID = MEX
INSTRUMENT_HOST_NAME = "MARS EXPRESS"
INSTRUMENT_ID = HRSC
INSTRUMENT_NAME = "HIGH RESOLUTION STEREO CAMERA"
MISSION_NAME = "MARS EXPRESS"
MISSION_PHASE_NAME = ME_Phase_2
PROCESSING_LEVEL_ID = 4
PRODUCT_CREATION_TIME = 2023-02-08T07:05:14.000Z
PRODUCT_ID = "H2694_0001_BL4.TIF"
RELEASE_ID = 0001
REVISION_ID = 0000
/* QUALITY DATA ELEMENTS */
DATA_QUALITY_ID = 1
DATA_QUALITY_DESC = "Data calculated based on original SPICE kernels"
/* TIME DATA ELEMENTS */
SPACECRAFT_CLOCK_START_COUNT = "1/0088131896.08266"
SPACECRAFT_CLOCK_STOP_COUNT = "1/0088133287.06024"
START_TIME = 2006-02-16T01:08:01.135Z
STOP_TIME = 2006-02-16T01:16:16.591Z
/* ORBITAL DATA ELEMENTS */
ASCENDING_NODE_LONGITUDE = 171.76
MAXIMUM_RESOLUTION = 0.2113
FOOTPRINT_POINT_LATITUDE = (-49.3633,-49.3896,-49.4187,-49.4387, -49.4506,-49.4644,-49.4753,-49.4774, -49.4774,-49.475,-49.4674,-49.4666, -49.4766,-49.0892,-48.704,-48.3212, -47.9412,-47.5634,-47.1896,-46.8164, -46.4454,-46.0767,-45.7102,-45.3455, -44.9826,-44.6228,-44.2659,-43.9103, -43.559,-43.208,-42.8591,-42.5107, -42.166,-41.8235,-41.1446,-40.4737, -39.8107,-39.1557,-38.5101,-37.7122, -37.0815,-36.6118,-35.9948,-35.3855, -34.7828,-34.1878,-33.4515,-32.8709, -32.7268,-32.7028,-32.7453,-32.8, -32.8452,-32.8855,-32.9107,-32.9312, -32.9586,-32.9778,-32.9948,-33.0101, -33.0248,-33.035,-33.045,-33.0459, -33.0479,-33.604,-34.1671,-34.7375, -35.3151,-35.9002,-36.4926,-37.0924, -37.8555,-38.4717,-39.0975,-39.7319, -40.3745,-41.0254,-41.6847,-42.3528, -43.0292,-43.3725,-43.7148,-44.0611, -44.4094,-44.7598,-45.1129,-45.4683, -45.8263,-46.1864,-46.5486,-46.9129, -47.2796,-47.6499,-48.0225,-48.3979, -48.7721,-49.1518,-49.3425,-49.3633)
FOOTPRINT_POINT_LONGITUDE = (10.1363,10.7905,11.6395,12.3579, 12.8804,13.6642,14.7088,15.2317,15.7551 ,16.28,17.0675,17.1332,17.1821,17.2075, 17.2318,17.2553,17.2791,17.302,17.3281, 17.3494,17.3696,17.3893,17.4084,17.4256 ,17.4412,17.4584,17.4767,17.4924,17.513 ,17.5282,17.5431,17.5536,17.5675, 17.5812,17.6071,17.631,17.6533,17.6744, 17.698,17.7217,17.7376,17.7452,17.761, 17.7773,17.7913,17.8064,17.8191,17.8304 ,17.8332,17.8337,17.2002,16.3205, 15.5234,14.7268,14.1694,13.6915,12.9739 ,12.415,11.8559,11.2955,10.654,10.0922, 9.36731,9.28648,9.25969,9.3204,9.38006, 9.43789,9.4944,9.549,9.60225,9.65442, 9.71168,9.76206,9.8068,9.84838,9.88755, 9.92454,9.95904,9.99023,10.0195,10.0285 ,10.0447,10.0556,10.0664,10.0767, 10.0853,10.0925,10.0984,10.1036,10.1086 ,10.1129,10.1163,10.1153,10.1132, 10.1089,10.1132,10.1079,10.1048, 10.1363)
ORBIT_NUMBER = 2694
ORBITAL_ECCENTRICITY = 0.571
ORBITAL_INCLINATION = 86.61
ORBITAL_SEMIMAJOR_AXIS = 8546.29
PERIAPSIS_ALTITUDE = 283.96
PERIAPSIS_ARGUMENT_ANGLE = 245.09
PERIAPSIS_TIME = 2006-02-16T00:48:11.000Z
SPACECRAFT_ORIENTATION = (0.0,-1.0,0.0)
^MEX_ORIENTATION_DESC = "MEX_ORIENTATION_DESC.TXT"
SPACECRAFT_POINTING_MODE = NADIR
^MEX_POINTING_DESC = "MEX_POINTING_DESC.TXT"
RIGHT_ASCENSION = -1e+32
DECLINATION = -1e+32
OFFSET_ANGLE = -1e+32
SPACECRAFT_SOLAR_DISTANCE = 2.37483e+08
TARGET_NAME = MARS
/* CAMERA DATA ELEMENTS */
DETECTOR_TEMPERATURE = 19.5939
FOCAL_PLANE_TEMPERATURE = 7.9716
INST_CMPRS_NAME = "DISCRETE COSINE TRANSFORMATION (DCT)"
INST_CMPRS_RATIO = 13.657
INST_CMPRS_QUALITY = 0
INST_CMPRS_QUANTZ_TBL_ID = 0
INSTRUMENT_TEMPERATURE = 12.4574
LENS_TEMPERATURE = 8.5833
MACROPIXEL_SIZE = 4
MISSING_FRAMES = 0
PIXEL_SUBSAMPLING_FLAG = N
SIGNAL_CHAIN_ID = 2
/* RADIOMETRIC DATA ELEMENTS */
BANDWIDTH = 76.0
CENTER_FILTER_WAVELENGTH = 444.0
RADIANCE_OFFSET = 0.248424
RADIANCE_SCALING_FACTOR = 0.00125976
REFLECTANCE_SCALING_FACTOR = 7.29988e-05
MEX:REFLECTANCE_OFFSET = 0.0143954
/* IMAGE OBJECT DEFINITIONS */
OBJECT = IMAGE
  INTERCHANGE_FORMAT = BINARY
  LINES = 4966
  LINE_SAMPLES = 2037
  SAMPLE_TYPE = UNSIGNED_INTEGER
  SAMPLE_BITS = 8
  BANDS = 1
  BAND_STORAGE_TYPE = BAND_SEQUENTIAL
  MAXIMUM = 255
  MEAN = 120.274
  MINIMUM = 1
  STANDARD_DEVIATION = 30.0635
END_OBJECT = IMAGE
/* MAP OBJECT DEFINITIONS */
OBJECT = IMAGE_MAP_PROJECTION
  ^DATA_SET_MAP_PROJECTION_CATALOG= "DSMAP.CAT"
  A_AXIS_RADIUS = 3396.0
  B_AXIS_RADIUS = 3396.0
  C_AXIS_RADIUS = 3396.0
  CENTER_LATITUDE = 0.0
  CENTER_LONGITUDE = 14.0
  COORDINATE_SYSTEM_NAME = PLANETOGRAPHIC
  COORDINATE_SYSTEM_TYPE = "BODY-FIXED ROTATING"
  EASTERNMOST_LONGITUDE = 17.8337
  FIRST_STANDARD_PARALLEL = "N/A"
  LINE_FIRST_PIXEL = 1
  LINE_LAST_PIXEL = 4966
  LINE_PROJECTION_OFFSET = -9705.625
  MAP_PROJECTION_ROTATION = 0.0
  MAP_PROJECTION_TYPE = SINUSOIDAL
  MAP_RESOLUTION = 296.356901933333
  MAP_SCALE = 0.2
  MAXIMUM_LATITUDE = -32.7028
  MINIMUM_LATITUDE = -49.4774
  POSITIVE_LONGITUDE_DIRECTION = EAST
  REFERENCE_LATITUDE = "N/A"
  REFERENCE_LONGITUDE = "N/A"
  SAMPLE_FIRST_PIXEL = 1
  SAMPLE_LAST_PIXEL = 2037
  SAMPLE_PROJECTION_OFFSET = 1125.375
  SECOND_STANDARD_PARALLEL = "N/A"
  WESTERNMOST_LONGITUDE = 9.259690000000001
END_OBJECT = IMAGE_MAP_PROJECTION
END
