PDS_VERSION_ID = PDS3
/* FILE DATA ELEMENTS */
RECORD_TYPE = UNDEFINED
/* POINTERS TO DATA OBJECTS */
^IMAGE = ("H2694_0001_GR4.TIF")
/* IDENTIFICATION DATA ELEMENTS */
DATA_SET_ID = "MEX-M-HRSC-4-REFDR-MAPPROJECT-EXT1-V4.0"
DATA_SET_NAME = "MARS EXPRESS HRSC MAP PROJECTED REFDR EXTENSION1 V4.0"
DETECTOR_ID = MEX_HRSC_GREEN
EVENT_TYPE = "MARS-GLOBAL-MAPPING-Te-Im-At"
INSTRUMENT_HOST_ID = MEX
INSTRUMENT_HOST_NAME = "MARS EXPRESS"
INSTRUMENT_ID = HRSC
INSTRUMENT_NAME = "HIGH RESOLUTION STEREO CAMERA"
MISSION_NAME = "MARS EXPRESS"
MISSION_PHASE_NAME = ME_Phase_2
PROCESSING_LEVEL_ID = 4
PRODUCT_CREATION_TIME = 2023-02-08T07:05:14.000Z
PRODUCT_ID = "H2694_0001_GR4.TIF"
RELEASE_ID = 0001
REVISION_ID = 0000
/* QUALITY DATA ELEMENTS */
DATA_QUALITY_ID = 1
DATA_QUALITY_DESC = "Data calculated based on original SPICE kernels"
/* TIME DATA ELEMENTS */
SPACECRAFT_CLOCK_START_COUNT = "1/0088131896.08266"
SPACECRAFT_CLOCK_STOP_COUNT = "1/0088133287.06024"
START_TIME = 2006-02-16T01:06:59.459Z
STOP_TIME = 2006-02-16T01:14:11.770Z
/* ORBITAL DATA ELEMENTS */
ASCENDING_NODE_LONGITUDE = 171.76
MAXIMUM_RESOLUTION = 0.1971
FOOTPRINT_POINT_LATITUDE = (-49.384,-49.4162,-49.4599,-49.4829, -49.4983,-49.516,-49.525,-49.5226, -49.522,-49.5087,-49.1363,-48.5793, -48.2104,-47.843,-47.4768,-47.112, -46.7497,-46.3894,-46.0308,-45.674, -45.3194,-44.9665,-44.615,-44.2647, -43.9165,-43.5679,-43.2228,-42.8798, -42.5391,-42.0297,-41.692,-41.356, -41.0216,-40.6888,-40.3575,-40.0279, -39.7001,-39.0489,-38.5627,-37.9219, -37.2872,-36.6611,-36.0379,-35.4201, -34.8087,-34.2028,-33.6029,-33.0085, -32.8606,-32.7757,-32.8386,-32.8655, -32.8944,-32.9169,-32.9394,-32.9522, -32.9609,-32.9681,-32.9724,-32.9724, -32.9685,-32.9678,-32.9695,-33.5453, -34.1265,-34.7139,-35.307,-35.9065, -36.5119,-37.1241,-37.7415,-38.366, -38.9957,-39.6331,-40.2764,-40.9266, -41.5829,-41.9143,-42.2464,-42.581, -42.917,-43.2547,-43.5943,-43.9353, -44.2785,-44.6235,-44.9699,-45.3179, -45.6679,-46.0194,-46.373,-46.7288, -47.0863,-47.4451,-47.8055,-48.1685, -48.5332,-49.0833,-49.2674,-49.384)
FOOTPRINT_POINT_LONGITUDE = (10.3722,11.0433,12.1396,12.8713,13.481 ,14.4561,15.4326,16.8421,16.9035, 16.9502,16.9723,17.0038,17.0235,17.0431 ,17.0637,17.0847,17.1027,17.1196, 17.1359,17.1515,17.1651,17.1782,17.1919 ,17.2061,17.2187,17.236,17.2482,17.2588 ,17.2673,17.2829,17.2931,17.3027,17.312 ,17.3208,17.3294,17.3373,17.3443, 17.3578,17.3715,17.3835,17.3941,17.3981 ,17.4073,17.4162,17.4227,17.4284, 17.4326,17.4359,17.4367,17.4372,16.2815 ,15.7021,14.9797,14.3295,13.5349, 12.9569,12.4497,11.8702,11.1447,10.5632 ,9.76217,9.68904,9.66488,9.72004, 9.77247,9.82425,9.87362,9.92212,9.96824 ,10.0139,10.0551,10.0961,10.1323, 10.1689,10.2016,10.2325,10.2593,10.2734 ,10.2845,10.2968,10.3075,10.3175, 10.3268,10.3348,10.3429,10.3502,10.3559 ,10.3602,10.364,10.3663,10.3683,10.3705 ,10.3709,10.3694,10.3659,10.3633, 10.3589,10.3495,10.3461,10.3722)
ORBIT_NUMBER = 2694
ORBITAL_ECCENTRICITY = 0.571
ORBITAL_INCLINATION = 86.61
ORBITAL_SEMIMAJOR_AXIS = 8546.29
PERIAPSIS_ALTITUDE = 283.96
PERIAPSIS_ARGUMENT_ANGLE = 245.09
PERIAPSIS_TIME = 2006-02-16T00:48:11.000Z
SPACECRAFT_ORIENTATION = (0.0,-1.0,0.0)
^MEX_ORIENTATION_DESC = "MEX_ORIENTATION_DESC.TXT"
SPACECRAFT_POINTING_MODE = NADIR
^MEX_POINTING_DESC = "MEX_POINTING_DESC.TXT"
RIGHT_ASCENSION = -1e+32
DECLINATION = -1e+32
OFFSET_ANGLE = -1e+32
SPACECRAFT_SOLAR_DISTANCE = 2.37483e+08
TARGET_NAME = MARS
/* CAMERA DATA ELEMENTS */
DETECTOR_TEMPERATURE = 19.5939
FOCAL_PLANE_TEMPERATURE = 7.9716
INST_CMPRS_NAME = "DISCRETE COSINE TRANSFORMATION (DCT)"
INST_CMPRS_RATIO = 11.122
INST_CMPRS_QUALITY = 0
INST_CMPRS_QUANTZ_TBL_ID = 0
INSTRUMENT_TEMPERATURE = 12.4574
LENS_TEMPERATURE = 8.5833
MACROPIXEL_SIZE = 4
MISSING_FRAMES = 0
PIXEL_SUBSAMPLING_FLAG = N
SIGNAL_CHAIN_ID = 2
/* RADIOMETRIC DATA ELEMENTS */
BANDWIDTH = 88.0
CENTER_FILTER_WAVELENGTH = 538.0
RADIANCE_OFFSET = 0.469685
RADIANCE_SCALING_FACTOR = 0.00294704
REFLECTANCE_SCALING_FACTOR = 0.000143103
MEX:REFLECTANCE_OFFSET = 0.022807
/* IMAGE OBJECT DEFINITIONS */
OBJECT = IMAGE
  INTERCHANGE_FORMAT = BINARY
  LINES = 4966
  LINE_SAMPLES = 2037
  SAMPLE_TYPE = UNSIGNED_INTEGER
  SAMPLE_BITS = 8
  BANDS = 1
  BAND_STORAGE_TYPE = BAND_SEQUENTIAL
  MAXIMUM = 255
  MEAN = 107.223
  MINIMUM = 1
  STANDARD_DEVIATION = 30.8856
END_OBJECT = IMAGE
/* MAP OBJECT DEFINITIONS */
OBJECT = IMAGE_MAP_PROJECTION
  ^DATA_SET_MAP_PROJECTION_CATALOG= "DSMAP.CAT"
  A_AXIS_RADIUS = 3396.0
  B_AXIS_RADIUS = 3396.0
  C_AXIS_RADIUS = 3396.0
  CENTER_LATITUDE = 0.0
  CENTER_LONGITUDE = 14.0
  COORDINATE_SYSTEM_NAME = PLANETOGRAPHIC
  COORDINATE_SYSTEM_TYPE = "BODY-FIXED ROTATING"
  EASTERNMOST_LONGITUDE = 17.4372
  FIRST_STANDARD_PARALLEL = "N/A"
  LINE_FIRST_PIXEL = 1
  LINE_LAST_PIXEL = 4966
  LINE_PROJECTION_OFFSET = -9705.625
  MAP_PROJECTION_ROTATION = 0.0
  MAP_PROJECTION_TYPE = SINUSOIDAL
  MAP_RESOLUTION = 296.356901933333
  MAP_SCALE = 0.2
  MAXIMUM_LATITUDE = -32.7757
  MINIMUM_LATITUDE = -49.525
  POSITIVE_LONGITUDE_DIRECTION = EAST
  REFERENCE_LATITUDE = "N/A"
  REFERENCE_LONGITUDE = "N/A"
  SAMPLE_FIRST_PIXEL = 1
  SAMPLE_LAST_PIXEL = 2037
  SAMPLE_PROJECTION_OFFSET = 1125.375
  SECOND_STANDARD_PARALLEL = "N/A"
  WESTERNMOST_LONGITUDE = 9.66488
END_OBJECT = IMAGE_MAP_PROJECTION
END
