PDS_VERSION_ID = PDS3
/* FILE DATA ELEMENTS */
RECORD_TYPE = UNDEFINED
/* POINTERS TO DATA OBJECTS */
^IMAGE = ("H2698_0000_RE4.TIF")
/* IDENTIFICATION DATA ELEMENTS */
DATA_SET_ID = "MEX-M-HRSC-4-REFDR-MAPPROJECT-EXT1-V4.0"
DATA_SET_NAME = "MARS EXPRESS HRSC MAP PROJECTED REFDR EXTENSION1 V4.0"
DETECTOR_ID = MEX_HRSC_RED
EVENT_TYPE = "MARS-TERMINATOR-VARIABLE-At"
INSTRUMENT_HOST_ID = MEX
INSTRUMENT_HOST_NAME = "MARS EXPRESS"
INSTRUMENT_ID = HRSC
INSTRUMENT_NAME = "HIGH RESOLUTION STEREO CAMERA"
MISSION_NAME = "MARS EXPRESS"
MISSION_PHASE_NAME = ME_Phase_2
PROCESSING_LEVEL_ID = 4
PRODUCT_CREATION_TIME = 2023-02-08T07:05:14.000Z
PRODUCT_ID = "H2698_0000_RE4.TIF"
RELEASE_ID = 0001
REVISION_ID = 0000
/* QUALITY DATA ELEMENTS */
DATA_QUALITY_ID = 1
DATA_QUALITY_DESC = "Data calculated based on original SPICE kernels"
/* TIME DATA ELEMENTS */
SPACECRAFT_CLOCK_START_COUNT = "1/0088228294.09074"
SPACECRAFT_CLOCK_STOP_COUNT = "1/0088228906.40964"
START_TIME = 2006-02-17T03:53:57.157Z
STOP_TIME = 2006-02-17T04:01:04.605Z
/* ORBITAL DATA ELEMENTS */
ASCENDING_NODE_LONGITUDE = 171.68
MAXIMUM_RESOLUTION = 0.1288
FOOTPRINT_POINT_LATITUDE = (-71.8111,-71.8885,-72.0118,-72.0828, -72.1722,-72.2228,-72.2252,-72.3146, -71.3562,-70.7139,-70.0555,-69.7229, -69.3869,-69.0495,-68.7098,-68.366, -68.0197,-67.6712,-67.3203,-66.9668, -66.6122,-66.2529,-65.8918,-65.5274, -65.1612,-64.7915,-64.4215,-64.0564, -63.693,-63.334,-62.9765,-62.6246, -62.0943,-61.7452,-61.2216,-60.7044, -60.3658,-59.8577,-59.5252,-58.8681, -58.2125,-57.7323,-57.2516,-56.7826, -56.1591,-55.5466,-55.3951,-55.3631, -55.3684,-55.3687,-55.3651,-55.3615, -55.3515,-55.3409,-55.3268,-55.2997, -55.2763,-55.2497,-55.247,-55.2475, -55.6905,-56.1468,-56.6017,-57.0624, -57.6845,-58.315,-58.9572,-59.6128, -59.9433,-60.2764,-60.612,-60.9492, -61.2883,-61.6316,-61.9771,-62.5008, -62.8513,-63.2053,-63.5591,-63.9187, -64.2804,-64.6395,-65.0007,-65.3595, -65.7158,-66.0702,-66.4215,-66.9464, -67.2927,-67.6367,-67.9772,-68.315, -68.6538,-69.1501,-69.4787,-70.1244, -70.9212,-71.7076,-71.8605,-71.8111)
FOOTPRINT_POINT_LONGITUDE = (331.755,332.917,335.024,336.442, 338.587,340.112,340.192,340.29,340.711, 340.979,341.228,341.348,341.465,341.579 ,341.691,341.798,341.902,342.006, 342.107,342.205,342.302,342.396,342.488 ,342.578,342.667,342.753,342.835, 342.916,342.993,343.07,343.143,343.217, 343.317,343.383,343.475,343.563,343.622 ,343.705,343.76,343.867,343.964,344.037 ,344.104,344.173,344.257,344.34,344.36, 344.364,343.361,342.742,341.815,341.122 ,340.121,339.349,338.654,337.652, 336.958,336.184,336.106,336.08,336.053, 336.016,335.98,335.941,335.882,335.816, 335.741,335.652,335.605,335.555,335.502 ,335.448,335.391,335.329,335.264, 335.159,335.087,335.009,334.931,334.844 ,334.754,334.665,334.569,334.469, 334.366,334.257,334.145,333.965,333.841 ,333.712,333.58,333.443,333.296,333.078 ,332.925,332.61,332.18,331.703,331.608, 331.755)
ORBIT_NUMBER = 2698
ORBITAL_ECCENTRICITY = 0.571
ORBITAL_INCLINATION = 86.62
ORBITAL_SEMIMAJOR_AXIS = 8546.83
PERIAPSIS_ALTITUDE = 284.08
PERIAPSIS_ARGUMENT_ANGLE = 244.41
PERIAPSIS_TIME = 2006-02-17T03:41:14.000Z
SPACECRAFT_ORIENTATION = (0.0,-1.0,0.0)
^MEX_ORIENTATION_DESC = "MEX_ORIENTATION_DESC.TXT"
SPACECRAFT_POINTING_MODE = NADIR
^MEX_POINTING_DESC = "MEX_POINTING_DESC.TXT"
RIGHT_ASCENSION = -1e+32
DECLINATION = -1e+32
OFFSET_ANGLE = -1e+32
SPACECRAFT_SOLAR_DISTANCE = 2.3767e+08
TARGET_NAME = MARS
/* CAMERA DATA ELEMENTS */
DETECTOR_TEMPERATURE = 18.5744
FOCAL_PLANE_TEMPERATURE = 7.7677
INST_CMPRS_NAME = "DISCRETE COSINE TRANSFORMATION (DCT)"
INST_CMPRS_RATIO = 40.2259
INST_CMPRS_QUALITY = 0
INST_CMPRS_QUANTZ_TBL_ID = 0
INSTRUMENT_TEMPERATURE = 11.0301
LENS_TEMPERATURE = 8.3794
MACROPIXEL_SIZE = 4
MISSING_FRAMES = 0
PIXEL_SUBSAMPLING_FLAG = N
SIGNAL_CHAIN_ID = 2
/* RADIOMETRIC DATA ELEMENTS */
BANDWIDTH = 48.0
CENTER_FILTER_WAVELENGTH = 748.0
RADIANCE_OFFSET = 0.0176437
RADIANCE_SCALING_FACTOR = 0.00168364
REFLECTANCE_SCALING_FACTOR = 0.000217035
MEX:REFLECTANCE_OFFSET = 0.0022744
/* IMAGE OBJECT DEFINITIONS */
OBJECT = IMAGE
  INTERCHANGE_FORMAT = BINARY
  LINES = 10144
  LINE_SAMPLES = 2803
  SAMPLE_TYPE = UNSIGNED_INTEGER
  SAMPLE_BITS = 8
  BANDS = 1
  BAND_STORAGE_TYPE = BAND_SEQUENTIAL
  MAXIMUM = 251
  MEAN = 101.252
  MINIMUM = 3
  STANDARD_DEVIATION = 53.9182
END_OBJECT = IMAGE
/* MAP OBJECT DEFINITIONS */
OBJECT = IMAGE_MAP_PROJECTION
  ^DATA_SET_MAP_PROJECTION_CATALOG= "DSMAP.CAT"
  A_AXIS_RADIUS = 3396.0
  B_AXIS_RADIUS = 3396.0
  C_AXIS_RADIUS = 3396.0
  CENTER_LATITUDE = 0.0
  CENTER_LONGITUDE = 339.0
  COORDINATE_SYSTEM_NAME = PLANETOGRAPHIC
  COORDINATE_SYSTEM_TYPE = "BODY-FIXED ROTATING"
  EASTERNMOST_LONGITUDE = 344.364
  FIRST_STANDARD_PARALLEL = "N/A"
  LINE_FIRST_PIXEL = 1
  LINE_LAST_PIXEL = 10144
  LINE_PROJECTION_OFFSET = -32733.875
  MAP_PROJECTION_ROTATION = 0.0
  MAP_PROJECTION_TYPE = SINUSOIDAL
  MAP_RESOLUTION = 592.713803866667
  MAP_SCALE = 0.1
  MAXIMUM_LATITUDE = -55.247
  MINIMUM_LATITUDE = -72.3146
  POSITIVE_LONGITUDE_DIRECTION = EAST
  REFERENCE_LATITUDE = "N/A"
  REFERENCE_LONGITUDE = "N/A"
  SAMPLE_FIRST_PIXEL = 1
  SAMPLE_LAST_PIXEL = 2803
  SAMPLE_PROJECTION_OFFSET = 1289.125
  SECOND_STANDARD_PARALLEL = "N/A"
  WESTERNMOST_LONGITUDE = 331.608
END_OBJECT = IMAGE_MAP_PROJECTION
END
