PDS_VERSION_ID = PDS3
/* FILE DATA ELEMENTS */
RECORD_TYPE = UNDEFINED
/* POINTERS TO DATA OBJECTS */
^IMAGE = ("H2698_0000_S24.TIF")
/* IDENTIFICATION DATA ELEMENTS */
DATA_SET_ID = "MEX-M-HRSC-4-REFDR-MAPPROJECT-EXT1-V4.0"
DATA_SET_NAME = "MARS EXPRESS HRSC MAP PROJECTED REFDR EXTENSION1 V4.0"
DETECTOR_ID = MEX_HRSC_S2
EVENT_TYPE = "MARS-TERMINATOR-VARIABLE-At"
INSTRUMENT_HOST_ID = MEX
INSTRUMENT_HOST_NAME = "MARS EXPRESS"
INSTRUMENT_ID = HRSC
INSTRUMENT_NAME = "HIGH RESOLUTION STEREO CAMERA"
MISSION_NAME = "MARS EXPRESS"
MISSION_PHASE_NAME = ME_Phase_2
PROCESSING_LEVEL_ID = 4
PRODUCT_CREATION_TIME = 2023-02-08T07:05:14.000Z
PRODUCT_ID = "H2698_0000_S24.TIF"
RELEASE_ID = 0001
REVISION_ID = 0000
/* QUALITY DATA ELEMENTS */
DATA_QUALITY_ID = 1
DATA_QUALITY_DESC = "Data calculated based on original SPICE kernels"
/* TIME DATA ELEMENTS */
SPACECRAFT_CLOCK_START_COUNT = "1/0088228294.09074"
SPACECRAFT_CLOCK_STOP_COUNT = "1/0088228906.40964"
START_TIME = 2006-02-17T03:54:14.729Z
STOP_TIME = 2006-02-17T04:01:50.419Z
/* ORBITAL DATA ELEMENTS */
ASCENDING_NODE_LONGITUDE = 171.68
MAXIMUM_RESOLUTION = 0.0675
FOOTPRINT_POINT_LATITUDE = (-71.7913,-71.9088,-71.9937,-72.0607, -72.1198,-72.1707,-72.2086,-72.211, -72.3207,-71.6606,-71.3261,-70.6621, -70.3181,-69.9742,-69.6283,-69.2801, -68.9316,-68.5774,-68.2194,-67.8598, -67.4983,-67.1342,-66.7678,-66.2118, -65.84,-65.4664,-65.098,-64.7304, -64.1845,-63.6455,-63.2916,-62.9404, -62.5939,-62.2449,-61.9014,-61.5569, -61.2162,-60.8776,-60.3784,-60.0452, -59.3971,-58.7573,-57.9682,-57.3501, -56.7424,-56.143,-55.5545,-55.4091, -55.3467,-55.3575,-55.3591,-55.358, -55.3554,-55.3559,-55.3514,-55.342, -55.3221,-55.2935,-55.2675,-55.2648, -55.2644,-55.6855,-56.1227,-56.7047, -57.2976,-57.8992,-58.5095,-59.1406, -59.7769,-60.4275,-61.0845,-61.4173, -61.7546,-62.0941,-62.4378,-62.7824, -63.13,-63.4779,-63.8306,-64.1885, -64.5432,-64.9015,-65.263,-65.6283, -65.9946,-66.3577,-66.9011,-67.259, -67.6139,-67.967,-68.494,-69.007, -69.3519,-69.6895,-70.1877,-70.5198, -71.0132,-71.665,-71.8248,-71.7913)
FOOTPRINT_POINT_LONGITUDE = (331.66,333.492,335.005,336.359,337.72, 339.092,340.3,340.387,340.49,340.788, 340.93,341.211,341.34,341.468,341.593, 341.714,341.834,341.95,342.062,342.172, 342.279,342.385,342.488,342.638,342.736 ,342.83,342.922,343.009,343.135,343.255 ,343.333,343.409,343.484,343.553, 343.623,343.688,343.752,343.813,343.905 ,343.963,344.079,344.189,344.318, 344.418,344.514,344.605,344.694,344.716 ,344.726,343.358,342.675,342.078, 341.397,340.802,340.122,339.099,338.076 ,336.967,336.027,335.941,335.91,335.887 ,335.854,335.811,335.762,335.706, 335.645,335.567,335.484,335.389,335.286 ,335.23,335.17,335.106,335.038,334.968, 334.894,334.819,334.737,334.649,334.562 ,334.47,334.372,334.268,334.158,334.044 ,333.861,333.734,333.603,333.466, 333.249,333.03,332.869,332.71,332.464, 332.289,332.014,331.618,331.518,331.66)
ORBIT_NUMBER = 2698
ORBITAL_ECCENTRICITY = 0.571
ORBITAL_INCLINATION = 86.62
ORBITAL_SEMIMAJOR_AXIS = 8546.83
PERIAPSIS_ALTITUDE = 284.08
PERIAPSIS_ARGUMENT_ANGLE = 244.41
PERIAPSIS_TIME = 2006-02-17T03:41:14.000Z
SPACECRAFT_ORIENTATION = (0.0,-1.0,0.0)
^MEX_ORIENTATION_DESC = "MEX_ORIENTATION_DESC.TXT"
SPACECRAFT_POINTING_MODE = NADIR
^MEX_POINTING_DESC = "MEX_POINTING_DESC.TXT"
RIGHT_ASCENSION = -1e+32
DECLINATION = -1e+32
OFFSET_ANGLE = -1e+32
SPACECRAFT_SOLAR_DISTANCE = 2.3767e+08
TARGET_NAME = MARS
/* CAMERA DATA ELEMENTS */
DETECTOR_TEMPERATURE = 18.5744
FOCAL_PLANE_TEMPERATURE = 7.7677
INST_CMPRS_NAME = "DISCRETE COSINE TRANSFORMATION (DCT)"
INST_CMPRS_RATIO = 17.6702
INST_CMPRS_QUALITY = 0
INST_CMPRS_QUANTZ_TBL_ID = 0
INSTRUMENT_TEMPERATURE = 11.0301
LENS_TEMPERATURE = 8.3794
MACROPIXEL_SIZE = 2
MISSING_FRAMES = 0
PIXEL_SUBSAMPLING_FLAG = N
SIGNAL_CHAIN_ID = 1
/* RADIOMETRIC DATA ELEMENTS */
BANDWIDTH = 178.0
CENTER_FILTER_WAVELENGTH = 679.0
RADIANCE_OFFSET = 0.08357
RADIANCE_SCALING_FACTOR = 0.00696417
REFLECTANCE_SCALING_FACTOR = 0.00020833
MEX:REFLECTANCE_OFFSET = 0.00249996
/* IMAGE OBJECT DEFINITIONS */
OBJECT = IMAGE
  INTERCHANGE_FORMAT = BINARY
  LINES = 20288
  LINE_SAMPLES = 5605
  SAMPLE_TYPE = UNSIGNED_INTEGER
  SAMPLE_BITS = 8
  BANDS = 1
  BAND_STORAGE_TYPE = BAND_SEQUENTIAL
  MAXIMUM = 245
  MEAN = 98.9852
  MINIMUM = 1
  STANDARD_DEVIATION = 52.5451
END_OBJECT = IMAGE
/* MAP OBJECT DEFINITIONS */
OBJECT = IMAGE_MAP_PROJECTION
  ^DATA_SET_MAP_PROJECTION_CATALOG= "DSMAP.CAT"
  A_AXIS_RADIUS = 3396.0
  B_AXIS_RADIUS = 3396.0
  C_AXIS_RADIUS = 3396.0
  CENTER_LATITUDE = 0.0
  CENTER_LONGITUDE = 339.0
  COORDINATE_SYSTEM_NAME = PLANETOGRAPHIC
  COORDINATE_SYSTEM_TYPE = "BODY-FIXED ROTATING"
  EASTERNMOST_LONGITUDE = 344.726
  FIRST_STANDARD_PARALLEL = "N/A"
  LINE_FIRST_PIXEL = 1
  LINE_LAST_PIXEL = 20288
  LINE_PROJECTION_OFFSET = -65467.25
  MAP_PROJECTION_ROTATION = 0.0
  MAP_PROJECTION_TYPE = SINUSOIDAL
  MAP_RESOLUTION = 1185.42760773333
  MAP_SCALE = 0.05
  MAXIMUM_LATITUDE = -55.2644
  MINIMUM_LATITUDE = -72.3207
  POSITIVE_LONGITUDE_DIRECTION = EAST
  REFERENCE_LATITUDE = "N/A"
  REFERENCE_LONGITUDE = "N/A"
  SAMPLE_FIRST_PIXEL = 1
  SAMPLE_LAST_PIXEL = 5605
  SAMPLE_PROJECTION_OFFSET = 2578.75
  SECOND_STANDARD_PARALLEL = "N/A"
  WESTERNMOST_LONGITUDE = 331.518
END_OBJECT = IMAGE_MAP_PROJECTION
END
