PDS_VERSION_ID = PDS3
/* FILE DATA ELEMENTS */
RECORD_TYPE = UNDEFINED
/* POINTERS TO DATA OBJECTS */
^IMAGE = ("H2723_0000_GR4.TIF")
/* IDENTIFICATION DATA ELEMENTS */
DATA_SET_ID = "MEX-M-HRSC-4-REFDR-MAPPROJECT-EXT1-V4.0"
DATA_SET_NAME = "MARS EXPRESS HRSC MAP PROJECTED REFDR EXTENSION1 V4.0"
DETECTOR_ID = MEX_HRSC_GREEN
EVENT_TYPE = "MARS-TERMINATOR-VARIABLE-At"
INSTRUMENT_HOST_ID = MEX
INSTRUMENT_HOST_NAME = "MARS EXPRESS"
INSTRUMENT_ID = HRSC
INSTRUMENT_NAME = "HIGH RESOLUTION STEREO CAMERA"
MISSION_NAME = "MARS EXPRESS"
MISSION_PHASE_NAME = ME_Phase_2
PROCESSING_LEVEL_ID = 4
PRODUCT_CREATION_TIME = 2023-02-09T07:39:13.000Z
PRODUCT_ID = "H2723_0000_GR4.TIF"
RELEASE_ID = 0002
REVISION_ID = 0000
/* QUALITY DATA ELEMENTS */
DATA_QUALITY_ID = 1
DATA_QUALITY_DESC = "Data calculated based on original SPICE kernels"
/* TIME DATA ELEMENTS */
SPACECRAFT_CLOCK_START_COUNT = "1/0088833302.09041"
SPACECRAFT_CLOCK_STOP_COUNT = "1/0088834400.06848"
START_TIME = 2006-02-24T03:56:18.185Z
STOP_TIME = 2006-02-24T04:05:07.348Z
/* ORBITAL DATA ELEMENTS */
ASCENDING_NODE_LONGITUDE = 171.15
MAXIMUM_RESOLUTION = 0.1333
FOOTPRINT_POINT_LATITUDE = (-68.8433,-69.0012,-69.0795,-69.1648, -69.2404,-69.2424,-69.228,-68.4239, -67.6051,-66.7702,-65.92,-65.0526, -64.1679,-63.2661,-62.8083,-62.346, -61.8785,-61.407,-60.6726,-60.1879, -59.6986,-59.2046,-58.7051,-58.2005, -57.6905,-57.1749,-56.654,-55.8741, -55.3584,-54.8461,-54.3368,-53.831, -53.3286,-52.8295,-52.3336,-51.8409, -51.3515,-50.6054,-50.1236,-49.6461, -49.17,-48.6981,-48.2294,-47.7642, -47.3011,-46.8412,-45.9298,-45.7045, -45.5492,-45.569,-45.5826,-45.592, -45.5932,-45.5821,-45.5708,-45.5397, -45.4905,-45.4873,-45.4883,-46.3759, -47.2762,-47.7309,-48.189,-48.6476, -49.1145,-49.5815,-50.0521,-50.5261, -51.261,-51.7433,-52.2289,-52.7179, -53.2102,-53.706,-54.2042,-54.7066, -55.2124,-55.7216,-56.4919,-57.0051, -57.513,-58.0158,-58.5134,-59.0055, -59.4923,-59.9747,-60.4522,-61.177, -61.6419,-62.1028,-62.559,-63.4578, -64.3379,-65.2002,-66.0447,-66.875, -67.6886,-68.4879,-68.6852,-68.8433)
FOOTPRINT_POINT_LONGITUDE = (35.8302,38.1516,39.5437,41.3871, 43.6218,43.6967,43.804,44.0487,44.2776, 44.4904,44.6902,44.8787,45.0568,45.2241 ,45.3041,45.3812,45.456,45.5292,45.6351 ,45.7033,45.7679,45.8308,45.8921, 45.9511,46.008,46.0642,46.1179,46.1941, 46.2416,46.2864,46.3303,46.3717,46.4105 ,46.4475,46.4829,46.5166,46.5485, 46.5945,46.6237,46.6484,46.6767,46.7006 ,46.7229,46.7429,46.7641,46.7839, 46.8215,46.8285,46.8329,46.0375,45.2382 ,44.2962,43.4295,42.2762,41.6265, 40.4715,39.1706,39.0982,39.0741,39.0893 ,39.0983,39.1,39.1004,39.0919,39.0944, 39.0869,39.0781,39.0671,39.0454,39.0281 ,39.0081,38.9853,38.9597,38.931,38.8965 ,38.8608,38.8213,38.7781,38.7056, 38.6524,38.5957,38.5357,38.4723,38.4045 ,38.333,38.2579,38.1791,38.0509,37.9621 ,37.8696,37.7722,37.5675,37.3414, 37.0942,36.8254,36.5389,36.2302,35.9001 ,35.8141,35.8302)
ORBIT_NUMBER = 2723
ORBITAL_ECCENTRICITY = 0.571
ORBITAL_INCLINATION = 86.61
ORBITAL_SEMIMAJOR_AXIS = 8554.43
PERIAPSIS_ALTITUDE = 285.14
PERIAPSIS_ARGUMENT_ANGLE = 240.06
PERIAPSIS_TIME = 2006-02-24T03:42:38.000Z
SPACECRAFT_ORIENTATION = (0.0,-1.0,0.0)
^MEX_ORIENTATION_DESC = "MEX_ORIENTATION_DESC.TXT"
SPACECRAFT_POINTING_MODE = NADIR
^MEX_POINTING_DESC = "MEX_POINTING_DESC.TXT"
RIGHT_ASCENSION = -1e+32
DECLINATION = -1e+32
OFFSET_ANGLE = -1e+32
SPACECRAFT_SOLAR_DISTANCE = 2.38812e+08
TARGET_NAME = MARS
/* CAMERA DATA ELEMENTS */
DETECTOR_TEMPERATURE = 18.5744
FOCAL_PLANE_TEMPERATURE = 7.9716
INST_CMPRS_NAME = "DISCRETE COSINE TRANSFORMATION (DCT)"
INST_CMPRS_RATIO = 31.1844
INST_CMPRS_QUALITY = 0
INST_CMPRS_QUANTZ_TBL_ID = 0
INSTRUMENT_TEMPERATURE = 11.234
LENS_TEMPERATURE = 8.3794
MACROPIXEL_SIZE = 4
PIXEL_SUBSAMPLING_FLAG = N
SIGNAL_CHAIN_ID = 2
/* RADIOMETRIC DATA ELEMENTS */
BANDWIDTH = 88.0
CENTER_FILTER_WAVELENGTH = 538.0
RADIANCE_OFFSET = 0.0
RADIANCE_SCALING_FACTOR = 0.00377303
REFLECTANCE_SCALING_FACTOR = 0.000185265
MEX:REFLECTANCE_OFFSET = 0.0
/* IMAGE OBJECT DEFINITIONS */
OBJECT = IMAGE
  INTERCHANGE_FORMAT = BINARY
  LINES = 14058
  LINE_SAMPLES = 3446
  SAMPLE_TYPE = UNSIGNED_INTEGER
  SAMPLE_BITS = 8
  BANDS = 1
  BAND_STORAGE_TYPE = BAND_SEQUENTIAL
  MAXIMUM = 255
  MEAN = 96.8867
  MINIMUM = 3
  STANDARD_DEVIATION = 52.8496
END_OBJECT = IMAGE
/* MAP OBJECT DEFINITIONS */
OBJECT = IMAGE_MAP_PROJECTION
  ^DATA_SET_MAP_PROJECTION_CATALOG= "DSMAP.CAT"
  A_AXIS_RADIUS = 3396.0
  B_AXIS_RADIUS = 3396.0
  C_AXIS_RADIUS = 3396.0
  CENTER_LATITUDE = 0.0
  CENTER_LONGITUDE = 42.0
  COORDINATE_SYSTEM_NAME = PLANETOGRAPHIC
  COORDINATE_SYSTEM_TYPE = "BODY-FIXED ROTATING"
  EASTERNMOST_LONGITUDE = 46.8329
  FIRST_STANDARD_PARALLEL = "N/A"
  LINE_FIRST_PIXEL = 1
  LINE_LAST_PIXEL = 14058
  LINE_PROJECTION_OFFSET = -26978.375
  MAP_PROJECTION_ROTATION = 0.0
  MAP_PROJECTION_TYPE = SINUSOIDAL
  MAP_RESOLUTION = 592.713803866667
  MAP_SCALE = 0.1
  MAXIMUM_LATITUDE = -45.4873
  MINIMUM_LATITUDE = -69.2424
  POSITIVE_LONGITUDE_DIRECTION = EAST
  REFERENCE_LATITUDE = "N/A"
  REFERENCE_LONGITUDE = "N/A"
  SAMPLE_FIRST_PIXEL = 1
  SAMPLE_LAST_PIXEL = 3446
  SAMPLE_PROJECTION_OFFSET = 1358.375
  SECOND_STANDARD_PARALLEL = "N/A"
  WESTERNMOST_LONGITUDE = 35.8141
END_OBJECT = IMAGE_MAP_PROJECTION
END
