PDS_VERSION_ID = PDS3
/* FILE DATA ELEMENTS */
RECORD_TYPE = UNDEFINED
/* POINTERS TO DATA OBJECTS */
^IMAGE = ("H2732_0000_S14.TIF")
/* IDENTIFICATION DATA ELEMENTS */
DATA_SET_ID = "MEX-M-HRSC-4-REFDR-MAPPROJECT-EXT1-V4.0"
DATA_SET_NAME = "MARS EXPRESS HRSC MAP PROJECTED REFDR EXTENSION1 V4.0"
DETECTOR_ID = MEX_HRSC_S1
EVENT_TYPE = "MARS-TERMINATOR-VARIABLE-At"
INSTRUMENT_HOST_ID = MEX
INSTRUMENT_HOST_NAME = "MARS EXPRESS"
INSTRUMENT_ID = HRSC
INSTRUMENT_NAME = "HIGH RESOLUTION STEREO CAMERA"
MISSION_NAME = "MARS EXPRESS"
MISSION_PHASE_NAME = ME_Phase_2
PROCESSING_LEVEL_ID = 4
PRODUCT_CREATION_TIME = 2023-02-09T07:39:13.000Z
PRODUCT_ID = "H2732_0000_S14.TIF"
RELEASE_ID = 0002
REVISION_ID = 0000
/* QUALITY DATA ELEMENTS */
DATA_QUALITY_ID = 1
DATA_QUALITY_DESC = "Data calculated based on original SPICE kernels"
/* TIME DATA ELEMENTS */
SPACECRAFT_CLOCK_START_COUNT = "1/0089051230.09049"
SPACECRAFT_CLOCK_STOP_COUNT = "1/0089052279.05239"
START_TIME = 2006-02-26T16:27:15.874Z
STOP_TIME = 2006-02-26T16:32:34.660Z
/* ORBITAL DATA ELEMENTS */
ASCENDING_NODE_LONGITUDE = 170.97
MAXIMUM_RESOLUTION = 0.0799
FOOTPRINT_POINT_LATITUDE = (-61.8907,-62.0081,-62.0631,-62.1195, -62.162,-62.1943,-62.2143,-62.2154, -62.1253,-61.5109,-60.8878,-60.257, -59.4551,-58.8104,-58.4826,-58.1521, -57.8191,-57.4869,-57.1508,-56.6215, -56.2751,-55.7685,-55.4173,-55.0678, -54.7214,-54.3657,-54.0156,-53.6717, -53.3411,-52.9998,-52.6587,-52.1521, -51.8064,-51.2981,-50.9617,-50.626, -50.2911,-49.9573,-49.6243,-49.2924, -48.9615,-48.3055,-47.9752,-47.4839, -46.9951,-46.342,-45.7021,-45.5417, -45.5051,-45.514,-45.5221,-45.5225, -45.5171,-45.5091,-45.4877,-45.4642, -45.4213,-45.3511,-45.346,-45.3456, -45.9813,-46.7847,-47.4265,-47.9124, -48.3998,-49.053,-49.3817,-49.711, -50.0413,-50.3725,-50.707,-51.0407, -51.3768,-51.7099,-52.044,-52.3799, -52.7215,-53.0584,-53.3898,-53.7335, -54.0829,-54.5939,-54.9376,-55.2831, -55.6304,-55.9737,-56.3144,-56.6533, -56.9897,-57.3238,-57.6562,-57.985, -58.3119,-58.9587,-59.5991,-60.229, -60.8353,-61.6181,-61.7676,-61.8907)
FOOTPRINT_POINT_LONGITUDE = (233.575,235.233,236.166,237.303, 238.376,239.454,240.401,240.469,240.559 ,240.65,240.738,240.822,240.921,240.993 ,241.029,241.064,241.098,241.13,241.162 ,241.221,241.253,241.29,241.32,241.349, 241.376,241.407,241.435,241.459,241.476 ,241.498,241.519,241.548,241.572, 241.601,241.619,241.636,241.653,241.669 ,241.684,241.699,241.713,241.738, 241.751,241.769,241.785,241.808,241.824 ,241.828,241.829,241.358,240.682, 239.671,239.201,238.663,237.789,237.118 ,236.111,234.969,234.902,234.877, 234.879,234.878,234.872,234.866,234.858 ,234.843,234.834,234.825,234.814, 234.802,234.79,234.776,234.761,234.744, 234.726,234.706,234.687,234.665,234.639 ,234.616,234.593,234.55,234.52,234.489, 234.456,234.422,234.386,234.349,234.31, 234.27,234.229,234.186,234.142,234.048, 233.95,233.845,233.729,233.586,233.555, 233.575)
ORBIT_NUMBER = 2732
ORBITAL_ECCENTRICITY = 0.572
ORBITAL_INCLINATION = 86.63
ORBITAL_SEMIMAJOR_AXIS = 8558.13
PERIAPSIS_ALTITUDE = 284.78
PERIAPSIS_ARGUMENT_ANGLE = 238.49
PERIAPSIS_TIME = 2006-02-26T16:12:14.000Z
SPACECRAFT_ORIENTATION = (0.0,-1.0,0.0)
^MEX_ORIENTATION_DESC = "MEX_ORIENTATION_DESC.TXT"
SPACECRAFT_POINTING_MODE = NADIR
^MEX_POINTING_DESC = "MEX_POINTING_DESC.TXT"
RIGHT_ASCENSION = -1e+32
DECLINATION = -1e+32
OFFSET_ANGLE = -1e+32
SPACECRAFT_SOLAR_DISTANCE = 2.39212e+08
TARGET_NAME = MARS
/* CAMERA DATA ELEMENTS */
DETECTOR_TEMPERATURE = 16.9432
FOCAL_PLANE_TEMPERATURE = 8.3794
INST_CMPRS_NAME = "DISCRETE COSINE TRANSFORMATION (DCT)"
INST_CMPRS_RATIO = 10.7177
INST_CMPRS_QUALITY = 0
INST_CMPRS_QUANTZ_TBL_ID = 0
INSTRUMENT_TEMPERATURE = 11.0301
LENS_TEMPERATURE = 8.5833
MACROPIXEL_SIZE = 2
MISSING_FRAMES = 0
PIXEL_SUBSAMPLING_FLAG = N
SIGNAL_CHAIN_ID = 1
/* RADIOMETRIC DATA ELEMENTS */
BANDWIDTH = 180.0
CENTER_FILTER_WAVELENGTH = 677.0
RADIANCE_OFFSET = 0.176774
RADIANCE_SCALING_FACTOR = 0.0065857
REFLECTANCE_SCALING_FACTOR = 0.000196615
MEX:REFLECTANCE_OFFSET = 0.00527755
/* IMAGE OBJECT DEFINITIONS */
OBJECT = IMAGE
  INTERCHANGE_FORMAT = BINARY
  LINES = 9895
  LINE_SAMPLES = 3515
  SAMPLE_TYPE = UNSIGNED_INTEGER
  SAMPLE_BITS = 8
  BANDS = 1
  BAND_STORAGE_TYPE = BAND_SEQUENTIAL
  MAXIMUM = 255
  MEAN = 100.224
  MINIMUM = 1
  STANDARD_DEVIATION = 47.6813
END_OBJECT = IMAGE
/* MAP OBJECT DEFINITIONS */
OBJECT = IMAGE_MAP_PROJECTION
  ^DATA_SET_MAP_PROJECTION_CATALOG= "DSMAP.CAT"
  A_AXIS_RADIUS = 3396.0
  B_AXIS_RADIUS = 3396.0
  C_AXIS_RADIUS = 3396.0
  CENTER_LATITUDE = 0.0
  CENTER_LONGITUDE = 238.0
  COORDINATE_SYSTEM_NAME = PLANETOGRAPHIC
  COORDINATE_SYSTEM_TYPE = "BODY-FIXED ROTATING"
  EASTERNMOST_LONGITUDE = 241.829
  FIRST_STANDARD_PARALLEL = "N/A"
  LINE_FIRST_PIXEL = 1
  LINE_LAST_PIXEL = 9895
  LINE_PROJECTION_OFFSET = -26905.75
  MAP_PROJECTION_ROTATION = 0.0
  MAP_PROJECTION_TYPE = SINUSOIDAL
  MAP_RESOLUTION = 592.713803866667
  MAP_SCALE = 0.1
  MAXIMUM_LATITUDE = -45.3456
  MINIMUM_LATITUDE = -62.2154
  POSITIVE_LONGITUDE_DIRECTION = EAST
  REFERENCE_LATITUDE = "N/A"
  REFERENCE_LONGITUDE = "N/A"
  SAMPLE_FIRST_PIXEL = 1
  SAMPLE_LAST_PIXEL = 3515
  SAMPLE_PROJECTION_OFFSET = 1684.75
  SECOND_STANDARD_PARALLEL = "N/A"
  WESTERNMOST_LONGITUDE = 233.555
END_OBJECT = IMAGE_MAP_PROJECTION
END
