PDS_VERSION_ID = PDS3
/* FILE DATA ELEMENTS */
RECORD_TYPE = UNDEFINED
/* POINTERS TO DATA OBJECTS */
^IMAGE = ("H2769_0004_SR4.TIF")
/* IDENTIFICATION DATA ELEMENTS */
DATA_SET_ID = "MEX-M-HRSC-4-REFDR-MAPPROJECT-EXT1-V4.0"
DATA_SET_NAME = "MARS EXPRESS HRSC MAP PROJECTED REFDR EXTENSION1 V4.0"
DETECTOR_ID = MEX_HRSC_SRC
EVENT_TYPE = "MARS-TERMINATOR-VARIABLE-Gl-At"
INSTRUMENT_HOST_ID = MEX
INSTRUMENT_HOST_NAME = "MARS EXPRESS"
INSTRUMENT_ID = HRSC
INSTRUMENT_NAME = "HIGH RESOLUTION STEREO CAMERA"
MISSION_NAME = "MARS EXPRESS"
MISSION_PHASE_NAME = ME_Phase_2
PROCESSING_LEVEL_ID = 4
PRODUCT_CREATION_TIME = 2023-02-09T07:39:13.000Z
PRODUCT_ID = "H2769_0004_SR4.TIF"
RELEASE_ID = 0002
REVISION_ID = 0000
/* QUALITY DATA ELEMENTS */
DATA_QUALITY_ID = 1
DATA_QUALITY_DESC = "Data calculated based on original SPICE kernels"
/* TIME DATA ELEMENTS */
SPACECRAFT_CLOCK_START_COUNT = "1/0089938371.08412"
SPACECRAFT_CLOCK_STOP_COUNT = "1/0089939495.09813"
IMAGE_TIME = 2006-03-08T22:55:47.624Z
START_TIME = 2006-03-08T22:55:47.621Z
STOP_TIME = 2006-03-08T22:55:47.626Z
/* ORBITAL DATA ELEMENTS */
ASCENDING_NODE_LONGITUDE = 170.19
MAXIMUM_RESOLUTION = 0.076641
FOOTPRINT_POINT_LATITUDE = (79.549,79.4977,79.4628,79.4333,79.4037 ,79.374,79.3396,79.3098,79.2752,79.2179 ,79.1793,79.1349,79.1045,79.0741, 79.0436,79.0054,78.9747,78.9344,78.9035 ,78.8649,78.832,78.7903,78.7591,78.7162 ,78.6535,78.5926,78.5916,78.5925, 78.6603,78.694,78.7275,78.7693,78.8025, 78.8439,78.8768,78.9096,78.9422,78.9909 ,79.0311,79.0632,79.0951,79.1427, 79.1742,79.2212,79.2523,79.2833,79.3141 ,79.3447,79.398,79.4055,79.4101,79.4768 ,79.557,79.6127,79.6944,79.7278,79.7747 ,79.808,79.8413,79.8941,79.9324,79.9653 ,80.0075,80.0404,80.0814,80.1141, 80.1549,80.1874,80.226,80.2584,80.2968, 80.3291,80.3653,80.4134,80.4474,80.4484 ,80.4476,80.4057,80.3635,80.3125, 80.2783,80.244,80.1922,80.14,80.0875, 80.0524,80.0171,79.9816,79.946,79.9102, 79.8743,79.8293,79.7749,79.7385,79.702, 79.6562,79.6009,79.5639,79.5546,79.549)
FOOTPRINT_POINT_LONGITUDE = (270.908,270.622,270.429,270.268, 270.108,269.949,269.766,269.608,269.427 ,269.132,268.934,268.71,268.559,268.408 ,268.258,268.072,267.925,267.732, 267.586,267.404,267.251,267.058,266.916 ,266.722,266.442,266.173,266.169, 266.164,265.763,265.56,265.357,265.101, 264.894,264.635,264.426,264.216,264.004 ,263.685,263.417,263.201,262.984, 262.656,262.435,262.102,261.879,261.654 ,261.428,261.201,260.8,260.742,260.708, 260.968,261.287,261.512,261.848,261.987 ,262.185,262.326,262.469,262.698, 262.865,263.011,263.2,263.348,263.534, 263.685,263.874,264.027,264.209,264.364 ,264.549,264.706,264.884,265.124, 265.295,265.3,265.306,265.605,265.902, 266.255,266.488,266.72,267.064,267.405, 267.742,267.965,268.186,268.406,268.624 ,268.841,269.056,269.323,269.64,269.85, 270.059,270.317,270.624,270.827,270.878 ,270.908)
ORBIT_NUMBER = 2769
ORBITAL_ECCENTRICITY = 0.572
ORBITAL_INCLINATION = 86.61
ORBITAL_SEMIMAJOR_AXIS = 8568.09
PERIAPSIS_ALTITUDE = 284.66
PERIAPSIS_ARGUMENT_ANGLE = 232.03
PERIAPSIS_TIME = 2006-03-09T00:53:09.000Z
SPACECRAFT_ORIENTATION = (0.0,-1.0,0.0)
^MEX_ORIENTATION_DESC = "MEX_ORIENTATION_DESC.TXT"
SPACECRAFT_POINTING_MODE = INERT
^MEX_POINTING_DESC = "MEX_POINTING_DESC.TXT"
RIGHT_ASCENSION = 262.539
DECLINATION = 41.531
OFFSET_ANGLE = -1e+32
SPACECRAFT_SOLAR_DISTANCE = 2.40791e+08
TARGET_NAME = MARS
/* CAMERA DATA ELEMENTS */
BUFFER_MODE_ID = BUFFER_8
EXPOSURE_DURATION = 5.04
INST_CMPRS_NAME = NONE
INST_CMPRS_RATIO = 1.0
INST_CMPRS_QUALITY = -2147483648
INST_CMPRS_QUANTZ_TBL_ID = -2147483648
INSTRUMENT_TEMPERATURE = 11.2121
MISSING_FRAMES = 0
START_BIT = 0
/* RADIOMETRIC DATA ELEMENTS */
BANDWIDTH = 250.0
CENTER_FILTER_WAVELENGTH = 600.0
RADIANCE_OFFSET = -9.99e+31
RADIANCE_SCALING_FACTOR = -9.99e+31
REFLECTANCE_SCALING_FACTOR = -9.99e+31
MEX:REFLECTANCE_OFFSET = -9.99e+31
/* IMAGE OBJECT DEFINITIONS */
OBJECT = IMAGE
  INTERCHANGE_FORMAT = BINARY
  LINES = 1420
  LINE_SAMPLES = 1424
  SAMPLE_TYPE = UNSIGNED_INTEGER
  SAMPLE_BITS = 8
  BANDS = 1
  BAND_STORAGE_TYPE = BAND_SEQUENTIAL
  MAXIMUM = 251
  MEAN = 128.195
  MINIMUM = 2
  STANDARD_DEVIATION = 51.3506
END_OBJECT = IMAGE
/* MAP OBJECT DEFINITIONS */
OBJECT = IMAGE_MAP_PROJECTION
  ^DATA_SET_MAP_PROJECTION_CATALOG= "DSMAP.CAT"
  A_AXIS_RADIUS = 3396.19
  B_AXIS_RADIUS = 3396.19
  C_AXIS_RADIUS = 3396.19
  CENTER_LATITUDE = 0.0
  CENTER_LONGITUDE = 266.0
  COORDINATE_SYSTEM_NAME = PLANETOGRAPHIC
  COORDINATE_SYSTEM_TYPE = "BODY-FIXED ROTATING"
  EASTERNMOST_LONGITUDE = 270.908
  FIRST_STANDARD_PARALLEL = "N/A"
  LINE_FIRST_PIXEL = 1
  LINE_LAST_PIXEL = 1420
  LINE_PROJECTION_OFFSET = 59480.0
  MAP_PROJECTION_ROTATION = 0.0
  MAP_PROJECTION_TYPE = SINUSOIDAL
  MAP_RESOLUTION = 740.9337064023611
  MAP_SCALE = 0.08
  MAXIMUM_LATITUDE = 80.44840000000001
  MINIMUM_LATITUDE = 78.5916
  POSITIVE_LONGITUDE_DIRECTION = EAST
  REFERENCE_LATITUDE = "N/A"
  REFERENCE_LONGITUDE = "N/A"
  SAMPLE_FIRST_PIXEL = 1
  SAMPLE_LAST_PIXEL = 1424
  SAMPLE_PROJECTION_OFFSET = 731.0
  SECOND_STANDARD_PARALLEL = "N/A"
  WESTERNMOST_LONGITUDE = 260.708
END_OBJECT = IMAGE_MAP_PROJECTION
END
